automatic DPDK test reports
 help / color / mirror / Atom feed
From: dpdklab@iol.unh.edu
To: Test Report <test-report@dpdk.org>
Cc: dpdk-test-reports@iol.unh.edu
Subject: |PENDING| pw157800-157801 [PATCH] [2/2] app/pdump: improve cmdline a
Date: Fri, 17 Oct 2025 04:53:08 -0700 (PDT)	[thread overview]
Message-ID: <68f22e24.170a0220.51886.5227SMTPIN_ADDED_MISSING@mx.google.com> (raw)
In-Reply-To: <20251017110638.1094371-2-bruce.richardson@intel.com>

Test-Label: iol-unit-arm64-testing
Test-Status: PENDING
http://dpdk.org/patch/157801

_Testing pending_

Submitter: Bruce Richardson <bruce.richardson@intel.com>
Date: Friday, October 17 2025 11:06:37 
DPDK git baseline: Repo:dpdk
  Branch: master
  CommitID:438491733c2d8a109574449d3d6de9b25a05c07c

157800-157801 --> testing pending

Upstream job id: Generic-Unit-Test-DPDK#382712

Test environment and result as below:

+------------------------------+---------------------------+--------------+------------------------------+----------------+
|         Environment          | cryptodev_sw_zuc_autotest | lpm_autotest | cryptodev_sw_snow3g_autotest | dpdk_unit_test |
+==============================+===========================+==============+==============================+================+
| Debian 12 (arm)              | PEND                      | SKIPPED      | PEND                         | SKIPPED        |
+------------------------------+---------------------------+--------------+------------------------------+----------------+
| Ubuntu 20.04                 | SKIPPED                   | PASS         | SKIPPED                      | PEND           |
+------------------------------+---------------------------+--------------+------------------------------+----------------+
| CentOS Stream 9              | SKIPPED                   | SKIPPED      | SKIPPED                      | PEND           |
+------------------------------+---------------------------+--------------+------------------------------+----------------+
| Debian GNU/Linux 12          | SKIPPED                   | SKIPPED      | SKIPPED                      | PEND           |
+------------------------------+---------------------------+--------------+------------------------------+----------------+
| Fedora Linux 40              | SKIPPED                   | SKIPPED      | SKIPPED                      | PEND           |
+------------------------------+---------------------------+--------------+------------------------------+----------------+
| CentOS Stream 10             | SKIPPED                   | SKIPPED      | SKIPPED                      | PEND           |
+------------------------------+---------------------------+--------------+------------------------------+----------------+
| Fedora Linux 41              | SKIPPED                   | SKIPPED      | SKIPPED                      | PEND           |
+------------------------------+---------------------------+--------------+------------------------------+----------------+
| Fedora Linux 42              | SKIPPED                   | SKIPPED      | SKIPPED                      | PEND           |
+------------------------------+---------------------------+--------------+------------------------------+----------------+
| Red Hat Enterprise Linux 9.5 | SKIPPED                   | SKIPPED      | SKIPPED                      | PEND           |
+------------------------------+---------------------------+--------------+------------------------------+----------------+
| Ubuntu 24.04                 | SKIPPED                   | SKIPPED      | SKIPPED                      | PEND           |
+------------------------------+---------------------------+--------------+------------------------------+----------------+
| Ubuntu 22.04                 | SKIPPED                   | SKIPPED      | SKIPPED                      | PEND           |
+------------------------------+---------------------------+--------------+------------------------------+----------------+


Debian 12 (arm)
	Kernel: Depends on container host
	Compiler: gcc (Debian 12.2.0-14) 12.2.0

Ubuntu 20.04
	Kernel: 5.4
	Compiler: gcc gcc (Ubuntu 9.4.0-1ubuntu1~20.04.2) 9.4.0

CentOS Stream 9
	Kernel: 5.4
	Compiler: gcc gcc (GCC) 11.5.0 20240719 (Red Hat 11.5.0-11)

Debian GNU/Linux 12
	Kernel: 5.4
	Compiler: gcc gcc (Debian 12.2.0-14+deb12u1) 12.2.0

Fedora Linux 40
	Kernel: 5.4
	Compiler: gcc gcc (GCC) 14.2.1 20240912 (Red Hat 14.2.1-3)

CentOS Stream 10
	Kernel: 5.4
	Compiler: gcc gcc (GCC) 14.2.1 20250110 (Red Hat 14.2.1-8)

Fedora Linux 41
	Kernel: 5.4
	Compiler: clang gcc (GCC) 14.3.1 20250523 (Red Hat 14.3.1-1)

Fedora Linux 42
	Kernel: 5.4
	Compiler: gcc gcc (GCC) 15.2.1 20250808 (Red Hat 15.2.1-1)

Red Hat Enterprise Linux 9.5
	Kernel: 5.4
	Compiler: gcc gcc (GCC) 11.5.0 20240719 (Red Hat 11.5.0-2)

Ubuntu 24.04
	Kernel: 5.4
	Compiler: gcc gcc (Ubuntu 13.3.0-6ubuntu2~24.04) 13.3.0

Ubuntu 22.04
	Kernel: 5.4
	Compiler: gcc gcc (Ubuntu 11.4.0-1ubuntu1~22.04) 11.4.0

To view detailed results, visit:
https://lab.dpdk.org/results/dashboard/patchsets/34312/

UNH-IOL DPDK Community Lab

To manage your email subscriptions, visit: 
https://lab.dpdk.org/results/dashboard/preferences/subscriptions/

  parent reply	other threads:[~2025-10-17 11:53 UTC|newest]

Thread overview: 30+ messages / expand[flat|nested]  mbox.gz  Atom feed  top
     [not found] <20251017110638.1094371-2-bruce.richardson@intel.com>
2025-10-17 10:33 ` |SUCCESS| pw157800-157801 [PATCH 2/2] app/pdump: improve cmdline argument handling qemudev
2025-10-17 10:38 ` qemudev
2025-10-17 11:07 ` |SUCCESS| pw157801 " checkpatch
2025-10-17 11:32 ` |PENDING| pw157800-157801 [PATCH] [2/2] app/pdump: improve cmdline a dpdklab
2025-10-17 11:36 ` |SUCCESS| " dpdklab
2025-10-17 11:40 ` dpdklab
2025-10-17 11:40 ` dpdklab
2025-10-17 11:44 ` dpdklab
2025-10-17 11:52 ` dpdklab
2025-10-17 11:53 ` dpdklab [this message]
2025-10-17 11:54 ` |PENDING| " dpdklab
2025-10-17 12:03 ` |SUCCESS| " dpdklab
2025-10-17 12:22 ` dpdklab
2025-10-17 12:27 ` dpdklab
2025-10-17 12:39 ` dpdklab
2025-10-17 12:54 ` dpdklab
2025-10-17 13:05 ` |SUCCESS| pw157801 [PATCH 2/2] app/pdump: improve cmdline argument handling 0-day Robot
2025-10-17 13:06 ` 0-day Robot
2025-10-17 13:21 ` |SUCCESS| pw157800-157801 [PATCH] [2/2] app/pdump: improve cmdline a dpdklab
2025-10-17 13:46 ` dpdklab
2025-10-17 13:48 ` dpdklab
2025-10-17 13:49 ` dpdklab
2025-10-17 14:06 ` dpdklab
2025-10-17 15:23 ` dpdklab
2025-10-17 15:48 ` dpdklab
2025-10-17 17:26 ` |WARNING| " dpdklab
2025-10-17 17:31 ` |PENDING| " dpdklab
2025-10-17 17:53 ` |WARNING| " dpdklab
2025-10-17 22:52 ` |SUCCESS| " dpdklab
2025-10-17 22:53 ` dpdklab

Reply instructions:

You may reply publicly to this message via plain-text email
using any one of the following methods:

* Save the following mbox file, import it into your mail client,
  and reply-to-all from there: mbox

  Avoid top-posting and favor interleaved quoting:
  https://en.wikipedia.org/wiki/Posting_style#Interleaved_style

* Reply using the --to, --cc, and --in-reply-to
  switches of git-send-email(1):

  git send-email \
    --in-reply-to=68f22e24.170a0220.51886.5227SMTPIN_ADDED_MISSING@mx.google.com \
    --to=dpdklab@iol.unh.edu \
    --cc=dpdk-test-reports@iol.unh.edu \
    --cc=test-report@dpdk.org \
    /path/to/YOUR_REPLY

  https://kernel.org/pub/software/scm/git/docs/git-send-email.html

* If your mail client supports setting the In-Reply-To header
  via mailto: links, try the mailto: link
Be sure your reply has a Subject: header at the top and a blank line before the message body.
This is a public inbox, see mirroring instructions
for how to clone and mirror all data and code used for this inbox;
as well as URLs for NNTP newsgroup(s).