From mboxrd@z Thu Jan 1 00:00:00 1970 Return-Path: Received: from mails.dpdk.org (mails.dpdk.org [217.70.189.124]) by inbox.dpdk.org (Postfix) with ESMTP id 5BC6048960 for ; Fri, 17 Oct 2025 13:56:49 +0200 (CEST) Received: from mails.dpdk.org (localhost [127.0.0.1]) by mails.dpdk.org (Postfix) with ESMTP id 56E1C40269; Fri, 17 Oct 2025 13:56:49 +0200 (CEST) Received: from mail-vs1-f98.google.com (mail-vs1-f98.google.com [209.85.217.98]) by mails.dpdk.org (Postfix) with ESMTP id D5BDF40269 for ; Fri, 17 Oct 2025 13:56:47 +0200 (CEST) Received: by mail-vs1-f98.google.com with SMTP id ada2fe7eead31-528a601a3cbso2169133137.1 for ; Fri, 17 Oct 2025 04:56:47 -0700 (PDT) DKIM-Signature: v=1; a=rsa-sha256; c=relaxed/relaxed; d=iol.unh.edu; s=unh-iol; t=1760702207; x=1761307007; darn=dpdk.org; h=references:in-reply-to:cc:to:from:subject:message-id:date:from:to :cc:subject:date:message-id:reply-to; bh=39t1kA0Mmm2h0e3HrRVsDLNT3R7hgxi1vy1rC0Wd+UI=; b=dl4UIdJF4NidWldl1Zdq92iow/qQ0kkZbWdhZU/E9EjiSa6wVMsNkleN9yJ8KO7J2p DsJ9+zemgD149nX7jPKLf3YYbVgAA3gVbL1Z684ak8K2HEPU1O9FLl24uZfx4szgWFsr w8SmC0xN5pI6kK8kUXhk30NoJGEahOtO/fo5s= X-Google-DKIM-Signature: v=1; a=rsa-sha256; c=relaxed/relaxed; d=1e100.net; s=20230601; t=1760702207; x=1761307007; h=references:in-reply-to:cc:to:from:subject:message-id:date :x-gm-message-state:from:to:cc:subject:date:message-id:reply-to; bh=39t1kA0Mmm2h0e3HrRVsDLNT3R7hgxi1vy1rC0Wd+UI=; b=UnB8s54tbaHOAaVgD4Fvs59OyELhsktXSqMfuY776ufb7/H4SgY0HqImJWc/vSvmth K7HdDBkYyjK3OGZcsuUzAN0wZbcxdiJBxxK2v57VC483I/KB69iO4UPaIttmdTQ7HDDe ix/9IsWxKSh3YzRiMmFhiBnPOhCf5eK3xYnIWwEJruZIKwUTysyJ2VI9tXY66RQdSSXj 3S8Gn4fRcs1mAM+0zNifQff2c/rxVY/e70uRkdF8jtIhpXk1CgUhKZR9x2EmCsI7fiQC KgWIeT+EZCxGPblXRGeP+J1gzzz+bMzeQ76EVJ12VtRZJDxsB8FBFMkX/K77p9ty99+Z uiiw== X-Gm-Message-State: AOJu0Yxcnb0Yv+OlNUAnHgRtwNWzRqdybRgA9IwpyENJKzMnnbiNW/9q jXz42kkLfyupOVlM7K3mbZqIDuS0VR4nrQkAVLX8qrrQzBOiufU6PChlz1PvdBv5VemKorXVqwM 8aaGD564Mbf9j+ch4eHmVwWpKDmbH1erSzALwoKB65aaj+r1USv6pCJ8891et X-Gm-Gg: ASbGncviEeT+48FU5zRX25VXgjFK2A85roV0Fi9a0NdWOOxi6rnjLtu7y1GgUJUUp65 HBMpSzlsyu59Q+WEsXdK0s7BbIiB5jJPHkbo6s/1UZz57RYfAI+Zvjt+ZRDEeDmlPgpk6imslgD iNBaPoPWVaAOg1gZlt0W/MNodEPVnrDqYUGqmfdEG79UfSRHShLauaKJwSLyQjjS5kmDTbrSw9+ kaaB8YhW3cuDjKCqkGPXkrQqIwwD66ilhsCcIqxC8XlQ2wyy5JS/eb+AKK9wssdegzw7+8NbO7j z7zjdol5zolrAfXNnZaLPdHa3sfRifdgvnkGA4RRGwu2fv2QXut7gEt/MBBNndasFmgzgTX0a+G ZKguZLW2m X-Google-Smtp-Source: AGHT+IE5f2AZ0mL/DayvYSCFJ7fRVZaoskqXW14gK0PtGwvDOG5KY4QfCxiqUtkxHy1hNM/vUJu5su1tKxRm X-Received: by 2002:a05:6102:dd4:b0:5a4:60ff:80c3 with SMTP id ada2fe7eead31-5d7dd678ddamr1426818137.14.1760702207115; Fri, 17 Oct 2025 04:56:47 -0700 (PDT) Received: from postal.iol.unh.edu (postal.iol.unh.edu. [2606:4100:3880:1234::84]) by smtp-relay.gmail.com with ESMTPS id ada2fe7eead31-5d5fc8a7539sm2648291137.3.2025.10.17.04.56.47 (version=TLS1_2 cipher=ECDHE-ECDSA-AES128-GCM-SHA256 bits=128/128); Fri, 17 Oct 2025 04:56:47 -0700 (PDT) X-Relaying-Domain: iol.unh.edu Date: Fri, 17 Oct 2025 04:56:47 -0700 (PDT) Message-ID: <68f22eff.050a0220.11b5b5.20c6SMTPIN_ADDED_MISSING@mx.google.com> Received: from [172.21.0.2] (unknown [172.18.0.240]) by postal.iol.unh.edu (Postfix) with ESMTP id CAA446051830; Fri, 17 Oct 2025 07:56:46 -0400 (EDT) Subject: |SUCCESS| pw157796 [PATCH] [v2,1/1] riscv support rte_memcpy in vect From: dpdklab@iol.unh.edu To: Test Report Cc: dpdk-test-reports@iol.unh.edu In-Reply-To: <20251017093617.1219267-2-chen.qiguo@zte.com.cn> References: <20251017093617.1219267-2-chen.qiguo@zte.com.cn> Content-Type: text/plain X-BeenThere: test-report@dpdk.org X-Mailman-Version: 2.1.29 Precedence: list List-Id: automatic DPDK test reports List-Unsubscribe: , List-Archive: List-Post: List-Help: List-Subscribe: , Errors-To: test-report-bounces@dpdk.org Test-Label: iol-unit-amd64-testing Test-Status: SUCCESS http://dpdk.org/patch/157796 _Testing PASS_ Submitter: Qiguo Chen Date: Friday, October 17 2025 09:36:17 DPDK git baseline: Repo:dpdk Branch: master CommitID:438491733c2d8a109574449d3d6de9b25a05c07c 157796 --> testing pass Upstream job id: Generic-VM-Unit-Test-DPDK#31877 Test environment and result as below: +-------------------------------+----------------+ | Environment | dpdk_unit_test | +===============================+================+ | Debian GNU/Linux 12 | PASS | +-------------------------------+----------------+ | Fedora Linux 40 | PASS | +-------------------------------+----------------+ | Fedora Linux 42 | PASS | +-------------------------------+----------------+ | CentOS Stream 9 | PASS | +-------------------------------+----------------+ | Fedora Linux 41 | PASS | +-------------------------------+----------------+ | CentOS Stream 10 | PASS | +-------------------------------+----------------+ | Ubuntu 22.04 | PASS | +-------------------------------+----------------+ | Red Hat Enterprise Linux 8.10 | PASS | +-------------------------------+----------------+ | Ubuntu 24.04 | PASS | +-------------------------------+----------------+ | Red Hat Enterprise Linux 9.5 | PASS | +-------------------------------+----------------+ | Ubuntu 20.04 | PASS | +-------------------------------+----------------+ | Windows Server 2022 | PASS | +-------------------------------+----------------+ Debian GNU/Linux 12 Kernel: 5.15 Compiler: gcc gcc (Debian 12.2.0-14+deb12u1) 12.2.0 Fedora Linux 40 Kernel: 5.15 Compiler: gcc gcc (GCC) 14.2.1 20240912 (Red Hat 14.2.1-3) Fedora Linux 42 Kernel: 5.15 Compiler: clang gcc (GCC) 15.2.1 20250808 (Red Hat 15.2.1-1) CentOS Stream 9 Kernel: 5.15 Compiler: gcc gcc (GCC) 11.5.0 20240719 (Red Hat 11.5.0-11) Fedora Linux 41 Kernel: 5.15 Compiler: gcc gcc (GCC) 14.3.1 20250523 (Red Hat 14.3.1-1) CentOS Stream 10 Kernel: 5.15 Compiler: gcc gcc (GCC) 14.2.1 20250110 (Red Hat 14.2.1-8) Ubuntu 22.04 Kernel: 5.15 Compiler: gcc gcc (Ubuntu 11.4.0-1ubuntu1~22.04) 11.4.0 Red Hat Enterprise Linux 8.10 Kernel: 5.15 Compiler: gcc gcc (GCC) 8.5.0 20210514 (Red Hat 8.5.0-22) Ubuntu 24.04 Kernel: 5.15 Compiler: gcc gcc (Ubuntu 13.3.0-6ubuntu2~24.04) 13.3.0 Red Hat Enterprise Linux 9.5 Kernel: 5.15 Compiler: gcc gcc (GCC) 11.5.0 20240719 (Red Hat 11.5.0-2) Ubuntu 20.04 Kernel: 5.15 Compiler: gcc gcc (Ubuntu 9.4.0-1ubuntu1~20.04.2) 9.4.0 Windows Server 2022 Kernel: 10.0.20348.2031 Compiler: clang 15.0.7, gcc 14.1.0 (MinGW), and MSVC VS 19.39.33521 To view detailed results, visit: https://lab.dpdk.org/results/dashboard/patchsets/34310/ UNH-IOL DPDK Community Lab To manage your email subscriptions, visit: https://lab.dpdk.org/results/dashboard/preferences/subscriptions/