From mboxrd@z Thu Jan 1 00:00:00 1970 Return-Path: Received: from mails.dpdk.org (mails.dpdk.org [217.70.189.124]) by inbox.dpdk.org (Postfix) with ESMTP id 9345E48961 for ; Fri, 17 Oct 2025 14:05:59 +0200 (CEST) Received: from mails.dpdk.org (localhost [127.0.0.1]) by mails.dpdk.org (Postfix) with ESMTP id 77B5940269; Fri, 17 Oct 2025 14:05:59 +0200 (CEST) Received: from mail-qv1-f100.google.com (mail-qv1-f100.google.com [209.85.219.100]) by mails.dpdk.org (Postfix) with ESMTP id 3E46D40269 for ; Fri, 17 Oct 2025 14:05:58 +0200 (CEST) Received: by mail-qv1-f100.google.com with SMTP id 6a1803df08f44-87c217f4aaaso14424236d6.0 for ; Fri, 17 Oct 2025 05:05:58 -0700 (PDT) DKIM-Signature: v=1; a=rsa-sha256; c=relaxed/relaxed; d=iol.unh.edu; s=unh-iol; t=1760702757; x=1761307557; darn=dpdk.org; h=cc:to:from:subject:message-id:date:from:to:cc:subject:date :message-id:reply-to; bh=kKaXqVYul44XZoB0Gq4VVAH2cO1AJdZ+QSejX/6pGq8=; b=FHzXH8tTjZHW2PX+143NSUx0BkWNALIBEx+4BO1s8UJJUE/QrokFPW2muCAeuPXoh8 dw3HhxDmkZOp+tPrkq2+oHeBFCxtJCDz2aeIWN7Uyr2Xw+US3LxioiZ91Kq3Tf+fPDG2 pLVTWJhIdav6Z6h/KKATST132V9OTIzB0cCno= X-Google-DKIM-Signature: v=1; a=rsa-sha256; c=relaxed/relaxed; d=1e100.net; s=20230601; t=1760702757; x=1761307557; h=cc:to:from:subject:message-id:date:x-gm-message-state:from:to:cc :subject:date:message-id:reply-to; bh=kKaXqVYul44XZoB0Gq4VVAH2cO1AJdZ+QSejX/6pGq8=; b=uby15joLnmMQZgNkZ+IM2ifMBIxqPH6FBhSoBDYRrq2LBUkpKFn8daiMnkalTlZJWi ImWwjl8LjJwveRPmdvX1LPIi2JGhDonwaOAyqQikVumitcjsYjVHP6cNWFPI16s/bDU2 XaK/gxtppIwbcQbPT0cH48lXRGUge532Q27r6PKO/cAfcl6otm+dTmLr62+4H0UY1VvU t4k4WshA6K9uXTBvZC/HcyOxtosPfUzVWFXPc9LAhKz29QdYyWNfaLYEey5c+/x2Zyuo jvIKzwyk1+3nmimCBDwgeCmuCtwcqGb8+mAUG4TOz6U/g5OHhALl92oZxRCRgS19K3PC 9sNA== X-Gm-Message-State: AOJu0YxZSiDvh0t5f08N3O40hY+oOL4r1vV1HItp2qlNZgaD+zorxVEx UbVWVnoQ4bQ5VkPk/GdTkx7cA8gf/W/yCpJv91YUMRSqnzLi4v3s/A9CHYO5ikzZUyDJVRxunkr jb/+3QcvpcK2zcwkOLFByEH5SfS4Bu2sKpJoq X-Gm-Gg: ASbGnctd1Dvvd2uRYP+lJzMJxl5+6krHjbhXO1Vn30pMESOX8z4PqThdkHqqhAvqsKl DdWmbq8hJY2YaMNYE2Fq01vHlkEDQOYgHCDOOyCgSNnTIGU/Sl1IVbMwaMvqhW7sMn3UYhDExU9 IE6ZnYetfeppDQByk6Yx0GaJfrZg8FdoskVtgHwV9rrYV0ynwtDyxf5gwRsC5C4WtXTmqWdPIK0 n8QqII5J7vOBeKuNsjDIo3dPMPccR9o1N5NCc45xeVigeTz7kHyoKA9mADYCt6IoQuXqyUC/x0z PHkLq220u+4nzWk5oU+D1gx/+tYtgoOcgney73ek/ZgKNzvOugMfaSngMdmF/YNuu/f8bIQVIdx UkKgHZ6tmHkmHlixr3e8OvQqkMpqIyZQ= X-Google-Smtp-Source: AGHT+IEo1hik5iN5iHEN1wkOV3NMHAiLTkgucGhdpRUkIn3/YkD2xIJFX15YoBN5le3/UAtB7Fj/aVj1JP28 X-Received: by 2002:ad4:596e:0:b0:879:5f25:75a3 with SMTP id 6a1803df08f44-87c20566bd0mr63453356d6.19.1760702757321; Fri, 17 Oct 2025 05:05:57 -0700 (PDT) Received: from postal.iol.unh.edu (postal.iol.unh.edu. [132.177.123.84]) by smtp-relay.gmail.com with ESMTPS id 6a1803df08f44-87c01221159sm7948576d6.12.2025.10.17.05.05.57 (version=TLS1_2 cipher=ECDHE-ECDSA-AES128-GCM-SHA256 bits=128/128); Fri, 17 Oct 2025 05:05:57 -0700 (PDT) X-Relaying-Domain: iol.unh.edu Date: Fri, 17 Oct 2025 05:05:57 -0700 (PDT) Message-ID: <68f23125.050a0220.358a7.7057SMTPIN_ADDED_MISSING@mx.google.com> Received: from [172.21.0.3] (unknown [172.18.0.240]) by postal.iol.unh.edu (Postfix) with ESMTP id 077516051830; Fri, 17 Oct 2025 08:05:57 -0400 (EDT) Subject: |SUCCESS| [GIT MASTER] b287e404643aeab5bb5db084c142789df187844e From: dpdklab@iol.unh.edu To: Test Report Cc: dpdk-test-reports@iol.unh.edu, Xueming Li , Christian Ehrhardt , Kevin Traynor , Luca Boccassi Content-Type: text/plain X-BeenThere: test-report@dpdk.org X-Mailman-Version: 2.1.29 Precedence: list List-Id: automatic DPDK test reports List-Unsubscribe: , List-Archive: List-Post: List-Help: List-Subscribe: , Errors-To: test-report-bounces@dpdk.org _Testing PASS_ Branch: tags/v24.11 b287e404643aeab5bb5db084c142789df187844e --> testing pass Upstream job id: Generic-DPDK-Compile-Meson#435241 Test environment and result as below: +-------------------------------+--------------------+-------------------+-------------------------+----------------------+-------------------+------------------+ | Environment | dpdk_meson_compile | dpdk_msvc_compile | dpdk_llvm_clang_compile | dpdk_mingw64_compile | dpdk_compile_spdk | dpdk_compile_ovs | +===============================+====================+===================+=========================+======================+===================+==================+ | FreeBSD 14.2 | PASS | SKIPPED | SKIPPED | SKIPPED | SKIPPED | SKIPPED | +-------------------------------+--------------------+-------------------+-------------------------+----------------------+-------------------+------------------+ | Ubuntu 20.04 | PASS | SKIPPED | SKIPPED | SKIPPED | SKIPPED | SKIPPED | +-------------------------------+--------------------+-------------------+-------------------------+----------------------+-------------------+------------------+ | CentOS Stream 9 | PASS | SKIPPED | SKIPPED | SKIPPED | PASS | SKIPPED | +-------------------------------+--------------------+-------------------+-------------------------+----------------------+-------------------+------------------+ | CentOS Stream 10 | PASS | SKIPPED | SKIPPED | SKIPPED | SKIPPED | SKIPPED | +-------------------------------+--------------------+-------------------+-------------------------+----------------------+-------------------+------------------+ | Debian GNU/Linux 12 | PASS | SKIPPED | SKIPPED | SKIPPED | PASS | SKIPPED | +-------------------------------+--------------------+-------------------+-------------------------+----------------------+-------------------+------------------+ | Fedora Linux 42 | PASS | SKIPPED | SKIPPED | SKIPPED | PASS | PASS | +-------------------------------+--------------------+-------------------+-------------------------+----------------------+-------------------+------------------+ | openSUSE Leap 15.6 | PASS | SKIPPED | SKIPPED | SKIPPED | SKIPPED | SKIPPED | +-------------------------------+--------------------+-------------------+-------------------------+----------------------+-------------------+------------------+ | Red Hat Enterprise Linux 8.10 | PASS | SKIPPED | SKIPPED | SKIPPED | SKIPPED | SKIPPED | +-------------------------------+--------------------+-------------------+-------------------------+----------------------+-------------------+------------------+ | Red Hat Enterprise Linux 9.5 | PASS | SKIPPED | SKIPPED | SKIPPED | SKIPPED | SKIPPED | +-------------------------------+--------------------+-------------------+-------------------------+----------------------+-------------------+------------------+ | Ubuntu 22.04 | PASS | SKIPPED | SKIPPED | SKIPPED | PASS | SKIPPED | +-------------------------------+--------------------+-------------------+-------------------------+----------------------+-------------------+------------------+ | Ubuntu 24.04 | PASS | SKIPPED | SKIPPED | SKIPPED | PASS | PASS | +-------------------------------+--------------------+-------------------+-------------------------+----------------------+-------------------+------------------+ | Alpine Linux 3.22.0 | PASS | SKIPPED | SKIPPED | SKIPPED | SKIPPED | SKIPPED | +-------------------------------+--------------------+-------------------+-------------------------+----------------------+-------------------+------------------+ | Windows Server 2022 | SKIPPED | PASS | PASS | PASS | SKIPPED | SKIPPED | +-------------------------------+--------------------+-------------------+-------------------------+----------------------+-------------------+------------------+ FreeBSD 14.2 Kernel: 14.2-RELEASE Compiler: clang 18.1.6 Ubuntu 20.04 Kernel: 4.19 Compiler: gcc gcc (Ubuntu 9.4.0-1ubuntu1~20.04.2) 9.4.0 CentOS Stream 9 Kernel: 5.15 Compiler: gcc gcc (GCC) 11.5.0 20240719 (Red Hat 11.5.0-11) CentOS Stream 10 Kernel: 5.15 Compiler: gcc gcc (GCC) 14.2.1 20250110 (Red Hat 14.2.1-8) Debian GNU/Linux 12 Kernel: 5.15 Compiler: gcc gcc (Debian 12.2.0-14+deb12u1) 12.2.0 Fedora Linux 42 Kernel: 5.15 Compiler: gcc gcc (GCC) 15.2.1 20250808 (Red Hat 15.2.1-1) openSUSE Leap 15.6 Kernel: 5.15 Compiler: gcc gcc (SUSE Linux) 7.5.0 Red Hat Enterprise Linux 8.10 Kernel: 5.15 Compiler: gcc gcc (GCC) 8.5.0 20210514 (Red Hat 8.5.0-22) Red Hat Enterprise Linux 9.5 Kernel: 5.15 Compiler: gcc gcc (GCC) 11.5.0 20240719 (Red Hat 11.5.0-2) Ubuntu 22.04 Kernel: 5.15 Compiler: gcc gcc (Ubuntu 11.4.0-1ubuntu1~22.04) 11.4.0 Ubuntu 24.04 Kernel: 5.15 Compiler: gcc gcc (Ubuntu 13.3.0-6ubuntu2~24.04) 13.3.0 Alpine Linux 3.22.0 Kernel: 5.15 Compiler: gcc gcc (Alpine 14.2.0) 14.2.0 Windows Server 2022 Kernel: 10.0.20348.2031 Compiler: clang 15.0.7, gcc 14.1.0 (MinGW), and MSVC VS 19.39.33521 To view detailed results, visit: https://lab.dpdk.org/results/dashboard/tarballs/35245/ UNH-IOL DPDK Community Lab To manage your email subscriptions, visit: https://lab.dpdk.org/results/dashboard/preferences/subscriptions/