From mboxrd@z Thu Jan 1 00:00:00 1970 Return-Path: Received: from mails.dpdk.org (mails.dpdk.org [217.70.189.124]) by inbox.dpdk.org (Postfix) with ESMTP id 15B7B48961 for ; Fri, 17 Oct 2025 14:11:08 +0200 (CEST) Received: from mails.dpdk.org (localhost [127.0.0.1]) by mails.dpdk.org (Postfix) with ESMTP id F148340269; Fri, 17 Oct 2025 14:11:07 +0200 (CEST) Received: from mail-oa1-f100.google.com (mail-oa1-f100.google.com [209.85.160.100]) by mails.dpdk.org (Postfix) with ESMTP id 8D73F40269 for ; Fri, 17 Oct 2025 14:11:07 +0200 (CEST) Received: by mail-oa1-f100.google.com with SMTP id 586e51a60fabf-3c988d13473so724058fac.1 for ; Fri, 17 Oct 2025 05:11:07 -0700 (PDT) DKIM-Signature: v=1; a=rsa-sha256; c=relaxed/relaxed; d=iol.unh.edu; s=unh-iol; t=1760703067; x=1761307867; darn=dpdk.org; h=cc:to:from:subject:message-id:date:from:to:cc:subject:date :message-id:reply-to; bh=opVT0EDpibx4sfC5Kg+qememRv14c2f4/kfsO/cwA+I=; b=ISRTYM1AL5EqEi2p2oBBkieAqI7EDWrJ3DvmqPDVfEHtGBmBsYXiC+QDeCZBoB6glO Oy0jQJy3QsS0f34oU4Xo9IS1VbAZmcm2VLgvf3SpFoouYKu7bcAWR+Uv3s6YauB3/1me 1wSoPNv2vKAxL3AogYIXiZDYr/nroXCCwrwXo= X-Google-DKIM-Signature: v=1; a=rsa-sha256; c=relaxed/relaxed; d=1e100.net; s=20230601; t=1760703067; x=1761307867; h=cc:to:from:subject:message-id:date:x-gm-message-state:from:to:cc :subject:date:message-id:reply-to; bh=opVT0EDpibx4sfC5Kg+qememRv14c2f4/kfsO/cwA+I=; b=j6exow0B10U6Gj3Im3euPM7SK+eqy7WL2ZhpIW4fXNvqqXbZ4bfLFm1Y83bRWMxkXy a3BeFTi2Capfff45uKksZjKnY1hTjgAfjENgK2x+E+tHoAzj8dmgSXsWKEbkrpjMBKnU 61bLhbvJctW+heOLK5O0C4ZITYAjcvDCSM81WzEWNzlybwSLNcRiubyb3ZycQapgf5th +X3IzcpwA5nzTc+TcJgUkqUo7DSD6kM9VTrPfqAxh8lPUfeeh8ioO6Adqy4/xjMKnBk8 N5Tni4r+yMN3QcSowO6+L4RiHqezpKnUkJ+7BKf323xJs7tcWgmrRb7tlDimyNHDaI37 UpZw== X-Gm-Message-State: AOJu0YytD0njRmZgpjNH3HPK7xf27TRXG3/cJEYd4IHU4VorsSqkRZ6p H11758dUXS46vz7i9d8HRUqXrdI68VI1Kv01KQwazwDIc9rJpvhVeRhhTrfI605VBb1Tou2fylQ dEMnJJdsTcmpWbPVIyc55cDAtVaefmz9YpwPCzCMBBE8yN3Lp1kEzNP/cJsou X-Gm-Gg: ASbGncuLIlDP2JTTwH6KKiE0ACFB39NIcmrbkEG+q2eVgQdxvBdR0TLFpCwYuOXVFdI OglzZDSWVzcqoWuOtE3pgnEaQ5hX9oLnqYD6gNkHBpW9h02A7roTavLowpfNAflXv9stJR971tk jsik2lCpbC4KmiQR/InegOvURJpIBptEACGSYNwIb07IbcoLUzxLUup1iTTR/R/RXRLkushyTjW hWxlDzfZe8rKV6EVF7BfDAzLul0sp1jF0gsyytY/z/1k2NiU4dsD1g+KadKYc8bpXJg+FflOQmE sb90VJKIrJYEmjpewGC+EpWlDqjDM2X4613fVU9rAa9fI1OvI2LenQbMkfJAsv+EOc0iXiGIcdF gXjWYW8MP X-Google-Smtp-Source: AGHT+IEWyfXSxDhO6U0XnTOJkwMQ8x5NHS2bHgn2OVFfOFa49lGHUJc+ddQNrVpM0QW5spb+li8RhEP/dVZT X-Received: by 2002:a05:6870:a551:b0:377:bbde:5278 with SMTP id 586e51a60fabf-3c98d134535mr1473162fac.37.1760703066697; Fri, 17 Oct 2025 05:11:06 -0700 (PDT) Received: from postal.iol.unh.edu (postal.iol.unh.edu. [2606:4100:3880:1234::84]) by smtp-relay.gmail.com with ESMTPS id 586e51a60fabf-3c9a4a09bcdsm43390fac.4.2025.10.17.05.11.06 (version=TLS1_2 cipher=ECDHE-ECDSA-AES128-GCM-SHA256 bits=128/128); Fri, 17 Oct 2025 05:11:06 -0700 (PDT) X-Relaying-Domain: iol.unh.edu Date: Fri, 17 Oct 2025 05:11:06 -0700 (PDT) Message-ID: <68f2325a.050a0220.3718ad.2050SMTPIN_ADDED_MISSING@mx.google.com> Received: from [172.21.0.4] (unknown [172.18.0.240]) by postal.iol.unh.edu (Postfix) with ESMTP id 2F0C460003EA; Fri, 17 Oct 2025 08:11:06 -0400 (EDT) Subject: |SUCCESS| [GIT MASTER] 6b997d6b9ffdbb4f8ecd14d1f217da69cdc783af From: dpdklab@iol.unh.edu To: Test Report Cc: dpdk-test-reports@iol.unh.edu, Bruce Richardson Content-Type: text/plain X-BeenThere: test-report@dpdk.org X-Mailman-Version: 2.1.29 Precedence: list List-Id: automatic DPDK test reports List-Unsubscribe: , List-Archive: List-Post: List-Help: List-Subscribe: , Errors-To: test-report-bounces@dpdk.org _Testing PASS_ Branch: dpdk-next-net-intel 6b997d6b9ffdbb4f8ecd14d1f217da69cdc783af --> testing pass Upstream job id: Windows-Compile-DPDK-VS#7235 Test environment and result as below: +---------------------+--------------------+-------------------+ | Environment | dpdk_meson_compile | dpdk_msvc_compile | +=====================+====================+===================+ | FreeBSD 14.2 | PASS | SKIPPED | +---------------------+--------------------+-------------------+ | Ubuntu 20.04 | PASS | SKIPPED | +---------------------+--------------------+-------------------+ | Windows Server 2022 | SKIPPED | PASS | +---------------------+--------------------+-------------------+ FreeBSD 14.2 Kernel: 14.2-RELEASE Compiler: clang 18.1.6 Ubuntu 20.04 Kernel: 4.19 Compiler: gcc gcc (Ubuntu 9.4.0-1ubuntu1~20.04.2) 9.4.0 Windows Server 2022 Kernel: 10.0.20348.2031 Compiler: clang 15.0.7, gcc 14.1.0 (MinGW), and MSVC VS 19.39.33521 To view detailed results, visit: https://lab.dpdk.org/results/dashboard/tarballs/35251/ UNH-IOL DPDK Community Lab To manage your email subscriptions, visit: https://lab.dpdk.org/results/dashboard/preferences/subscriptions/