From mboxrd@z Thu Jan 1 00:00:00 1970 Return-Path: Received: from mails.dpdk.org (mails.dpdk.org [217.70.189.124]) by inbox.dpdk.org (Postfix) with ESMTP id 243F648961 for ; Fri, 17 Oct 2025 14:11:52 +0200 (CEST) Received: from mails.dpdk.org (localhost [127.0.0.1]) by mails.dpdk.org (Postfix) with ESMTP id 1F23C40269; Fri, 17 Oct 2025 14:11:52 +0200 (CEST) Received: from mail-pg1-f228.google.com (mail-pg1-f228.google.com [209.85.215.228]) by mails.dpdk.org (Postfix) with ESMTP id 7D86140269 for ; Fri, 17 Oct 2025 14:11:51 +0200 (CEST) Received: by mail-pg1-f228.google.com with SMTP id 41be03b00d2f7-b55517e74e3so2023627a12.2 for ; Fri, 17 Oct 2025 05:11:51 -0700 (PDT) DKIM-Signature: v=1; a=rsa-sha256; c=relaxed/relaxed; d=iol.unh.edu; s=unh-iol; t=1760703111; x=1761307911; darn=dpdk.org; h=references:in-reply-to:cc:to:from:subject:message-id:date:from:to :cc:subject:date:message-id:reply-to; bh=iwTK5PyA35nJzFCT8hVA4i40nhTYgrn73O6m0QyWyxA=; b=au4d2ONO16LKxwSsC6i4vgnRWsklkvg0wd0W7cvq5Z5RFKSOxNvoNykXwltMdSkg6Y i4F1vNlw7hazwNoDYKPGghbiqjKjYEhPd1a2lyWXa7t97bYMJfpgcWL8Vm9kAaAxPZfs 8RuXvOz59yM9UIPoq84ZxTkRx+aZfcToGMtt4= X-Google-DKIM-Signature: v=1; a=rsa-sha256; c=relaxed/relaxed; d=1e100.net; s=20230601; t=1760703111; x=1761307911; h=references:in-reply-to:cc:to:from:subject:message-id:date :x-gm-message-state:from:to:cc:subject:date:message-id:reply-to; bh=iwTK5PyA35nJzFCT8hVA4i40nhTYgrn73O6m0QyWyxA=; b=KM4IoUWgYCAADZoVy54dXmQ/sDdTz3Rc5/sCOiM6bdLichewHhUxxXOIlO1nd9Xpaj 8q2CjYsDD3Ak+rOmfPAPmtdE+rzOvzbUqpeTCNRfeYmV2f3d4evCI/htFtGN9738QAde 9ZV1Av5lXtr/0Q0opQA+W0UZKrM9kc47WRYHGpF7u8GtL4/e7OWyfsv5N6PjUxxT9zdq wbaEWZmiTPrJEpBTP/cKZYuMeuLmg3rlZoU75NJq/jrtLDACz7Yvij/+r0rt1q9lWDAf q3+9f3kyfOaX7pE+ALRyptIRWV/kfrxJSo+n2ejyab4mp8/y/vcCl+N8hdS9pvQEGAFa Q6Yw== X-Gm-Message-State: AOJu0YwF3vPY4zi2TB9rHXB1za2CyN+TOVwgDBk/eIO9pcG8Za877vDO DMcm+j5U7YzrJvfOMR7QHsHVmfGdO6Mfd6MsJ8Ox4bMcch8Yviz+m6Aprtk8vt+p8QkOGLhPbtr 53b2Z4PP+L0sLhxwpHu4Up9Lb4FKFLPSc84sKrFFRLJkh X-Gm-Gg: ASbGnctNn40iprUsXTFYu0BLmreNRVRQYpu5zoE8DzZbSQNkvEpijFGKgpIVPf0pm0l pP0Tia+XF6CMtnffqNe0Ei1skimB+dE3fhuJr9zEPN6d+uxbRgVMn6/sJACnKGiVnFp4Qve3gOK 5FLuDWqlSi26VSd0qGngYbLVlIOgm2enU/PTxatakIwxlKrlf31DU/rkekIh3uzWBVZ1SkIsrJk Sf9bpC/y4Z23WyDnRqgmWR0Bj+cxK3tXDIkRnID/LP/AK7bAuIiyrNqPhPgYNlwW2rQGfcRM4zr X50BgYVKjROfQhIzs0BTA81cmqrtmU1XpOMH8BLwSHgvpBpMD0iiutcSrdx8v1R1ZvYmBbAp74O 3qrWDjsBgyeP1lHFGvO/H8rgbZngiU00= X-Google-Smtp-Source: AGHT+IEwWDg3HYyo59ycD/uaG5AVt5OE4UdxhQd9HgeOw61uhTxIU9q4VRGt7KhssXP/FIiLv0ocXEZu4vFx X-Received: by 2002:a17:903:41c6:b0:25d:37fc:32df with SMTP id d9443c01a7336-290cb65c914mr50079195ad.47.1760703110558; Fri, 17 Oct 2025 05:11:50 -0700 (PDT) Received: from postal.iol.unh.edu (postal.iol.unh.edu. [132.177.123.84]) by smtp-relay.gmail.com with ESMTPS id d9443c01a7336-29099675019sm6864285ad.42.2025.10.17.05.11.50 (version=TLS1_2 cipher=ECDHE-ECDSA-AES128-GCM-SHA256 bits=128/128); Fri, 17 Oct 2025 05:11:50 -0700 (PDT) X-Relaying-Domain: iol.unh.edu Date: Fri, 17 Oct 2025 05:11:50 -0700 (PDT) Message-ID: <68f23286.170a0220.38188.2261SMTPIN_ADDED_MISSING@mx.google.com> Received: from [172.21.0.2] (unknown [172.18.0.240]) by postal.iol.unh.edu (Postfix) with ESMTP id D4DA96051830; Fri, 17 Oct 2025 08:11:49 -0400 (EDT) Subject: |SUCCESS| pw157796 [PATCH] [v2,1/1] riscv support rte_memcpy in vect From: dpdklab@iol.unh.edu To: Test Report Cc: dpdk-test-reports@iol.unh.edu In-Reply-To: <20251017093617.1219267-2-chen.qiguo@zte.com.cn> References: <20251017093617.1219267-2-chen.qiguo@zte.com.cn> Content-Type: text/plain X-BeenThere: test-report@dpdk.org X-Mailman-Version: 2.1.29 Precedence: list List-Id: automatic DPDK test reports List-Unsubscribe: , List-Archive: List-Post: List-Help: List-Subscribe: , Errors-To: test-report-bounces@dpdk.org Test-Label: iol-compile-amd64-testing Test-Status: SUCCESS http://dpdk.org/patch/157796 _Testing PASS_ Submitter: Qiguo Chen Date: Friday, October 17 2025 09:36:17 DPDK git baseline: Repo:dpdk Branch: master CommitID:438491733c2d8a109574449d3d6de9b25a05c07c 157796 --> testing pass Upstream job id: Windows-Compile-DPDK-Native#31706 Test environment and result as below: +---------------------+--------------------+-------------------+-------------------------+----------------------+ | Environment | dpdk_meson_compile | dpdk_msvc_compile | dpdk_llvm_clang_compile | dpdk_mingw64_compile | +=====================+====================+===================+=========================+======================+ | Ubuntu 20.04 | PASS | SKIPPED | SKIPPED | SKIPPED | +---------------------+--------------------+-------------------+-------------------------+----------------------+ | FreeBSD 14.2 | PASS | SKIPPED | SKIPPED | SKIPPED | +---------------------+--------------------+-------------------+-------------------------+----------------------+ | Windows Server 2022 | SKIPPED | PASS | PASS | PASS | +---------------------+--------------------+-------------------+-------------------------+----------------------+ Ubuntu 20.04 Kernel: 4.19 Compiler: gcc gcc (Ubuntu 9.4.0-1ubuntu1~20.04.2) 9.4.0 FreeBSD 14.2 Kernel: 14.2-RELEASE Compiler: clang 18.1.6 Windows Server 2022 Kernel: 10.0.20348.2031 Compiler: clang 15.0.7, gcc 14.1.0 (MinGW), and MSVC VS 19.39.33521 To view detailed results, visit: https://lab.dpdk.org/results/dashboard/patchsets/34310/ UNH-IOL DPDK Community Lab To manage your email subscriptions, visit: https://lab.dpdk.org/results/dashboard/preferences/subscriptions/