From mboxrd@z Thu Jan 1 00:00:00 1970 Return-Path: Received: from mails.dpdk.org (mails.dpdk.org [217.70.189.124]) by inbox.dpdk.org (Postfix) with ESMTP id 3A39448961 for ; Fri, 17 Oct 2025 14:12:25 +0200 (CEST) Received: from mails.dpdk.org (localhost [127.0.0.1]) by mails.dpdk.org (Postfix) with ESMTP id 3388440269; Fri, 17 Oct 2025 14:12:25 +0200 (CEST) Received: from mail-qv1-f98.google.com (mail-qv1-f98.google.com [209.85.219.98]) by mails.dpdk.org (Postfix) with ESMTP id B719840269 for ; Fri, 17 Oct 2025 14:12:24 +0200 (CEST) Received: by mail-qv1-f98.google.com with SMTP id 6a1803df08f44-79a7d439efbso24824746d6.0 for ; Fri, 17 Oct 2025 05:12:24 -0700 (PDT) DKIM-Signature: v=1; a=rsa-sha256; c=relaxed/relaxed; d=iol.unh.edu; s=unh-iol; t=1760703144; x=1761307944; darn=dpdk.org; h=references:in-reply-to:cc:to:from:subject:message-id:date:from:to :cc:subject:date:message-id:reply-to; bh=vWRvux/VqQ17vTb8j6xOP+C8iIdT4xmNQd+KzdY+v4c=; b=jDScL3cm86lmgydgyLM3Wx4c/sXhH58+eiwHXJWpGI3mViT4+uB/rE1MuQWI0BMbqK I2AG6tb8T0NjfMj0kV1ASmV9wyp9tuQJEoTWrlP3OW+ApICcG7ObsAX9kXj5phWEVLzU Wnt70maKDExGQcIecTVsaym9DdXyxzrLLJPoY= X-Google-DKIM-Signature: v=1; a=rsa-sha256; c=relaxed/relaxed; d=1e100.net; s=20230601; t=1760703144; x=1761307944; h=references:in-reply-to:cc:to:from:subject:message-id:date :x-gm-message-state:from:to:cc:subject:date:message-id:reply-to; bh=vWRvux/VqQ17vTb8j6xOP+C8iIdT4xmNQd+KzdY+v4c=; b=QKgwjCbGmgTqqRCpYHgIFxRgWmsbSbtVyJJbMvdzmtvg1/OqHu7yxtlInSH4Ei+LM0 LdizMQginUKxu1u9Uz8n5a29YOoOwiujSMsrpwjf26pLPqZ3mYyCKlwDaAjmiaNROqgq ggRRBLdWhKJQaApwDshVYsbpuvoM56Oxjn/WYmDIs07CRMt3Umd1dsmOoI0QBVCNkyDe WB9d7oFVpcFGrVSs16C50jEMVugJ/XHoNtgxu9rOqnXnD+2XwT/KmyyVGL8JrQeaElIz /hszMTzMyeTA/dbwmA2VWhljZlis/vxQkffIVRZPautKnsumMFt01UAYt0FfQBHA/NJE vEvw== X-Gm-Message-State: AOJu0YyRHHxc+VakSdmAVzOe/t9sftIyRQ1hyzHp14cSqI5frzznekZJ Ieft7f4r97HoppUPO6ik2F399lNkEAG01gJhAcWr9sd0Yk/Yn9FiZTFh9vC0Nl6F3G7X69GZrSf GtyJulmxti/pHK/PFaHjwr5FclOkjDi1aUiJYeuzQVGCRKXzpyBIisLPtCMEE X-Gm-Gg: ASbGnct4M5zh0LQnPXRR/tERCx+eC6S9uIgDBunydvVciqRBUqGNBTpPjcRrS0nxofA FDKTbfVtPp8UdIqdSkZ2yfaFR73y9vRLs4H9pefj/4xMu+SFgUIKDZ8HM6Mxco3rc0prxl63yut qFxnof2Buba/K59HtolCvjZawG+hzCWf0WR1nP3hMlA3G3tJ8UQOZqXpm8tBs+X1LzyhhdfMvJo EoVh3cJyT5FbK2zQqb/r0aYZKoNM3LkzekHISKFfWLmNAjk0SyupQ/rSPJ5+iFYIWC5Vt9jcl5M ay6CE/ds3LExITI5ntTrM93mm1VFbIFkn9a5SaCe0JV0KEfS7isjmC9E708UjLY8+RsA/r7iRlY u345vSZ1s X-Google-Smtp-Source: AGHT+IFivn6YdC0ISF0/okZ89IfXOzICJtiR9SnI5sITR16Mvq9stjz5Vu7FXmEYqJvpwpNsX6M8KoMqVq9K X-Received: by 2002:a05:6214:b6d:b0:87a:aa4:4b6a with SMTP id 6a1803df08f44-87c205781a8mr46314706d6.18.1760703143981; Fri, 17 Oct 2025 05:12:23 -0700 (PDT) Received: from postal.iol.unh.edu (postal.iol.unh.edu. [2606:4100:3880:1234::84]) by smtp-relay.gmail.com with ESMTPS id 6a1803df08f44-87c0129f9ddsm7828906d6.29.2025.10.17.05.12.23 (version=TLS1_2 cipher=ECDHE-ECDSA-AES128-GCM-SHA256 bits=128/128); Fri, 17 Oct 2025 05:12:23 -0700 (PDT) X-Relaying-Domain: iol.unh.edu Date: Fri, 17 Oct 2025 05:12:23 -0700 (PDT) Message-ID: <68f232a7.050a0220.294795.63f0SMTPIN_ADDED_MISSING@mx.google.com> Received: from [172.21.0.3] (unknown [172.18.0.240]) by postal.iol.unh.edu (Postfix) with ESMTP id A39786051830; Fri, 17 Oct 2025 08:12:23 -0400 (EDT) Subject: |WARNING| pw157778-157782 [PATCH] [v5,6/6] net/dpaa: fix resource le From: dpdklab@iol.unh.edu To: Test Report Cc: dpdk-test-reports@iol.unh.edu, Stephen Hemminger In-Reply-To: <20251017044848.3269627-7-g.singh@nxp.com> References: <20251017044848.3269627-7-g.singh@nxp.com> Content-Type: text/plain X-BeenThere: test-report@dpdk.org X-Mailman-Version: 2.1.29 Precedence: list List-Id: automatic DPDK test reports List-Unsubscribe: , List-Archive: List-Post: List-Help: List-Subscribe: , Errors-To: test-report-bounces@dpdk.org Test-Label: iol-compile-amd64-testing Test-Status: WARNING http://dpdk.org/patch/157782 _Testing issues_ Submitter: Gagandeep Singh Date: Friday, October 17 2025 04:48:48 DPDK git baseline: Repo:dpdk-next-net Branch: master CommitID:535c49b6264f1df239703b8250b070e4c4cda2e9 157778-157782 --> testing issues Upstream job id: Generic-DPDK-Compile-Meson#435256 Test environment and result as below: +---------------------+--------------------+-------------------------+-------------------+----------------------+-------------------+------------------+ | Environment | dpdk_meson_compile | dpdk_llvm_clang_compile | dpdk_msvc_compile | dpdk_mingw64_compile | dpdk_compile_spdk | dpdk_compile_ovs | +=====================+====================+=========================+===================+======================+===================+==================+ | Ubuntu 20.04 | PASS | SKIPPED | SKIPPED | SKIPPED | SKIPPED | SKIPPED | +---------------------+--------------------+-------------------------+-------------------+----------------------+-------------------+------------------+ | FreeBSD 14.2 | PASS | SKIPPED | SKIPPED | SKIPPED | SKIPPED | SKIPPED | +---------------------+--------------------+-------------------------+-------------------+----------------------+-------------------+------------------+ | CentOS Stream 9 | PASS | SKIPPED | SKIPPED | SKIPPED | WARN | SKIPPED | +---------------------+--------------------+-------------------------+-------------------+----------------------+-------------------+------------------+ | CentOS Stream 10 | PASS | SKIPPED | SKIPPED | SKIPPED | SKIPPED | SKIPPED | +---------------------+--------------------+-------------------------+-------------------+----------------------+-------------------+------------------+ | Debian GNU/Linux 12 | PEND | SKIPPED | SKIPPED | SKIPPED | PEND | SKIPPED | +---------------------+--------------------+-------------------------+-------------------+----------------------+-------------------+------------------+ | Fedora Linux 42 | PEND | SKIPPED | SKIPPED | SKIPPED | PEND | PEND | +---------------------+--------------------+-------------------------+-------------------+----------------------+-------------------+------------------+ | openSUSE Leap 15.6 | PEND | SKIPPED | SKIPPED | SKIPPED | SKIPPED | SKIPPED | +---------------------+--------------------+-------------------------+-------------------+----------------------+-------------------+------------------+ | Windows Server 2022 | SKIPPED | PASS | PASS | PASS | SKIPPED | SKIPPED | +---------------------+--------------------+-------------------------+-------------------+----------------------+-------------------+------------------+ ==== 20 line log output for CentOS Stream 9 (dpdk_compile_spdk): ==== --- Failed to get log output --- ==== End log output ==== Ubuntu 20.04 Kernel: 4.19 Compiler: gcc gcc (Ubuntu 9.4.0-1ubuntu1~20.04.2) 9.4.0 FreeBSD 14.2 Kernel: 14.2-RELEASE Compiler: clang 18.1.6 CentOS Stream 9 Kernel: 5.15 Compiler: gcc gcc (GCC) 11.5.0 20240719 (Red Hat 11.5.0-11) CentOS Stream 10 Kernel: 5.15 Compiler: gcc gcc (GCC) 14.2.1 20250110 (Red Hat 14.2.1-8) Debian GNU/Linux 12 Kernel: 5.15 Compiler: gcc gcc (Debian 12.2.0-14+deb12u1) 12.2.0 Fedora Linux 42 Kernel: 5.15 Compiler: clang gcc (GCC) 15.2.1 20250808 (Red Hat 15.2.1-1) openSUSE Leap 15.6 Kernel: 5.15 Compiler: gcc gcc (SUSE Linux) 7.5.0 Windows Server 2022 Kernel: 10.0.20348.2031 Compiler: clang 15.0.7, gcc 14.1.0 (MinGW), and MSVC VS 19.39.33521 To view detailed results, visit: https://lab.dpdk.org/results/dashboard/patchsets/34306/ UNH-IOL DPDK Community Lab To manage your email subscriptions, visit: https://lab.dpdk.org/results/dashboard/preferences/subscriptions/