From mboxrd@z Thu Jan 1 00:00:00 1970 Return-Path: Received: from mails.dpdk.org (mails.dpdk.org [217.70.189.124]) by inbox.dpdk.org (Postfix) with ESMTP id 3C23648961 for ; Fri, 17 Oct 2025 14:22:26 +0200 (CEST) Received: from mails.dpdk.org (localhost [127.0.0.1]) by mails.dpdk.org (Postfix) with ESMTP id 370DD402E6; Fri, 17 Oct 2025 14:22:26 +0200 (CEST) Received: from mail-io1-f98.google.com (mail-io1-f98.google.com [209.85.166.98]) by mails.dpdk.org (Postfix) with ESMTP id 9C92540DD8 for ; Fri, 17 Oct 2025 14:22:25 +0200 (CEST) Received: by mail-io1-f98.google.com with SMTP id ca18e2360f4ac-93e7ece3025so18139839f.1 for ; Fri, 17 Oct 2025 05:22:25 -0700 (PDT) DKIM-Signature: v=1; a=rsa-sha256; c=relaxed/relaxed; d=iol.unh.edu; s=unh-iol; t=1760703745; x=1761308545; darn=dpdk.org; h=references:in-reply-to:cc:to:from:subject:message-id:date:from:to :cc:subject:date:message-id:reply-to; bh=+CkdreHsP3fnRBnAldQ1l9X8IE7m+FwGqm7WvmdmK+g=; b=JJxyps095vydNfVsUe/5AwSE5xuNP17Xi29q3EAgWAenXyMPO1GwVHiN7xvB/5GQqI ROiNfrnY8bQ0oIAxXHVY6X4S6sLjIHTgrzvAEF810c4XAx+JWY8tfFGxFmBo4j4pKith Fdhcyc9zvnm6p87YXmBhIqixpSD+aHZ0mqa/Y= X-Google-DKIM-Signature: v=1; a=rsa-sha256; c=relaxed/relaxed; d=1e100.net; s=20230601; t=1760703745; x=1761308545; h=references:in-reply-to:cc:to:from:subject:message-id:date :x-gm-message-state:from:to:cc:subject:date:message-id:reply-to; bh=+CkdreHsP3fnRBnAldQ1l9X8IE7m+FwGqm7WvmdmK+g=; b=JA8UZGKewuHKiAOy7Xyoc+bfwL82wU1dUBA5rcH1RaM8fVnlAA7jjq8WGzsTWoMJOR fz3N2d1hsvQVlYniirsmBNJSBG4kZdBgzXue2nq8Jvni7fMDJoOjCICj48qMdl6oru68 XwoXmlA57uXFCn2Ai56DayUvPz3XX6cZIYDIxWRVdSTHmdcHr+AP6lJPr1BOevdnUtIs g8Uv86A1T1TyJHTmLCUID9ZbC3hUyRgYSINMn5DVL7QhqPPP7YBZzXVXkV8pp8VB+iHa V0/1KG04V74i907jDXsPX7UvnGHh01I4HVYnyj4nWRaK5Eig4BEo3wJzhfQgjftWPAQB jr8w== X-Gm-Message-State: AOJu0Yy/QoUxRgDGF4QhnflFKJ+/vB8lKwtYZv0kq+FaLar0wW5feq41 oLpWkY/5YSWJkbG7mH1o+Yb81fEm4A67jR8OeqjnijdMNydJG867jxW9QnYm0CTRuRAzPX8cVM0 +w8ZTL3xPQMGW3c3EXIDpQkRHEVtB9IrTmYlGa9+uDdNRKNA25heRsfWdTGb8 X-Gm-Gg: ASbGnctHZfDnGSKQDIQA7zrDRsWGrPEyuW2OxW4AC5o3Z3kVJ54GZ4YYwRbBHBLnMh1 Mu9EH1qS0DkDxahOhLZrbFEuYRGJnsjtQ6f5YgMmzs1BCZdkK9T1qGkFbCWi1DKXqAYnijkDtOu DQ0FH1avV5dDC57FwqizBh6oyxTY2lSIIDmdBPN6o6t/Foa6jaWs/smwc2ADqjdLozMzKcEgMiM g1fZSYcCvNOO1hu6dpoiSuLBf1eT75IZzvi56mFGKYD/rHrtlx3vNc8fnWCqUfv5Y3c9xrCSdaF 9T93TdvHhas2rsj1BjSpuF2ba3IqWl5uSDQxMer1S/6OyaQecRFqbI8nP1HSAdbUp4Rq9Ii3r8S Bbj14btv3 X-Google-Smtp-Source: AGHT+IHlCGeRLToJL9bvTgCHaZNX4c1SXMJpCbCuz2Fcb2+ijyrY2vy/lKrYNl84Bgv5xFdLzVtz0mEVv5rK X-Received: by 2002:a05:6602:3c8:b0:8c3:e106:74c2 with SMTP id ca18e2360f4ac-93e6aa8a625mr1081418039f.5.1760703744790; Fri, 17 Oct 2025 05:22:24 -0700 (PDT) Received: from postal.iol.unh.edu (postal.iol.unh.edu. [2606:4100:3880:1234::84]) by smtp-relay.gmail.com with ESMTPS id ca18e2360f4ac-93e25789489sm139977939f.0.2025.10.17.05.22.24 (version=TLS1_2 cipher=ECDHE-ECDSA-AES128-GCM-SHA256 bits=128/128); Fri, 17 Oct 2025 05:22:24 -0700 (PDT) X-Relaying-Domain: iol.unh.edu Date: Fri, 17 Oct 2025 05:22:24 -0700 (PDT) Message-ID: <68f23500.6b0a0220.c705d.8604SMTPIN_ADDED_MISSING@mx.google.com> Received: from [172.21.0.2] (unknown [172.18.0.240]) by postal.iol.unh.edu (Postfix) with ESMTP id 5BFA26051830; Fri, 17 Oct 2025 08:22:24 -0400 (EDT) Subject: |SUCCESS| pw157800-157801 [PATCH] [2/2] app/pdump: improve cmdline a From: dpdklab@iol.unh.edu To: Test Report Cc: dpdk-test-reports@iol.unh.edu In-Reply-To: <20251017110638.1094371-2-bruce.richardson@intel.com> References: <20251017110638.1094371-2-bruce.richardson@intel.com> Content-Type: text/plain X-BeenThere: test-report@dpdk.org X-Mailman-Version: 2.1.29 Precedence: list List-Id: automatic DPDK test reports List-Unsubscribe: , List-Archive: List-Post: List-Help: List-Subscribe: , Errors-To: test-report-bounces@dpdk.org Test-Label: iol-unit-amd64-testing Test-Status: SUCCESS http://dpdk.org/patch/157801 _Testing PASS_ Submitter: Bruce Richardson Date: Friday, October 17 2025 11:06:37 DPDK git baseline: Repo:dpdk Branch: master CommitID:438491733c2d8a109574449d3d6de9b25a05c07c 157800-157801 --> testing pass Upstream job id: Generic-Unit-Test-DPDK#382731 Test environment and result as below: +-------------------------------+----------------+ | Environment | dpdk_unit_test | +===============================+================+ | Debian GNU/Linux 12 | PASS | +-------------------------------+----------------+ | CentOS Stream 9 | PASS | +-------------------------------+----------------+ | Fedora Linux 41 | PASS | +-------------------------------+----------------+ | Fedora Linux 40 | PASS | +-------------------------------+----------------+ | CentOS Stream 10 | PASS | +-------------------------------+----------------+ | Fedora Linux 42 | PASS | +-------------------------------+----------------+ | Ubuntu 20.04 | PASS | +-------------------------------+----------------+ | Red Hat Enterprise Linux 9.5 | PASS | +-------------------------------+----------------+ | Red Hat Enterprise Linux 8.10 | PASS | +-------------------------------+----------------+ | Ubuntu 22.04 | PASS | +-------------------------------+----------------+ | Ubuntu 24.04 | PASS | +-------------------------------+----------------+ Debian GNU/Linux 12 Kernel: 5.15 Compiler: gcc gcc (Debian 12.2.0-14+deb12u1) 12.2.0 CentOS Stream 9 Kernel: 5.15 Compiler: gcc gcc (GCC) 11.5.0 20240719 (Red Hat 11.5.0-11) Fedora Linux 41 Kernel: 5.15 Compiler: clang gcc (GCC) 14.3.1 20250523 (Red Hat 14.3.1-1) Fedora Linux 40 Kernel: 5.15 Compiler: gcc gcc (GCC) 14.2.1 20240912 (Red Hat 14.2.1-3) CentOS Stream 10 Kernel: 5.15 Compiler: gcc gcc (GCC) 14.2.1 20250110 (Red Hat 14.2.1-8) Fedora Linux 42 Kernel: 5.15 Compiler: gcc gcc (GCC) 15.2.1 20250808 (Red Hat 15.2.1-1) Ubuntu 20.04 Kernel: 5.15 Compiler: gcc gcc (Ubuntu 9.4.0-1ubuntu1~20.04.2) 9.4.0 Red Hat Enterprise Linux 9.5 Kernel: 5.15 Compiler: gcc gcc (GCC) 11.5.0 20240719 (Red Hat 11.5.0-2) Red Hat Enterprise Linux 8.10 Kernel: 5.15 Compiler: gcc gcc (GCC) 8.5.0 20210514 (Red Hat 8.5.0-22) Ubuntu 22.04 Kernel: 5.15 Compiler: gcc gcc (Ubuntu 11.4.0-1ubuntu1~22.04) 11.4.0 Ubuntu 24.04 Kernel: 5.15 Compiler: gcc gcc (Ubuntu 13.3.0-6ubuntu2~24.04) 13.3.0 To view detailed results, visit: https://lab.dpdk.org/results/dashboard/patchsets/34312/ UNH-IOL DPDK Community Lab To manage your email subscriptions, visit: https://lab.dpdk.org/results/dashboard/preferences/subscriptions/