From mboxrd@z Thu Jan 1 00:00:00 1970 Return-Path: Received: from mails.dpdk.org (mails.dpdk.org [217.70.189.124]) by inbox.dpdk.org (Postfix) with ESMTP id 77FB648961 for ; Fri, 17 Oct 2025 14:28:22 +0200 (CEST) Received: from mails.dpdk.org (localhost [127.0.0.1]) by mails.dpdk.org (Postfix) with ESMTP id 71B2440269; Fri, 17 Oct 2025 14:28:22 +0200 (CEST) Received: from mail-pf1-f225.google.com (mail-pf1-f225.google.com [209.85.210.225]) by mails.dpdk.org (Postfix) with ESMTP id EC69B40269 for ; Fri, 17 Oct 2025 14:28:20 +0200 (CEST) Received: by mail-pf1-f225.google.com with SMTP id d2e1a72fcca58-78125ed4052so2467482b3a.0 for ; Fri, 17 Oct 2025 05:28:20 -0700 (PDT) DKIM-Signature: v=1; a=rsa-sha256; c=relaxed/relaxed; d=iol.unh.edu; s=unh-iol; t=1760704100; x=1761308900; darn=dpdk.org; h=references:in-reply-to:cc:to:from:subject:message-id:date:from:to :cc:subject:date:message-id:reply-to; bh=hGVl9x9ekitDYB/sjhTUzreWiMF6jH4Xt8O2yZim1Hg=; b=LpQ0v8M5Z809gJXeZtk2LN+D1Itoqkr5GTvZj5Ta8z9hqQfz1VMnUOvVxIiYsMD5Ys K68DTStiJqQ1hWM1AyM0GqtPRRq0qt4AUVCd0txREB5fFWwfrC7+/R4KgRHgte1cLOit PVGBe6ni1cwC1lI/lpepb5HyJTGPenpGYIOHg= X-Google-DKIM-Signature: v=1; a=rsa-sha256; c=relaxed/relaxed; d=1e100.net; s=20230601; t=1760704100; x=1761308900; h=references:in-reply-to:cc:to:from:subject:message-id:date :x-gm-message-state:from:to:cc:subject:date:message-id:reply-to; bh=hGVl9x9ekitDYB/sjhTUzreWiMF6jH4Xt8O2yZim1Hg=; b=u3xxk2VBfRVkMsBSfycdsPkiiPEBxtZ3uJcn3D1qAj2wrKzcoXiDTKW3FE9SrypywT VRPDnZez5ovfcCVnJm+rL3bC7MUjSHHkDzQRFVRnR6kar/d+XwSCpUneczHCNKG0v7Z0 ifXadQNFV2gPBQ8f+pqiFQblZZ9jE/noKbCiKIYqWV8XD75XWKVLIuAi/pFc4Oi/H8Lq KM7hCmWOFnzy9IvU5lnQ5gj7qv/FtZqkubiqCWPKUziLTC302syi5DiNM67vtFKLA5y2 tqg23pP02OJpZK0hX89FY2c5C5/4RqJVMgGsH9+3RDVHXnaDTD7GuHxlMc4MYsA4PkXU PpDA== X-Gm-Message-State: AOJu0YzH6RJRQRxqKQJap7v9DoHRRaSn0/FOqtCqnwq8uMpUWPcS0UF2 P4BI0NFkJuwbNBwdA5o5c8dOwWoXLVuWzclASXpqT+apvmWaWYR3BFIJmKVDrJ8nr9iPWxBNhGt 71YlGWtife6FKj6bqrppnL9ctKA52ZMIJL3VIn7EelZ+IJlcU1X1xIvnHE9HE X-Gm-Gg: ASbGncuQOCJ2alx6LHtZ/Da2yxxJ1TRuDXKQfanAfkJ9ovpb0TBSHdD4YipG2kl4kgi hdF1/oen0iMbxJpHby44zJ82aa8d/Z02hr50/zm5mzntOQZE0wmQd4U0Dp2sYghW8BxD7jGPJar Nmrj+MGiWo6ShiQEfZ9BfdHKhNek1L+s73iH64hyFt65rQ0+6fq13tFK6vj3jJusLR/Ab/jVAl5 LgGBzDMzdi9SHeQeTfX/Qd0FVvhrRs3kSyDg7mdDsB9YIapCZyPpSWToRmZDyV18OpiWDbANNad l5JCyFMwSif9UyC5MWwfEyh6scMtINqbA2cUeqE/wEAhM9LbzT4YJt8X3pZr68fiycRw3GltgmQ tlvfO+rvD X-Google-Smtp-Source: AGHT+IHpr0rEZ+V1Cg6LQLz36Nd7nDZ6kkXReTno7X7MG+Jv5zL2YQDsRpWBWiJ1OP+HNzFxqJvWCVPL1ShE X-Received: by 2002:a05:6a00:92a9:b0:781:1771:c12c with SMTP id d2e1a72fcca58-7a220437733mr4378559b3a.0.1760704100096; Fri, 17 Oct 2025 05:28:20 -0700 (PDT) Received: from postal.iol.unh.edu (postal.iol.unh.edu. [2606:4100:3880:1234::84]) by smtp-relay.gmail.com with ESMTPS id d2e1a72fcca58-7992d0ccea0sm1957739b3a.0.2025.10.17.05.28.19 (version=TLS1_2 cipher=ECDHE-ECDSA-AES128-GCM-SHA256 bits=128/128); Fri, 17 Oct 2025 05:28:20 -0700 (PDT) X-Relaying-Domain: iol.unh.edu Date: Fri, 17 Oct 2025 05:28:20 -0700 (PDT) Message-ID: <68f23664.050a0220.710b0.0be1SMTPIN_ADDED_MISSING@mx.google.com> Received: from [172.21.0.2] (unknown [172.18.0.240]) by postal.iol.unh.edu (Postfix) with ESMTP id 70DFD6051830; Fri, 17 Oct 2025 08:28:19 -0400 (EDT) Subject: |SUCCESS| pw157768-157770 [PATCH] [v2,3/3] net/dpaa2: make total_rx_ From: dpdklab@iol.unh.edu To: Test Report Cc: dpdk-test-reports@iol.unh.edu, Stephen Hemminger In-Reply-To: <20251016220959.15671-4-stephen@networkplumber.org> References: <20251016220959.15671-4-stephen@networkplumber.org> Content-Type: text/plain X-BeenThere: test-report@dpdk.org X-Mailman-Version: 2.1.29 Precedence: list List-Id: automatic DPDK test reports List-Unsubscribe: , List-Archive: List-Post: List-Help: List-Subscribe: , Errors-To: test-report-bounces@dpdk.org Test-Label: iol-compile-arm64-testing Test-Status: SUCCESS http://dpdk.org/patch/157770 _Testing PASS_ Submitter: Stephen Hemminger Date: Thursday, October 16 2025 22:09:03 DPDK git baseline: Repo:dpdk-next-net Branch: master CommitID:6c12368ef1d9b69af2dcf07ac8b502c23860ce90 157768-157770 --> testing pass Upstream job id: Generic-DPDK-Compile-Meson#435163 Test environment and result as below: +------------------------------+--------------------+ | Environment | dpdk_meson_compile | +==============================+====================+ | Red Hat Enterprise Linux 9.5 | PASS | +------------------------------+--------------------+ | Ubuntu 20.04 | PASS | +------------------------------+--------------------+ | Debian GNU/Linux 12 | PASS | +------------------------------+--------------------+ | Fedora Linux 42 | PASS | +------------------------------+--------------------+ | Ubuntu 22.04 | PASS | +------------------------------+--------------------+ | Ubuntu 24.04 | PASS | +------------------------------+--------------------+ | CentOS Stream 9 | PASS | +------------------------------+--------------------+ | CentOS Stream 10 | PASS | +------------------------------+--------------------+ Red Hat Enterprise Linux 9.5 Kernel: 5.4 Compiler: gcc gcc (GCC) 11.5.0 20240719 (Red Hat 11.5.0-2) Ubuntu 20.04 Kernel: 5.15 Compiler: aarch64-linux-gnu-gcc gcc (Ubuntu 9.4.0-1ubuntu1~20.04.2) 9.4.0 Debian GNU/Linux 12 Kernel: 5.4 Compiler: gcc gcc (Debian 12.2.0-14+deb12u1) 12.2.0 Fedora Linux 42 Kernel: 5.4 Compiler: gcc gcc (GCC) 15.2.1 20250808 (Red Hat 15.2.1-1) Ubuntu 22.04 Kernel: 5.4 Compiler: gcc gcc (Ubuntu 11.4.0-1ubuntu1~22.04) 11.4.0 Ubuntu 24.04 Kernel: 5.4 Compiler: gcc gcc (Ubuntu 13.3.0-6ubuntu2~24.04) 13.3.0 CentOS Stream 9 Kernel: 5.4 Compiler: gcc gcc (GCC) 11.5.0 20240719 (Red Hat 11.5.0-11) CentOS Stream 10 Kernel: 5.4 Compiler: gcc gcc (GCC) 14.2.1 20250110 (Red Hat 14.2.1-8) To view detailed results, visit: https://lab.dpdk.org/results/dashboard/patchsets/34305/ UNH-IOL DPDK Community Lab To manage your email subscriptions, visit: https://lab.dpdk.org/results/dashboard/preferences/subscriptions/