From mboxrd@z Thu Jan 1 00:00:00 1970 Return-Path: Received: from mails.dpdk.org (mails.dpdk.org [217.70.189.124]) by inbox.dpdk.org (Postfix) with ESMTP id 0ACB448961 for ; Fri, 17 Oct 2025 14:32:47 +0200 (CEST) Received: from mails.dpdk.org (localhost [127.0.0.1]) by mails.dpdk.org (Postfix) with ESMTP id E6F2C40269; Fri, 17 Oct 2025 14:32:46 +0200 (CEST) Received: from mail-qk1-f226.google.com (mail-qk1-f226.google.com [209.85.222.226]) by mails.dpdk.org (Postfix) with ESMTP id C2C2E40269 for ; Fri, 17 Oct 2025 14:32:45 +0200 (CEST) Received: by mail-qk1-f226.google.com with SMTP id af79cd13be357-88e456972d5so362945885a.3 for ; Fri, 17 Oct 2025 05:32:45 -0700 (PDT) DKIM-Signature: v=1; a=rsa-sha256; c=relaxed/relaxed; d=iol.unh.edu; s=unh-iol; t=1760704365; x=1761309165; darn=dpdk.org; h=references:in-reply-to:cc:to:from:subject:message-id:date:from:to :cc:subject:date:message-id:reply-to; bh=ouWGrG1xXU6RWoxxhUcJZkUqGWiU5X97KW1tKrX9BoQ=; b=YmOGOY7y8/jnkMqaHlXcRXa8ZQxu1W50QLDHkuwEEUl+8m+TC9t7b3tS+b4By6WuOq T4Z+/cF5Iuw3juluRmwJ7oFCQJSvzIrOQQGtWlNLO0hdzQCR9uGkaasHWiNwXFOMMAc6 /Zpni5EnRPLj26tGHIxrCAhYD+hl85dUFgPgs= X-Google-DKIM-Signature: v=1; a=rsa-sha256; c=relaxed/relaxed; d=1e100.net; s=20230601; t=1760704365; x=1761309165; h=references:in-reply-to:cc:to:from:subject:message-id:date :x-gm-message-state:from:to:cc:subject:date:message-id:reply-to; bh=ouWGrG1xXU6RWoxxhUcJZkUqGWiU5X97KW1tKrX9BoQ=; b=wOe7YYfDaK7X+QIbuRakOMmqDMbNgsbFyCRishL4JYewzFhiexGXWn4j7IMtgkpCLg 8yltwSp+vesdSHGki9IVrcdZZX/6+LFne6UUtykn/eSVPVMIOeKWLwimDN9vPq10XW6g Lrx9eqofxVbFBqJEynQKc72Yliy2/A5Y5zDUZLE9jry+/TF6Jdc/noLd5UuHbzbJomOb I4y1cM/4jYfzphcN88AlbR7hL3xpmJ9lu4cgmpYREnUVVOcp2WBZ0BtDbdUv0PSgV75L ezFuZUUgSCFjvvhKdg52RlYzHpbL1cnJ9Kjf1CF57QkySlznHUYOHIClmNBSCvU/DmUU CbOg== X-Gm-Message-State: AOJu0YxO4uQKyElqPjAZDO3Wzsu9LXCcPo/3Qz28GG2r3mhrAVy5qMh2 2DzFsniW8Iv9WcJLWC5fKiGpG7BOrg9x4vuN/kC8sSvoDBbH8WCIGuNu9Gjtrgzw21avEPV3iky /Nb0myYtSDDtuddqOoICfu2QwrLN4JNCoYX4vB5W7PzcHW7aKVUTjIehFWGQH X-Gm-Gg: ASbGncu9ARv+k3qZqIjfJFTe8LudA4N0AD4JmIo7AeNqccduJzFYtdty/8MUj5UjLvB gKj/gJEeVtmJB1RO/qryhLetY/ADMxfxorwZMf4GaWKbKEjegd+6n+7BImnh97Nh3RgZtCz/voE 24EnzUuDevLePvs0EtRleL9XZOYGbqqfHyrhXnG6THzWyb6mjj7zQaZTlJJq0FRcd5l8LKK2Nf0 ZrnlgMjJ20JFCb+wWo0x8MM0XmMic0auUDLuFWpCJBEK02KkOhj16rZudAGclQq4GlIIKVFpmxj e8/nTW6RgMOsplEPJLNFgfyCYaXlEMFaxylErkVNEsfNAnVlQMVEW0q9JES72G/FYADq7gVsuhQ wk7dI3iaB X-Google-Smtp-Source: AGHT+IH+iO9qI50GQdMTDeTZdXYZgezMRNCn6YovNuajdgB1l2/99mX3nDD9Cv5rRIa2NsWbJ2qEFc+8ojnB X-Received: by 2002:ac8:5984:0:b0:4e7:3a25:5f with SMTP id d75a77b69052e-4e89d1ddf55mr42071041cf.5.1760704365133; Fri, 17 Oct 2025 05:32:45 -0700 (PDT) Received: from postal.iol.unh.edu (postal.iol.unh.edu. [2606:4100:3880:1234::84]) by smtp-relay.gmail.com with ESMTPS id 6a1803df08f44-87c0129f706sm7426306d6.27.2025.10.17.05.32.45 (version=TLS1_2 cipher=ECDHE-ECDSA-AES128-GCM-SHA256 bits=128/128); Fri, 17 Oct 2025 05:32:45 -0700 (PDT) X-Relaying-Domain: iol.unh.edu Date: Fri, 17 Oct 2025 05:32:45 -0700 (PDT) Message-ID: <68f2376d.050a0220.24d8ed.5879SMTPIN_ADDED_MISSING@mx.google.com> Received: from [172.21.0.3] (unknown [172.18.0.240]) by postal.iol.unh.edu (Postfix) with ESMTP id CBAAA6051830; Fri, 17 Oct 2025 08:32:44 -0400 (EDT) Subject: |SUCCESS| pw157761-157767 [PATCH] [v7,7/7] usertools/mbuf: parse mbu From: dpdklab@iol.unh.edu To: Test Report Cc: dpdk-test-reports@iol.unh.edu In-Reply-To: <20251016203557.2554678-8-thomas@monjalon.net> References: <20251016203557.2554678-8-thomas@monjalon.net> Content-Type: text/plain X-BeenThere: test-report@dpdk.org X-Mailman-Version: 2.1.29 Precedence: list List-Id: automatic DPDK test reports List-Unsubscribe: , List-Archive: List-Post: List-Help: List-Subscribe: , Errors-To: test-report-bounces@dpdk.org Test-Label: iol-compile-arm64-testing Test-Status: SUCCESS http://dpdk.org/patch/157767 _Testing PASS_ Submitter: Thomas Monjalon Date: Thursday, October 16 2025 20:34:45 DPDK git baseline: Repo:dpdk Branch: master CommitID:438491733c2d8a109574449d3d6de9b25a05c07c 157761-157767 --> testing pass Upstream job id: Generic-DPDK-Compile-Meson#435136 Test environment and result as below: +------------------------------+--------------------+ | Environment | dpdk_meson_compile | +==============================+====================+ | Red Hat Enterprise Linux 9.5 | PASS | +------------------------------+--------------------+ | Ubuntu 20.04 | PASS | +------------------------------+--------------------+ | Debian GNU/Linux 12 | PASS | +------------------------------+--------------------+ | Fedora Linux 42 | PASS | +------------------------------+--------------------+ | Ubuntu 22.04 | PASS | +------------------------------+--------------------+ | Ubuntu 24.04 | PASS | +------------------------------+--------------------+ | CentOS Stream 9 | PASS | +------------------------------+--------------------+ | CentOS Stream 10 | PASS | +------------------------------+--------------------+ Red Hat Enterprise Linux 9.5 Kernel: 5.4 Compiler: gcc gcc (GCC) 11.5.0 20240719 (Red Hat 11.5.0-2) Ubuntu 20.04 Kernel: 5.15 Compiler: aarch64-linux-gnu-gcc gcc (Ubuntu 9.4.0-1ubuntu1~20.04.2) 9.4.0 Debian GNU/Linux 12 Kernel: 5.4 Compiler: gcc gcc (Debian 12.2.0-14+deb12u1) 12.2.0 Fedora Linux 42 Kernel: 5.4 Compiler: gcc gcc (GCC) 15.2.1 20250808 (Red Hat 15.2.1-1) Ubuntu 22.04 Kernel: 5.4 Compiler: gcc gcc (Ubuntu 11.4.0-1ubuntu1~22.04) 11.4.0 Ubuntu 24.04 Kernel: 5.4 Compiler: gcc gcc (Ubuntu 13.3.0-6ubuntu2~24.04) 13.3.0 CentOS Stream 9 Kernel: 5.4 Compiler: gcc gcc (GCC) 11.5.0 20240719 (Red Hat 11.5.0-11) CentOS Stream 10 Kernel: 5.4 Compiler: gcc gcc (GCC) 14.2.1 20250110 (Red Hat 14.2.1-8) To view detailed results, visit: https://lab.dpdk.org/results/dashboard/patchsets/34304/ UNH-IOL DPDK Community Lab To manage your email subscriptions, visit: https://lab.dpdk.org/results/dashboard/preferences/subscriptions/