From mboxrd@z Thu Jan 1 00:00:00 1970 Return-Path: Received: from mails.dpdk.org (mails.dpdk.org [217.70.189.124]) by inbox.dpdk.org (Postfix) with ESMTP id 3254D48961 for ; Fri, 17 Oct 2025 14:34:29 +0200 (CEST) Received: from mails.dpdk.org (localhost [127.0.0.1]) by mails.dpdk.org (Postfix) with ESMTP id 1DCDF40269; Fri, 17 Oct 2025 14:34:29 +0200 (CEST) Received: from mail-pg1-f225.google.com (mail-pg1-f225.google.com [209.85.215.225]) by mails.dpdk.org (Postfix) with ESMTP id EBA2140269 for ; Fri, 17 Oct 2025 14:34:27 +0200 (CEST) Received: by mail-pg1-f225.google.com with SMTP id 41be03b00d2f7-b67ae7e76abso1390898a12.3 for ; Fri, 17 Oct 2025 05:34:27 -0700 (PDT) DKIM-Signature: v=1; a=rsa-sha256; c=relaxed/relaxed; d=iol.unh.edu; s=unh-iol; t=1760704467; x=1761309267; darn=dpdk.org; h=references:in-reply-to:cc:to:from:subject:message-id:date:from:to :cc:subject:date:message-id:reply-to; bh=VUINKgk09DSV0XZ6r2Z4S8UxwgkYZXppTzCRBt4VUmA=; b=bPQAbvxTNccFazaafmW/nt3E76VTff3EbNgs+XarO4NiFK27cYucjiYaF3qi0IdB+q mkRqSWXiUweO2JdzTonD0RWgFure/954xKqJuXrVNrf+Auof7f8fCwZTULC5xkQBaI9G Pw26DlRoQKdpm2vS5DIfBWF++THHa5iceGgqk= X-Google-DKIM-Signature: v=1; a=rsa-sha256; c=relaxed/relaxed; d=1e100.net; s=20230601; t=1760704467; x=1761309267; h=references:in-reply-to:cc:to:from:subject:message-id:date :x-gm-message-state:from:to:cc:subject:date:message-id:reply-to; bh=VUINKgk09DSV0XZ6r2Z4S8UxwgkYZXppTzCRBt4VUmA=; b=MpKdDaPpYqMd57+2yH+rgp4QJGjW2Y+PTrtMhuacoClWPZTNTRrg4O9r2tUSMF3sLs HTs1tNA/+wmjhyJXNgZ62WwUhKrZGQ+A4cZuGYHSxX93ZYELiSkynnt+tZQ7s6gPnfuL 069f9HIDJyXP5q8coYi4xRnpDarc4UkLPEbagBXdreao04hnjwxpe1c3XylEMrlTtpSM EMSwJrDh2M8Ng2ILAXKuOFF9S8HJbUSvuV9kroJicctZ4INUVj1ClI5MFTrnzXcBgsAD wXX597jV9aE1EYWxtFkbTgK7FfW5HnpFJ0PDl1TsF8ElP/IXGjdP8gtB0dnPHotSb1Mr wlcQ== X-Gm-Message-State: AOJu0YwFNVyV60cTbFSMiOokv6dVCMALPnZdGfMCZt3S/MoKH5ll+CHB ShiYQgBDzm405K1ZN77gGEM/WsvEYXq+dPx0LCLBEJZf71sU1HxAY4UxCo6G893eKkk8OX0RWcB frtbcTV+k168BGsBcS6e/H+1NSTE0gNJq47ybSSvCZkeQXGp6psEhpprBUk/X X-Gm-Gg: ASbGncvTZXL0PBlWkfNIH4GpisfBt99pY/jxpKlzf6EgPI2FxrOD1zcS5GgZVGdBWbb dMLt/Ll+I1TLE0NEUa1GcfLb2bCVTWSIS+XenFtet+bbWO7KRVANCSKhYbf2Y/wehOqR3kNF+5s mwY+ytdJ7aUZ3LQ93tAp6lb5sNcxEgnq8avvEg+u59ubXBaytt3L+yFUhrTb1BbVRJwKtUhhfHF lbd+tkhS3gEyJuxHj8h97mw9eYh9yx9FEmaYoweTrETSNWVaa6mHYSpCdy94GPcd7B6hlO3qhMx gmZshgPS6Ttm0Eq8qhQAfVcyBcNF+Cde5b/C/Jrng5Pf6mOdJ6odIlqPgDb1NGina9oXOShq3cJ 45cegTdU3 X-Google-Smtp-Source: AGHT+IF/GxG0RjHg9PLBY+sYpakKjQqvEWb3LrxRoH9gIck+VSGnvdQPc8AKjLG6qkC4sRzmJE/bPkeSG6JS X-Received: by 2002:a17:902:eccb:b0:276:842a:f9a7 with SMTP id d9443c01a7336-290cba4db6emr42439825ad.57.1760704467002; Fri, 17 Oct 2025 05:34:27 -0700 (PDT) Received: from postal.iol.unh.edu (postal.iol.unh.edu. [2606:4100:3880:1234::84]) by smtp-relay.gmail.com with ESMTPS id d9443c01a7336-290992ee71bsm6467615ad.28.2025.10.17.05.34.26 (version=TLS1_2 cipher=ECDHE-ECDSA-AES128-GCM-SHA256 bits=128/128); Fri, 17 Oct 2025 05:34:26 -0700 (PDT) X-Relaying-Domain: iol.unh.edu Date: Fri, 17 Oct 2025 05:34:26 -0700 (PDT) Message-ID: <68f237d2.170a0220.331b04.05d3SMTPIN_ADDED_MISSING@mx.google.com> Received: from [172.21.0.3] (unknown [172.18.0.240]) by postal.iol.unh.edu (Postfix) with ESMTP id 0E3916051830; Fri, 17 Oct 2025 08:34:26 -0400 (EDT) Subject: |SUCCESS| pw157797-157799 [PATCH] [v7,3/3] doc: note on unsupported From: dpdklab@iol.unh.edu To: Test Report Cc: dpdk-test-reports@iol.unh.edu, Bruce Richardson In-Reply-To: <20251017103415.114400-4-shaiq.wani@intel.com> References: <20251017103415.114400-4-shaiq.wani@intel.com> Content-Type: text/plain X-BeenThere: test-report@dpdk.org X-Mailman-Version: 2.1.29 Precedence: list List-Id: automatic DPDK test reports List-Unsubscribe: , List-Archive: List-Post: List-Help: List-Subscribe: , Errors-To: test-report-bounces@dpdk.org Test-Label: iol-compile-amd64-testing Test-Status: SUCCESS http://dpdk.org/patch/157799 _Testing PASS_ Submitter: Shaiq Wani Date: Friday, October 17 2025 10:34:15 DPDK git baseline: Repo:dpdk-next-net-intel Branch: master CommitID:6b997d6b9ffdbb4f8ecd14d1f217da69cdc783af 157797-157799 --> testing pass Upstream job id: Windows-Compile-DPDK-VS#7236 Test environment and result as below: +---------------------+--------------------+-------------------+ | Environment | dpdk_meson_compile | dpdk_msvc_compile | +=====================+====================+===================+ | FreeBSD 14.2 | PASS | SKIPPED | +---------------------+--------------------+-------------------+ | Ubuntu 20.04 | PASS | SKIPPED | +---------------------+--------------------+-------------------+ | Ubuntu 24.04 | PASS | SKIPPED | +---------------------+--------------------+-------------------+ | Windows Server 2022 | SKIPPED | PASS | +---------------------+--------------------+-------------------+ FreeBSD 14.2 Kernel: 14.2-RELEASE Compiler: clang 18.1.6 Ubuntu 20.04 Kernel: 4.19 Compiler: gcc gcc (Ubuntu 9.4.0-1ubuntu1~20.04.2) 9.4.0 Ubuntu 24.04 Kernel: 5.15 Compiler: gcc gcc (Ubuntu 13.3.0-6ubuntu2~24.04) 13.3.0 Windows Server 2022 Kernel: 10.0.20348.2031 Compiler: clang 15.0.7, gcc 14.1.0 (MinGW), and MSVC VS 19.39.33521 To view detailed results, visit: https://lab.dpdk.org/results/dashboard/patchsets/34311/ UNH-IOL DPDK Community Lab To manage your email subscriptions, visit: https://lab.dpdk.org/results/dashboard/preferences/subscriptions/