From mboxrd@z Thu Jan 1 00:00:00 1970 Return-Path: Received: from mails.dpdk.org (mails.dpdk.org [217.70.189.124]) by inbox.dpdk.org (Postfix) with ESMTP id 77EF148961 for ; Fri, 17 Oct 2025 14:37:01 +0200 (CEST) Received: from mails.dpdk.org (localhost [127.0.0.1]) by mails.dpdk.org (Postfix) with ESMTP id 6294040269; Fri, 17 Oct 2025 14:37:01 +0200 (CEST) Received: from mail-pl1-f226.google.com (mail-pl1-f226.google.com [209.85.214.226]) by mails.dpdk.org (Postfix) with ESMTP id 5E15940269 for ; Fri, 17 Oct 2025 14:36:59 +0200 (CEST) Received: by mail-pl1-f226.google.com with SMTP id d9443c01a7336-29226bc4bafso3451885ad.0 for ; Fri, 17 Oct 2025 05:36:59 -0700 (PDT) DKIM-Signature: v=1; a=rsa-sha256; c=relaxed/relaxed; d=iol.unh.edu; s=unh-iol; t=1760704618; x=1761309418; darn=dpdk.org; h=cc:to:from:subject:message-id:date:from:to:cc:subject:date :message-id:reply-to; bh=gkN+U2Mx38GsZc79+bUBuvCOk+BSw2lolV6/CBCDwfs=; b=d4aQ+L9Rr5kzHL5cSHpQk6WWqDjxli6Rz0VGPl7aL5QsrjDNbU8/LLgVMdujMjgkpZ 0nI5Etkj+SdTZ7UlsS9Aqc/6uIpqulJK2fZJcjHGD7ofSouX/F5J9GqTXbIVgf4M1z8z XHR8csFmKHrVBBH7WEQejaNf6lXsqAcDu9fWA= X-Google-DKIM-Signature: v=1; a=rsa-sha256; c=relaxed/relaxed; d=1e100.net; s=20230601; t=1760704618; x=1761309418; h=cc:to:from:subject:message-id:date:x-gm-message-state:from:to:cc :subject:date:message-id:reply-to; bh=gkN+U2Mx38GsZc79+bUBuvCOk+BSw2lolV6/CBCDwfs=; b=LI7y6NqRhrpNhxKY+8ob3/I7wYvBsedchhW8U2CBYe2/H4HJvXi9GIBj2nvCDOjUIA GPjGWmpJj7ZNJ+CCpmwes71XMYOsscVWrC13o+yBox32KvSoWlLnOfTWRZEoeGUfSAeK 5K2NxQMX9wahTvOZUzm8rHBhw4Z6jmI9x0kLmv2VGgeS8mL8mpy4GtUB4QZQ0XI/G6Ix V8B7t6tbw7k/G2W0bmwxOQYtqcv7lectxuZhPDE5NUgU2L1eRfYYL/ckcGBPWLq87Opg 6fvHcPM5mamstDfXDvLmLUHhaZ++yW9SDyasVh8qDw8L2+3ZSB2lbEGP/BY/+XGkwZru +LFg== X-Gm-Message-State: AOJu0YwjjaORpl5eLy4zMJKxDnVCFpGwb0XOjkXz+c3iEKUIaFtZy5tW cQuPg9EPWzz7nSJPshEsll8ShEA+A5GNkjwUKYFd317/7ZUg9X8zadbMAixxiyWAkeTGC6+iFyx hw2onIIOyhoJzEdjSQyFr0CfUNpFTT5WNxltOdBFQ9+ob X-Gm-Gg: ASbGncvwNbrhzFsHXpjl9jGikTLobNiXL8RAJpI+yevjSoAANj4281XtKNkmg6l9aZc QLUDwTJ50SIKsN4r+tg0jaCpJparENt+JNk49mByWtoT2bM+PFGP+U6og5aJha/Hj/O3DTybdKw LkY1/zDw4PJGbBCRPPT7sKERRZBbYP1dlF01RCs1H1tu+EnPLd1sRmWsuppG1m/3LQsFpsL5zyl 5pwB71ThFa4/UiacUlFS+VvgyWaDLwGY1FYEdIGQxvIF/X4Rc7QFZgil4LJ9sYfS0XLjvoP35n7 tD2LorJQF2tdv0mHyaqYArPIDRi1GIEIwtHxl8ku6nliZM/OaxlXy/fvvEi6CGBINaSOuy+fRQV CclIeWkQbVqYIeRTAMuPzmbEhgEV49Ks= X-Google-Smtp-Source: AGHT+IE/5RbtV3kLfxfzugU1g5Kug23CCxQEKhbpLtdORGY82Np8XbJsCBrEYO5jp1E1zM9blv4gFpRBgrs+ X-Received: by 2002:a17:902:ce07:b0:275:c1e7:c7f with SMTP id d9443c01a7336-290ca30dd70mr41076315ad.34.1760704618500; Fri, 17 Oct 2025 05:36:58 -0700 (PDT) Received: from postal.iol.unh.edu (postal.iol.unh.edu. [132.177.123.84]) by smtp-relay.gmail.com with ESMTPS id d9443c01a7336-2909967502csm6866195ad.45.2025.10.17.05.36.58 (version=TLS1_2 cipher=ECDHE-ECDSA-AES128-GCM-SHA256 bits=128/128); Fri, 17 Oct 2025 05:36:58 -0700 (PDT) X-Relaying-Domain: iol.unh.edu Date: Fri, 17 Oct 2025 05:36:58 -0700 (PDT) Message-ID: <68f2386a.170a0220.25d2d2.2b92SMTPIN_ADDED_MISSING@mx.google.com> Received: from [172.21.0.3] (unknown [172.18.0.240]) by postal.iol.unh.edu (Postfix) with ESMTP id BDCDA6051830; Fri, 17 Oct 2025 08:36:57 -0400 (EDT) Subject: |SUCCESS| [GIT MASTER] 6b997d6b9ffdbb4f8ecd14d1f217da69cdc783af From: dpdklab@iol.unh.edu To: Test Report Cc: dpdk-test-reports@iol.unh.edu, Bruce Richardson Content-Type: text/plain X-BeenThere: test-report@dpdk.org X-Mailman-Version: 2.1.29 Precedence: list List-Id: automatic DPDK test reports List-Unsubscribe: , List-Archive: List-Post: List-Help: List-Subscribe: , Errors-To: test-report-bounces@dpdk.org _Testing PASS_ Branch: dpdk-next-net-intel 6b997d6b9ffdbb4f8ecd14d1f217da69cdc783af --> testing pass Upstream job id: Windows-Compile-DPDK-Native#31707 Test environment and result as below: +---------------------+--------------------+-------------------+-------------------------+ | Environment | dpdk_meson_compile | dpdk_msvc_compile | dpdk_llvm_clang_compile | +=====================+====================+===================+=========================+ | FreeBSD 14.2 | PASS | SKIPPED | SKIPPED | +---------------------+--------------------+-------------------+-------------------------+ | Ubuntu 20.04 | PASS | SKIPPED | SKIPPED | +---------------------+--------------------+-------------------+-------------------------+ | Windows Server 2022 | SKIPPED | PASS | PASS | +---------------------+--------------------+-------------------+-------------------------+ FreeBSD 14.2 Kernel: 14.2-RELEASE Compiler: clang 18.1.6 Ubuntu 20.04 Kernel: 4.19 Compiler: gcc gcc (Ubuntu 9.4.0-1ubuntu1~20.04.2) 9.4.0 Windows Server 2022 Kernel: 10.0.20348.2031 Compiler: clang 15.0.7, gcc 14.1.0 (MinGW), and MSVC VS 19.39.33521 To view detailed results, visit: https://lab.dpdk.org/results/dashboard/tarballs/35251/ UNH-IOL DPDK Community Lab To manage your email subscriptions, visit: https://lab.dpdk.org/results/dashboard/preferences/subscriptions/