From mboxrd@z Thu Jan 1 00:00:00 1970 Return-Path: Received: from mails.dpdk.org (mails.dpdk.org [217.70.189.124]) by inbox.dpdk.org (Postfix) with ESMTP id 79EDF48961 for ; Fri, 17 Oct 2025 14:45:37 +0200 (CEST) Received: from mails.dpdk.org (localhost [127.0.0.1]) by mails.dpdk.org (Postfix) with ESMTP id 6FF2F40269; Fri, 17 Oct 2025 14:45:37 +0200 (CEST) Received: from mail-yw1-f226.google.com (mail-yw1-f226.google.com [209.85.128.226]) by mails.dpdk.org (Postfix) with ESMTP id B41D940269 for ; Fri, 17 Oct 2025 14:45:36 +0200 (CEST) Received: by mail-yw1-f226.google.com with SMTP id 00721157ae682-7829fc3b7deso14746797b3.3 for ; Fri, 17 Oct 2025 05:45:36 -0700 (PDT) DKIM-Signature: v=1; a=rsa-sha256; c=relaxed/relaxed; d=iol.unh.edu; s=unh-iol; t=1760705136; x=1761309936; darn=dpdk.org; h=cc:to:from:subject:message-id:date:from:to:cc:subject:date :message-id:reply-to; bh=GKb3Q81tKE6ivnOCs+wptKXbAyWc7oDrp2/yGnkJF2Y=; b=WzUCohyaaNUGbl3+Alizvcftces8SuTrE2rQehog/fso3bRfjvVj5mlRin3SMalDrt Z5hkvLZT3ofQgcBySvj5z0gYbuKiGq6MLqESq5WPlIo+VVgp6mVpTX8iXO8lqV5a1BSZ BHRECpYNy5Vk6S9SnOC3VjFbZhpBXmUOhsgIg= X-Google-DKIM-Signature: v=1; a=rsa-sha256; c=relaxed/relaxed; d=1e100.net; s=20230601; t=1760705136; x=1761309936; h=cc:to:from:subject:message-id:date:x-gm-message-state:from:to:cc :subject:date:message-id:reply-to; bh=GKb3Q81tKE6ivnOCs+wptKXbAyWc7oDrp2/yGnkJF2Y=; b=cqc1NbgldY5mT/XIvA31Vz5rLekwESFK5h/cwKE+DbSNz3PCnFS2NB6pV4ROpLlXAB nZZFFe7H3cH5GR64rIYkQdjYDrPods5VptAgnXWJekJgzIS7rys1WI6ILVcfHiuXh+9f X2ZQaLYond2I5nis3sojit8HZFF0KfVw0oKRhrsExDuOUySa3itluVnzkYJjadmahCrH n2+xMAdDSFLOeSDiVNVTWoku5QU5XbEK084no6j/IDhe/JcGkmiFDvWoYVECciFQijus u/Z0xh2md/LfcrF6fYztYDMny6TDDh/eWG7tKOWYLS0MAOzaPY7srkUh09XHPNzbfr3h +3vg== X-Gm-Message-State: AOJu0Yyo61OwsRBX+PIP90q9U6X63dB1qFl0ck0WHtsy5Q9YTzbEsQMn ESESqh2VrSA3PTm1CfuWVGn/BlLZTBoMpoSJ4pJLOphXAXdNIyQcJ9cUATTbQvKbN4tEF0l8gp1 JKyxkUKp5m8C7F23fCLkJ22D3BjwVlfd7Y/j/QLjW/Fwl X-Gm-Gg: ASbGncsKHtDHsdtky5IOufBAFcyVcciPCi+Zq8+0rTI024TFJ2bHsnpbsXxAdUHqoyl U8gL9iTqEEWG5OvsbS/4WGeWFNCtiAT/KXE3gu1S+uiYZX3hw5sI12xiOe0cvgtn2QG5r6cz2Fu /X+AFuRf8n7xJcpu3iMZqbnzunqf2KykFbzNMON7OYK2e80BJy/05xvUC+ApsafytmEctn3XMKD aFWHA40Apu3QjbN/V5Udnx1s2upMSX1xpjVLkLXyYgqaeGEZAXanw8KWAGygvzF5dHOzA38rkhk zPgbM4IYM241arQVHytqmBs8B+dEcNDztNhgjreGO23oA12g10EVpHOaz2uku4RHm79Y4/7DY9R q2vA6jzj6uCcSJyuPxYzNDvOPZZkmMag= X-Google-Smtp-Source: AGHT+IEbM6CaGILPAVKA8K/P7SQQI0kI3thoht9SGySU4FYyPIVPymAwRUDZ9TtG40POe28ZgggK16eZbq5h X-Received: by 2002:a05:690c:25c4:b0:723:bf47:96f8 with SMTP id 00721157ae682-7836d343077mr31524487b3.53.1760705135810; Fri, 17 Oct 2025 05:45:35 -0700 (PDT) Received: from postal.iol.unh.edu (postal.iol.unh.edu. [132.177.123.84]) by smtp-relay.gmail.com with ESMTPS id 00721157ae682-783797b1bb1sm761467b3.20.2025.10.17.05.45.35 (version=TLS1_2 cipher=ECDHE-ECDSA-AES128-GCM-SHA256 bits=128/128); Fri, 17 Oct 2025 05:45:35 -0700 (PDT) X-Relaying-Domain: iol.unh.edu Date: Fri, 17 Oct 2025 05:45:35 -0700 (PDT) Message-ID: <68f23a6f.050a0220.284b3f.3a13SMTPIN_ADDED_MISSING@mx.google.com> Received: from [172.21.0.2] (unknown [172.18.0.240]) by postal.iol.unh.edu (Postfix) with ESMTP id 7027F6051830; Fri, 17 Oct 2025 08:45:35 -0400 (EDT) Subject: |SUCCESS| [GIT MASTER] 6b997d6b9ffdbb4f8ecd14d1f217da69cdc783af From: dpdklab@iol.unh.edu To: Test Report Cc: dpdk-test-reports@iol.unh.edu, Bruce Richardson Content-Type: text/plain X-BeenThere: test-report@dpdk.org X-Mailman-Version: 2.1.29 Precedence: list List-Id: automatic DPDK test reports List-Unsubscribe: , List-Archive: List-Post: List-Help: List-Subscribe: , Errors-To: test-report-bounces@dpdk.org _Testing PASS_ Branch: dpdk-next-net-intel 6b997d6b9ffdbb4f8ecd14d1f217da69cdc783af --> testing pass Upstream job id: Generic-VM-Unit-Test-DPDK#31879 Test environment and result as below: +-------------------------------+----------------+ | Environment | dpdk_unit_test | +===============================+================+ | CentOS Stream 9 | PASS | +-------------------------------+----------------+ | CentOS Stream 10 | PASS | +-------------------------------+----------------+ | Fedora Linux 41 | PASS | +-------------------------------+----------------+ | Fedora Linux 40 | PASS | +-------------------------------+----------------+ | Fedora Linux 42 | PASS | +-------------------------------+----------------+ | Debian GNU/Linux 12 | PASS | +-------------------------------+----------------+ | Ubuntu 24.04 | PASS | +-------------------------------+----------------+ | Ubuntu 22.04 | PASS | +-------------------------------+----------------+ | Ubuntu 20.04 | PASS | +-------------------------------+----------------+ | Red Hat Enterprise Linux 9.5 | PASS | +-------------------------------+----------------+ | Red Hat Enterprise Linux 8.10 | PASS | +-------------------------------+----------------+ | Windows Server 2022 | PASS | +-------------------------------+----------------+ CentOS Stream 9 Kernel: 5.15 Compiler: gcc gcc (GCC) 11.5.0 20240719 (Red Hat 11.5.0-11) CentOS Stream 10 Kernel: 5.15 Compiler: gcc gcc (GCC) 14.2.1 20250110 (Red Hat 14.2.1-8) Fedora Linux 41 Kernel: 5.15 Compiler: clang gcc (GCC) 14.3.1 20250523 (Red Hat 14.3.1-1) Fedora Linux 40 Kernel: 5.15 Compiler: clang gcc (GCC) 14.2.1 20240912 (Red Hat 14.2.1-3) Fedora Linux 42 Kernel: 5.15 Compiler: clang gcc (GCC) 15.2.1 20250808 (Red Hat 15.2.1-1) Debian GNU/Linux 12 Kernel: 5.15 Compiler: gcc gcc (Debian 12.2.0-14+deb12u1) 12.2.0 Ubuntu 24.04 Kernel: 5.15 Compiler: gcc gcc (Ubuntu 13.3.0-6ubuntu2~24.04) 13.3.0 Ubuntu 22.04 Kernel: 5.15 Compiler: gcc gcc (Ubuntu 11.4.0-1ubuntu1~22.04) 11.4.0 Ubuntu 20.04 Kernel: 5.15 Compiler: gcc gcc (Ubuntu 9.4.0-1ubuntu1~20.04.2) 9.4.0 Red Hat Enterprise Linux 9.5 Kernel: 5.15 Compiler: gcc gcc (GCC) 11.5.0 20240719 (Red Hat 11.5.0-2) Red Hat Enterprise Linux 8.10 Kernel: 5.15 Compiler: gcc gcc (GCC) 8.5.0 20210514 (Red Hat 8.5.0-22) Windows Server 2022 Kernel: 10.0.20348.2031 Compiler: clang 15.0.7, gcc 14.1.0 (MinGW), and MSVC VS 19.39.33521 To view detailed results, visit: https://lab.dpdk.org/results/dashboard/tarballs/35251/ UNH-IOL DPDK Community Lab To manage your email subscriptions, visit: https://lab.dpdk.org/results/dashboard/preferences/subscriptions/