From mboxrd@z Thu Jan 1 00:00:00 1970 Return-Path: Received: from mails.dpdk.org (mails.dpdk.org [217.70.189.124]) by inbox.dpdk.org (Postfix) with ESMTP id 3450048961 for ; Fri, 17 Oct 2025 14:51:54 +0200 (CEST) Received: from mails.dpdk.org (localhost [127.0.0.1]) by mails.dpdk.org (Postfix) with ESMTP id 2EB9540269; Fri, 17 Oct 2025 14:51:54 +0200 (CEST) Received: from mail-pl1-f227.google.com (mail-pl1-f227.google.com [209.85.214.227]) by mails.dpdk.org (Postfix) with ESMTP id 64A9340269 for ; Fri, 17 Oct 2025 14:51:53 +0200 (CEST) Received: by mail-pl1-f227.google.com with SMTP id d9443c01a7336-290c5dec559so11134745ad.3 for ; Fri, 17 Oct 2025 05:51:53 -0700 (PDT) DKIM-Signature: v=1; a=rsa-sha256; c=relaxed/relaxed; d=iol.unh.edu; s=unh-iol; t=1760705512; x=1761310312; darn=dpdk.org; h=references:in-reply-to:cc:to:from:subject:message-id:date:from:to :cc:subject:date:message-id:reply-to; bh=mBE2a8FC5TiXdyMSG603kNtxgbuchq6duxPC1uTmzZc=; b=eXHctPzc+MpUiEfMBlyo+jmDxVOWDf78BBL8/9sAp3vcCSJke4JzeYX3dnb4DdGjgw VpumHJxKAHnQUXMVbI3w2MxPIQkJQYnr391P6jl+rllqIyvbefu1KMRCOYmHzLXWE0kr FIQ0x7Liid4/iXBiimcJ6OzNbwZZBmLcKOG8k= X-Google-DKIM-Signature: v=1; a=rsa-sha256; c=relaxed/relaxed; d=1e100.net; s=20230601; t=1760705512; x=1761310312; h=references:in-reply-to:cc:to:from:subject:message-id:date :x-gm-message-state:from:to:cc:subject:date:message-id:reply-to; bh=mBE2a8FC5TiXdyMSG603kNtxgbuchq6duxPC1uTmzZc=; b=rbp6N8sTo2bc5cYI/lP3ow0oI1ElIn4nUo++KksEDKfZCnMncCRDExsm4gEdqhtxxq n96ZD9ebrA5ZwTK2jb3rrBynbWev9fGXFyPW/nF8HGZVqDXAh0Nh5PWjSgtdjSXSOvYc Ev2DjYAMsPFnN5Bs+k1huJVOQdQe0XILliCKbfkFXed7mrN6MTDTnDFUHnfu47PiNwJx +dxWv9im71CYb4Q1kV6gclM2Oh+8A+8T6if8mJO1ak0E5Da8SOF5F8FvxYeiJeHywdlc FaIEoWmUdJcS7w5Kofm3ZH6D+4jhTNSaPLnkGw5wblfnjvhrPvy6CisBuSG6CDvLbNYm VO/A== X-Gm-Message-State: AOJu0YzpdPPqadtNZISUEZIrVcErZyIMddkphGrpoXtLo6ZNuwAikkoU F5dkga40uuWQfjPNm7xGmb54eJbN0bc7wIlMk21C/pBsVBVg3cENXMetTsCtBAD/ISkFRfcxbhD z5ueH7nzGoMovQpkTNvTGgnk9dKZR+dqqOUCx3fR3Pb1F/MUSm4xPr30RunBQ X-Gm-Gg: ASbGncsGerJn8yNdx5ik0ycjZPAmRvzvuknSY6rZ3SjVVKppeFh2l97/y9FS1/8bJIj H00JcMpsu6pqFM5XegvVcGNo4wwnxFe8mDfozHQSuIJt0VpqOubFfjhtbwhjX+sTCSlKZU+Fbn8 ePf3nUmt3VEIfZTssA+Uqcn/YHhqnYtdW+3gjptLee3vrqZhE5h7e9JlIo0+V8FZ5wI2Ss0UONz b6ClWVcqr6ehcw6SS181E2YDVdrKTZStiOcmbMzDqpYV8eId+xeQK7dDyzbeK+Y2RLSORXJgwrz aHPsUBNAKiYPYXzH3gKkCmcgMZBuPtQ01tiB5rIY/N9kDgAoBr6mezcmv1WFl+h90KHTg2TDsOf fQ+p7lcaT X-Google-Smtp-Source: AGHT+IEc0wNnatfUzSH97IlDg+8DoDtirPVQSRLTZOgATP9w8xWYfSEHnaQhc+EZyqVlNOd+hevts6OQpmYq X-Received: by 2002:a17:903:b90:b0:276:d3e:6844 with SMTP id d9443c01a7336-290ca1218cbmr39790615ad.33.1760705512447; Fri, 17 Oct 2025 05:51:52 -0700 (PDT) Received: from postal.iol.unh.edu (postal.iol.unh.edu. [2606:4100:3880:1234::84]) by smtp-relay.gmail.com with ESMTPS id d9443c01a7336-29099675eabsm6239905ad.34.2025.10.17.05.51.52 (version=TLS1_2 cipher=ECDHE-ECDSA-AES128-GCM-SHA256 bits=128/128); Fri, 17 Oct 2025 05:51:52 -0700 (PDT) X-Relaying-Domain: iol.unh.edu Date: Fri, 17 Oct 2025 05:51:52 -0700 (PDT) Message-ID: <68f23be8.170a0220.b9495.f863SMTPIN_ADDED_MISSING@mx.google.com> Received: from [172.21.0.2] (unknown [172.18.0.240]) by postal.iol.unh.edu (Postfix) with ESMTP id B4BEB6051830; Fri, 17 Oct 2025 08:51:51 -0400 (EDT) Subject: |WARNING| pw157783 [PATCH] [v4,1/1] lib/dma: introduce inter-process From: dpdklab@iol.unh.edu To: Test Report Cc: dpdk-test-reports@iol.unh.edu In-Reply-To: <20251017054210.3105218-1-vattunuru@marvell.com> References: <20251017054210.3105218-1-vattunuru@marvell.com> Content-Type: text/plain X-BeenThere: test-report@dpdk.org X-Mailman-Version: 2.1.29 Precedence: list List-Id: automatic DPDK test reports List-Unsubscribe: , List-Archive: List-Post: List-Help: List-Subscribe: , Errors-To: test-report-bounces@dpdk.org Test-Label: iol-compile-amd64-testing Test-Status: WARNING http://dpdk.org/patch/157783 _Testing issues_ Submitter: Vamsi Krishna Date: Friday, October 17 2025 05:42:10 DPDK git baseline: Repo:dpdk Branch: master CommitID:438491733c2d8a109574449d3d6de9b25a05c07c 157783 --> testing issues Upstream job id: Generic-DPDK-Compile-Meson#435282 Test environment and result as below: +---------------------+--------------------+-------------------------+-------------------+----------------------+-------------------+------------------+ | Environment | dpdk_meson_compile | dpdk_llvm_clang_compile | dpdk_msvc_compile | dpdk_mingw64_compile | dpdk_compile_spdk | dpdk_compile_ovs | +=====================+====================+=========================+===================+======================+===================+==================+ | Ubuntu 20.04 | PASS | SKIPPED | SKIPPED | SKIPPED | SKIPPED | SKIPPED | +---------------------+--------------------+-------------------------+-------------------+----------------------+-------------------+------------------+ | FreeBSD 14.2 | PASS | SKIPPED | SKIPPED | SKIPPED | SKIPPED | SKIPPED | +---------------------+--------------------+-------------------------+-------------------+----------------------+-------------------+------------------+ | CentOS Stream 9 | PASS | SKIPPED | SKIPPED | SKIPPED | WARN | SKIPPED | +---------------------+--------------------+-------------------------+-------------------+----------------------+-------------------+------------------+ | CentOS Stream 10 | PASS | SKIPPED | SKIPPED | SKIPPED | SKIPPED | SKIPPED | +---------------------+--------------------+-------------------------+-------------------+----------------------+-------------------+------------------+ | Debian GNU/Linux 12 | PEND | SKIPPED | SKIPPED | SKIPPED | PEND | SKIPPED | +---------------------+--------------------+-------------------------+-------------------+----------------------+-------------------+------------------+ | Fedora Linux 42 | PEND | SKIPPED | SKIPPED | SKIPPED | PEND | PEND | +---------------------+--------------------+-------------------------+-------------------+----------------------+-------------------+------------------+ | Windows Server 2022 | SKIPPED | PASS | PASS | PASS | SKIPPED | SKIPPED | +---------------------+--------------------+-------------------------+-------------------+----------------------+-------------------+------------------+ ==== 20 line log output for CentOS Stream 9 (dpdk_compile_spdk): ==== --- Failed to get log output --- ==== End log output ==== Ubuntu 20.04 Kernel: 4.19 Compiler: gcc gcc (Ubuntu 9.4.0-1ubuntu1~20.04.2) 9.4.0 FreeBSD 14.2 Kernel: 14.2-RELEASE Compiler: clang 18.1.6 CentOS Stream 9 Kernel: 5.15 Compiler: gcc gcc (GCC) 11.5.0 20240719 (Red Hat 11.5.0-11) CentOS Stream 10 Kernel: 5.15 Compiler: gcc gcc (GCC) 14.2.1 20250110 (Red Hat 14.2.1-8) Debian GNU/Linux 12 Kernel: 5.15 Compiler: gcc gcc (Debian 12.2.0-14+deb12u1) 12.2.0 Fedora Linux 42 Kernel: 5.15 Compiler: clang gcc (GCC) 15.2.1 20250808 (Red Hat 15.2.1-1) Windows Server 2022 Kernel: 10.0.20348.2031 Compiler: clang 15.0.7, gcc 14.1.0 (MinGW), and MSVC VS 19.39.33521 To view detailed results, visit: https://lab.dpdk.org/results/dashboard/patchsets/34308/ UNH-IOL DPDK Community Lab To manage your email subscriptions, visit: https://lab.dpdk.org/results/dashboard/preferences/subscriptions/