From mboxrd@z Thu Jan 1 00:00:00 1970 Return-Path: Received: from mails.dpdk.org (mails.dpdk.org [217.70.189.124]) by inbox.dpdk.org (Postfix) with ESMTP id 84E6148961 for ; Fri, 17 Oct 2025 14:54:13 +0200 (CEST) Received: from mails.dpdk.org (localhost [127.0.0.1]) by mails.dpdk.org (Postfix) with ESMTP id 63D5E40269; Fri, 17 Oct 2025 14:54:13 +0200 (CEST) Received: from mail-qk1-f227.google.com (mail-qk1-f227.google.com [209.85.222.227]) by mails.dpdk.org (Postfix) with ESMTP id CFC0040269 for ; Fri, 17 Oct 2025 14:54:11 +0200 (CEST) Received: by mail-qk1-f227.google.com with SMTP id af79cd13be357-88fca7a60cfso316659085a.2 for ; Fri, 17 Oct 2025 05:54:11 -0700 (PDT) DKIM-Signature: v=1; a=rsa-sha256; c=relaxed/relaxed; d=iol.unh.edu; s=unh-iol; t=1760705651; x=1761310451; darn=dpdk.org; h=references:in-reply-to:cc:to:from:subject:message-id:date:from:to :cc:subject:date:message-id:reply-to; bh=1+trZUOxKMuftwb4tOFp8ZGXOu/+jolpcImyf38NB7w=; b=HB2PNjWJtFV1eZ/RZolCDwdq175sUBWQtUmLFV6K+SkZD8sbk9+2E9RWXM/Eiew84r B/UlXyBJiJn+Hb0RaYoKXMZPHJIxw7J++vKELouOH8MMG+4ONZGejPVf+ce34uzJpGOl EuwHWSDS+U9v3+P9/OlKPg4cGXWqINjsFiPSI= X-Google-DKIM-Signature: v=1; a=rsa-sha256; c=relaxed/relaxed; d=1e100.net; s=20230601; t=1760705651; x=1761310451; h=references:in-reply-to:cc:to:from:subject:message-id:date :x-gm-message-state:from:to:cc:subject:date:message-id:reply-to; bh=1+trZUOxKMuftwb4tOFp8ZGXOu/+jolpcImyf38NB7w=; b=XYZyBGp6WLDCqjsWKRlpFrsoFa25y0ff+c5geTyB5wfNHXM7TlFVpCe2qpkut1+CX1 dwCqPBZWzt3jAhtyh+6RTBO7jFszuzIIKNHcXC4TKyoAPJ2VbIqQTFAKvEbo8+NYzqYz 3fRbXdydU7oPnotsmD2aTjUz7n6bY0uA7nFfCmwKnl/BjjosgTYWTz3wGKJeIAr2VTEa KbBCDp/2mL8xL+9pmGGk2rzDYgXTVEhO8xMt9nd6XDFhY3VL9512lVPjo5ewiielVg3r Beqeie6SiPxW9ulWQwFGkWu1XqGCQYA1r7Pr9jAIHKazotpaVJGEhJtjGsxD9zjmgJXG EnLA== X-Gm-Message-State: AOJu0YzOzwPSeEiTp1o2wByZukME/485rHIsoW52f0HoEa4gKBG8THJF FywYDoI3DfY5jol2a4XwWqSXaEfC+RIujssHIzlybd8AnKpQ3Rx6RZLgXuIeFwaNXbnJeo/rCMM Qi4dUNwI9K28X/SGgMpt7Tm5gRP5gN6ZbKBhoIUhiQL5VoUds1kSIwRL5419E X-Gm-Gg: ASbGncsz4pk1U2/0d43hXDz9kVef3sQwOUNcc0gaJo0QTP+wE56En9w0Pq8F+LPWQCz tFC7/WuX6YFZiBieY2/PbRuZoG0ovLvGBXqbNbuz00kpUx8JmSWxHLK5hHNqXBV4QMUDtBZLDvD ZFLia63yMUk0bdzMgR/VdxaqR/SuJAHe+q+jtIZFsrrshzlHdOkDVQ10Y0y3guMxxKFPxMvGKBI 5SmV1C/D3eHSKDhdfmeMhKlp0eG6pr0yvY7EfeHNS1HSzaYsI0+qKF+8QnkrNWiGVZt24wtpkjL Ayh5oVfjMeFW+zcl3xN11YZgI0N4kIT1NwVYhr/JPvCd2DFqUDTIkNG4s2VBlDa/ffqJ3Yz58oU KtudrKNC8 X-Google-Smtp-Source: AGHT+IGNi/jrm7zGPCVbtVsM8M1XHg5flbVd3qCgtPHd2qRiTcYsWaRY6oa8lwbeazc4QI0FNMHCc3JLrZFS X-Received: by 2002:a05:622a:4fcc:b0:4e8:a870:a60a with SMTP id d75a77b69052e-4e8a870aae2mr4134551cf.58.1760705651155; Fri, 17 Oct 2025 05:54:11 -0700 (PDT) Received: from postal.iol.unh.edu (postal.iol.unh.edu. [2606:4100:3880:1234::84]) by smtp-relay.gmail.com with ESMTPS id af79cd13be357-88f35872737sm45729785a.1.2025.10.17.05.54.11 (version=TLS1_2 cipher=ECDHE-ECDSA-AES128-GCM-SHA256 bits=128/128); Fri, 17 Oct 2025 05:54:11 -0700 (PDT) X-Relaying-Domain: iol.unh.edu Date: Fri, 17 Oct 2025 05:54:11 -0700 (PDT) Message-ID: <68f23c73.050a0220.2f26dd.67eeSMTPIN_ADDED_MISSING@mx.google.com> Received: from [172.21.0.3] (unknown [172.18.0.240]) by postal.iol.unh.edu (Postfix) with ESMTP id D3D426051830; Fri, 17 Oct 2025 08:54:10 -0400 (EDT) Subject: |SUCCESS| pw157800-157801 [PATCH] [2/2] app/pdump: improve cmdline a From: dpdklab@iol.unh.edu To: Test Report Cc: dpdk-test-reports@iol.unh.edu In-Reply-To: <20251017110638.1094371-2-bruce.richardson@intel.com> References: <20251017110638.1094371-2-bruce.richardson@intel.com> Content-Type: text/plain X-BeenThere: test-report@dpdk.org X-Mailman-Version: 2.1.29 Precedence: list List-Id: automatic DPDK test reports List-Unsubscribe: , List-Archive: List-Post: List-Help: List-Subscribe: , Errors-To: test-report-bounces@dpdk.org Test-Label: iol-compile-amd64-testing Test-Status: SUCCESS http://dpdk.org/patch/157801 _Testing PASS_ Submitter: Bruce Richardson Date: Friday, October 17 2025 11:06:37 DPDK git baseline: Repo:dpdk Branch: master CommitID:438491733c2d8a109574449d3d6de9b25a05c07c 157800-157801 --> testing pass Upstream job id: Windows-Compile-DPDK-VS#7237 Test environment and result as below: +---------------------+--------------------+-------------------+ | Environment | dpdk_meson_compile | dpdk_msvc_compile | +=====================+====================+===================+ | Ubuntu 20.04 | PASS | SKIPPED | +---------------------+--------------------+-------------------+ | FreeBSD 14.2 | PASS | SKIPPED | +---------------------+--------------------+-------------------+ | Windows Server 2022 | SKIPPED | PASS | +---------------------+--------------------+-------------------+ Ubuntu 20.04 Kernel: 4.19 Compiler: gcc gcc (Ubuntu 9.4.0-1ubuntu1~20.04.2) 9.4.0 FreeBSD 14.2 Kernel: 14.2-RELEASE Compiler: clang 18.1.6 Windows Server 2022 Kernel: 10.0.20348.2031 Compiler: clang 15.0.7, gcc 14.1.0 (MinGW), and MSVC VS 19.39.33521 To view detailed results, visit: https://lab.dpdk.org/results/dashboard/patchsets/34312/ UNH-IOL DPDK Community Lab To manage your email subscriptions, visit: https://lab.dpdk.org/results/dashboard/preferences/subscriptions/