From mboxrd@z Thu Jan 1 00:00:00 1970 Return-Path: Received: from mails.dpdk.org (mails.dpdk.org [217.70.189.124]) by inbox.dpdk.org (Postfix) with ESMTP id 9B0EF48961 for ; Fri, 17 Oct 2025 14:55:33 +0200 (CEST) Received: from mails.dpdk.org (localhost [127.0.0.1]) by mails.dpdk.org (Postfix) with ESMTP id 95B9640269; Fri, 17 Oct 2025 14:55:33 +0200 (CEST) Received: from mail-oa1-f98.google.com (mail-oa1-f98.google.com [209.85.160.98]) by mails.dpdk.org (Postfix) with ESMTP id B5A9E40269 for ; Fri, 17 Oct 2025 14:55:32 +0200 (CEST) Received: by mail-oa1-f98.google.com with SMTP id 586e51a60fabf-3c715955a8cso2012314fac.0 for ; Fri, 17 Oct 2025 05:55:32 -0700 (PDT) DKIM-Signature: v=1; a=rsa-sha256; c=relaxed/relaxed; d=iol.unh.edu; s=unh-iol; t=1760705732; x=1761310532; darn=dpdk.org; h=cc:to:from:subject:message-id:date:from:to:cc:subject:date :message-id:reply-to; bh=/vCrAPv0YujolZDZLLScM7ruHOqPLUqXpRnXia01s5Q=; b=hPZZ6i2dNEJ7nienwVr/FvzHC1uoXcsfwZSZhIbky8ZYkcz3oTbBb0ceD/kyQ5hvHE 7hPZVh1HDX5qDrB3U30RfzoZMbd54MZe1vOGGUaH/mBFeOn/KxXvhXjj7IuQkkyJ5/Av QAH1oNgwk5+HM0kx4iwEp0RV0TtHTDueV7A4w= X-Google-DKIM-Signature: v=1; a=rsa-sha256; c=relaxed/relaxed; d=1e100.net; s=20230601; t=1760705732; x=1761310532; h=cc:to:from:subject:message-id:date:x-gm-message-state:from:to:cc :subject:date:message-id:reply-to; bh=/vCrAPv0YujolZDZLLScM7ruHOqPLUqXpRnXia01s5Q=; b=O86dptOR1u6BKq/rD0R5597mRJW1NaFP70cfQWUBDpIq5pVpvL9a0GsEXKZsc6hQGX MFtwzUJwd6Bu9GaklScyoZAD5QSc5aWSsQb1D6G3cs0YwL7gruSCOgw7Xs4W2F0CHSt5 7ubbzPsoDyDZcVZcc2MS6ogUlXhPWJJEg8XPZBJBFH2f6+bCbZ1zcNDbdX5ftLzNiiyR VkyIz0PqUgFeHQCFo0IjrPeN5KTzXR+fYXKBzgzsT0MwHsQSGpLi6wBw8SQ6t0sXPQOr VfiCazELoAI+oF6Z1VUaH3Ad/QbV7sLS+JzvdnskUo6ee6OPU3eP1mtzc1VeAq0tqM5c EEog== X-Gm-Message-State: AOJu0YzhC8fj3KXu03ubW2L5/tu9kuDB9qkpF/1Y/h5IA1fRvdTR1sRu 6h5C8ePZh4htS66ERVqSs0x26GhZ8n6zMjAVsjoEuL5bnPHtKHJm3Ri+EeaTuSNzT/QgtaMuyCb 77vEqq7ussr5GW7gcbS5el/fHGD/Tk6wubxB2NQPgCH42 X-Gm-Gg: ASbGncszbkforQo6jHkkk8FzTlnFJE8E8wl46UZ1G8NGAjHxMGb6m9ywz42uevqFfeb Z9nyacV6NhMSp+o1AlCQIIfznuDA3xuO58f/SK1OSF6NcufzdlLD/jBBJHfd1VCTGbF1sOrCOjB kCyqIDEbFCGzlJhYxdwTmLTESHvmvMdiU6poVANZ2A8kj0Hro9D4Irjid60lEmRbnP4uHT7w2h5 8jqHhzShPUtsIZnKhT4gO8tPN9IFBun9a/zeeyWH5Uz2ffZl2dzWQr8nMmDVNZZbAq68Pkmt9NY gipcwcmalCn9h4HW0Mdk7kjLy370eALAaOIIEFA15chePlRCUGAcL80D38KgxGfA+8uJrP0+IG7 +efs0865BgejfZ9NQvL5bWFvAEagykpI= X-Google-Smtp-Source: AGHT+IGcQ+u3JhIlJdfnyLWgUp6L3Jfu/eM/n47YqDo4LEoUejI7OFTGK51HfsnLrNBdc24z1hkUvAZK649M X-Received: by 2002:a05:6870:4687:b0:318:70e5:3ce with SMTP id 586e51a60fabf-3c98afba674mr1642190fac.21.1760705731923; Fri, 17 Oct 2025 05:55:31 -0700 (PDT) Received: from postal.iol.unh.edu (postal.iol.unh.edu. [132.177.123.84]) by smtp-relay.gmail.com with ESMTPS id 586e51a60fabf-3c8c8b7b262sm1884637fac.6.2025.10.17.05.55.31 (version=TLS1_2 cipher=ECDHE-ECDSA-AES128-GCM-SHA256 bits=128/128); Fri, 17 Oct 2025 05:55:31 -0700 (PDT) X-Relaying-Domain: iol.unh.edu Date: Fri, 17 Oct 2025 05:55:31 -0700 (PDT) Message-ID: <68f23cc3.050a0220.1e6ce6.e0c8SMTPIN_ADDED_MISSING@mx.google.com> Received: from [172.21.0.4] (unknown [172.18.0.240]) by postal.iol.unh.edu (Postfix) with ESMTP id 6B6E66051830; Fri, 17 Oct 2025 08:55:31 -0400 (EDT) Subject: |SUCCESS| [GIT MASTER] 6b997d6b9ffdbb4f8ecd14d1f217da69cdc783af From: dpdklab@iol.unh.edu To: Test Report Cc: dpdk-test-reports@iol.unh.edu, Bruce Richardson Content-Type: text/plain X-BeenThere: test-report@dpdk.org X-Mailman-Version: 2.1.29 Precedence: list List-Id: automatic DPDK test reports List-Unsubscribe: , List-Archive: List-Post: List-Help: List-Subscribe: , Errors-To: test-report-bounces@dpdk.org _Testing PASS_ Branch: dpdk-next-net-intel 6b997d6b9ffdbb4f8ecd14d1f217da69cdc783af --> testing pass Upstream job id: Windows-Compile-DPDK-Native#31708 Test environment and result as below: +---------------------+--------------------+-------------------+-------------------------+----------------------+ | Environment | dpdk_meson_compile | dpdk_msvc_compile | dpdk_llvm_clang_compile | dpdk_mingw64_compile | +=====================+====================+===================+=========================+======================+ | FreeBSD 14.2 | PASS | SKIPPED | SKIPPED | SKIPPED | +---------------------+--------------------+-------------------+-------------------------+----------------------+ | Ubuntu 20.04 | PASS | SKIPPED | SKIPPED | SKIPPED | +---------------------+--------------------+-------------------+-------------------------+----------------------+ | Windows Server 2022 | SKIPPED | PASS | PASS | PASS | +---------------------+--------------------+-------------------+-------------------------+----------------------+ FreeBSD 14.2 Kernel: 14.2-RELEASE Compiler: clang 18.1.6 Ubuntu 20.04 Kernel: 4.19 Compiler: gcc gcc (Ubuntu 9.4.0-1ubuntu1~20.04.2) 9.4.0 Windows Server 2022 Kernel: 10.0.20348.2031 Compiler: clang 15.0.7, gcc 14.1.0 (MinGW), and MSVC VS 19.39.33521 To view detailed results, visit: https://lab.dpdk.org/results/dashboard/tarballs/35251/ UNH-IOL DPDK Community Lab To manage your email subscriptions, visit: https://lab.dpdk.org/results/dashboard/preferences/subscriptions/