From mboxrd@z Thu Jan 1 00:00:00 1970 Return-Path: Received: from mails.dpdk.org (mails.dpdk.org [217.70.189.124]) by inbox.dpdk.org (Postfix) with ESMTP id 5FB7648961 for ; Fri, 17 Oct 2025 15:03:35 +0200 (CEST) Received: from mails.dpdk.org (localhost [127.0.0.1]) by mails.dpdk.org (Postfix) with ESMTP id 5ADB540269; Fri, 17 Oct 2025 15:03:35 +0200 (CEST) Received: from mail-vs1-f98.google.com (mail-vs1-f98.google.com [209.85.217.98]) by mails.dpdk.org (Postfix) with ESMTP id 927D340269 for ; Fri, 17 Oct 2025 15:03:34 +0200 (CEST) Received: by mail-vs1-f98.google.com with SMTP id ada2fe7eead31-5d758dba570so862880137.2 for ; Fri, 17 Oct 2025 06:03:34 -0700 (PDT) DKIM-Signature: v=1; a=rsa-sha256; c=relaxed/relaxed; d=iol.unh.edu; s=unh-iol; t=1760706214; x=1761311014; darn=dpdk.org; h=references:in-reply-to:cc:to:from:subject:message-id:date:from:to :cc:subject:date:message-id:reply-to; bh=903hReJdVFK/S+SKt+BX8YSDEgTX2ODYzPgsf8YGCVQ=; b=WfJSWHnr7kP7o8V8aB9Skj3Wpff3mmi9CtBeMxJBOjtemKy4gmLPJ4kO6GiRHAf4v5 q6/XlsZZQKhR2OFoiNUaNVEE+/ihmBqDa0powSANgbBDQDOvpvk4RM1rNRPa3U45Vop0 +HrzzkJ7UTNNxDr0V+Z8Cw/MAPpqFH8f/GR/k= X-Google-DKIM-Signature: v=1; a=rsa-sha256; c=relaxed/relaxed; d=1e100.net; s=20230601; t=1760706214; x=1761311014; h=references:in-reply-to:cc:to:from:subject:message-id:date :x-gm-message-state:from:to:cc:subject:date:message-id:reply-to; bh=903hReJdVFK/S+SKt+BX8YSDEgTX2ODYzPgsf8YGCVQ=; b=Fi/ZlUJE6MDu6fFfFKXLTFOdl0A9qDv196mkDgAfZEp6/35ewiH96cibJP9sEx3QFB 7saXgsollzDVkyDVARvs+O/ySewzMpTEDxi7cpGNWtktGpsPdVYJN+qFapfDpCOi+u05 TyiPbZUCzFbzjNIb3PlWZHhgSN4sftOedaU0vyTCAx7CrD7gVCpVngcyGeAYgyht65AV UBP+OzxLf2KE1bfqDTE3yRE/2xpbXbW2diy7sG8/jfSvUvkfTviFfxBVper3T+6wZF7H pdwSJz6Z8IldHKDs8fijsKF31Gk14XWzJzuSfQQrdrUlSmLJFrKIHPOhG9yW8Fg26Jc/ p9mw== X-Gm-Message-State: AOJu0YzokZ7k5iIbiEQuOiyv/33x1m/Vmxpo4qNZ/DbjXBXfZeqmDTln NhbyqkYHlIdYnpSXWcveUf6ELzF1Qx1jtDjD8zNAKmuh+J3SV82+3m+U/U4u0QqbrzoRJ9bvzyI l/Omkp+1kgTcOrYtcgmrt26NRIyXTf8X6OSv6hPnbn2Ow X-Gm-Gg: ASbGnctxZ+lfpZBLol4uipRUoctve4dwTNB5o1bED7sxVNDiIar9whrD2sF9E9/lOTY i+s1K1t8R0GnOqWsTi8YFVA13kS5j5YCx+DFq+1N+ShOedU7hUcFOTSv395QWpn4059Zb0y8IEC 4be1k8FhvBfrUI8OW66go3DGSscg7tH1wN0KBGjTlhoctMo4CQeYU0UiF7sgY5MYKrQkw9Yr8l4 AKVbgcyYvZPKkWqVb/oPDfcxjtn6+M2H/PAr5Gtm/acCLjpDQveDg0+VqpzRrnVD/f5G7yzErGe /dlMbzarWCpXSVkAsAoAfBYXOhFhlHECfxrj35eWRpsgEYkqMtoxIyeAI3AwQ8raZ9JSFuLDRcT S1ib7t8+G7MOGxIGQlXpYZYfRv6G6liA= X-Google-Smtp-Source: AGHT+IFK2rIAZ/F8De/eWoPklwyqGq7v6yfWYu43Hr2hsDtFHQOosA0Q1fZpdEuV9sj0rAM13H3qwat+q5fr X-Received: by 2002:a05:6102:2911:b0:4fd:35ca:6df5 with SMTP id ada2fe7eead31-5d7dd4c3ba5mr1199643137.7.1760706213917; Fri, 17 Oct 2025 06:03:33 -0700 (PDT) Received: from postal.iol.unh.edu (postal.iol.unh.edu. [132.177.123.84]) by smtp-relay.gmail.com with ESMTPS id ada2fe7eead31-5d5fc8a7539sm2664712137.3.2025.10.17.06.03.33 (version=TLS1_2 cipher=ECDHE-ECDSA-AES128-GCM-SHA256 bits=128/128); Fri, 17 Oct 2025 06:03:33 -0700 (PDT) X-Relaying-Domain: iol.unh.edu Date: Fri, 17 Oct 2025 06:03:33 -0700 (PDT) Message-ID: <68f23ea5.050a0220.11b5b5.2cd8SMTPIN_ADDED_MISSING@mx.google.com> Received: from [172.21.0.3] (unknown [172.18.0.240]) by postal.iol.unh.edu (Postfix) with ESMTP id 789DD6051830; Fri, 17 Oct 2025 09:03:33 -0400 (EDT) Subject: |SUCCESS| pw157797-157799 [PATCH] [v7,3/3] doc: note on unsupported From: dpdklab@iol.unh.edu To: Test Report Cc: dpdk-test-reports@iol.unh.edu, Bruce Richardson In-Reply-To: <20251017103415.114400-4-shaiq.wani@intel.com> References: <20251017103415.114400-4-shaiq.wani@intel.com> Content-Type: text/plain X-BeenThere: test-report@dpdk.org X-Mailman-Version: 2.1.29 Precedence: list List-Id: automatic DPDK test reports List-Unsubscribe: , List-Archive: List-Post: List-Help: List-Subscribe: , Errors-To: test-report-bounces@dpdk.org Test-Label: iol-unit-amd64-testing Test-Status: SUCCESS http://dpdk.org/patch/157799 _Testing PASS_ Submitter: Shaiq Wani Date: Friday, October 17 2025 10:34:15 DPDK git baseline: Repo:dpdk-next-net-intel Branch: master CommitID:6b997d6b9ffdbb4f8ecd14d1f217da69cdc783af 157797-157799 --> testing pass Upstream job id: Generic-VM-Unit-Test-DPDK#31880 Test environment and result as below: +-------------------------------+----------------+ | Environment | dpdk_unit_test | +===============================+================+ | CentOS Stream 10 | PASS | +-------------------------------+----------------+ | Debian GNU/Linux 12 | PASS | +-------------------------------+----------------+ | CentOS Stream 9 | PASS | +-------------------------------+----------------+ | Fedora Linux 40 | PASS | +-------------------------------+----------------+ | Fedora Linux 41 | PASS | +-------------------------------+----------------+ | Fedora Linux 42 | PASS | +-------------------------------+----------------+ | Ubuntu 20.04 | PASS | +-------------------------------+----------------+ | Red Hat Enterprise Linux 8.10 | PASS | +-------------------------------+----------------+ | Ubuntu 24.04 | PASS | +-------------------------------+----------------+ | Ubuntu 22.04 | PASS | +-------------------------------+----------------+ | Red Hat Enterprise Linux 9.5 | PASS | +-------------------------------+----------------+ | Windows Server 2022 | PASS | +-------------------------------+----------------+ CentOS Stream 10 Kernel: 5.15 Compiler: gcc gcc (GCC) 14.2.1 20250110 (Red Hat 14.2.1-8) Debian GNU/Linux 12 Kernel: 5.15 Compiler: gcc gcc (Debian 12.2.0-14+deb12u1) 12.2.0 CentOS Stream 9 Kernel: 5.15 Compiler: gcc gcc (GCC) 11.5.0 20240719 (Red Hat 11.5.0-11) Fedora Linux 40 Kernel: 5.15 Compiler: gcc gcc (GCC) 14.2.1 20240912 (Red Hat 14.2.1-3) Fedora Linux 41 Kernel: 5.15 Compiler: gcc gcc (GCC) 14.3.1 20250523 (Red Hat 14.3.1-1) Fedora Linux 42 Kernel: 5.15 Compiler: gcc gcc (GCC) 15.2.1 20250808 (Red Hat 15.2.1-1) Ubuntu 20.04 Kernel: 5.15 Compiler: gcc gcc (Ubuntu 9.4.0-1ubuntu1~20.04.2) 9.4.0 Red Hat Enterprise Linux 8.10 Kernel: 5.15 Compiler: gcc gcc (GCC) 8.5.0 20210514 (Red Hat 8.5.0-22) Ubuntu 24.04 Kernel: 5.15 Compiler: gcc gcc (Ubuntu 13.3.0-6ubuntu2~24.04) 13.3.0 Ubuntu 22.04 Kernel: 5.15 Compiler: gcc gcc (Ubuntu 11.4.0-1ubuntu1~22.04) 11.4.0 Red Hat Enterprise Linux 9.5 Kernel: 5.15 Compiler: gcc gcc (GCC) 11.5.0 20240719 (Red Hat 11.5.0-2) Windows Server 2022 Kernel: 10.0.20348.2031 Compiler: clang 15.0.7, gcc 14.1.0 (MinGW), and MSVC VS 19.39.33521 To view detailed results, visit: https://lab.dpdk.org/results/dashboard/patchsets/34311/ UNH-IOL DPDK Community Lab To manage your email subscriptions, visit: https://lab.dpdk.org/results/dashboard/preferences/subscriptions/