From mboxrd@z Thu Jan 1 00:00:00 1970 Return-Path: Received: from mails.dpdk.org (mails.dpdk.org [217.70.189.124]) by inbox.dpdk.org (Postfix) with ESMTP id 9679B48961 for ; Fri, 17 Oct 2025 15:05:24 +0200 (CEST) Received: from mails.dpdk.org (localhost [127.0.0.1]) by mails.dpdk.org (Postfix) with ESMTP id 8FA5A40269; Fri, 17 Oct 2025 15:05:24 +0200 (CEST) Received: from mail-pf1-f228.google.com (mail-pf1-f228.google.com [209.85.210.228]) by mails.dpdk.org (Postfix) with ESMTP id AED5240269 for ; Fri, 17 Oct 2025 15:05:23 +0200 (CEST) Received: by mail-pf1-f228.google.com with SMTP id d2e1a72fcca58-79ef9d1805fso1851428b3a.1 for ; Fri, 17 Oct 2025 06:05:23 -0700 (PDT) DKIM-Signature: v=1; a=rsa-sha256; c=relaxed/relaxed; d=iol.unh.edu; s=unh-iol; t=1760706323; x=1761311123; darn=dpdk.org; h=references:in-reply-to:cc:to:from:subject:message-id:date:from:to :cc:subject:date:message-id:reply-to; bh=Z4v/qA/+ybQSuLIrQNbRcaTkrGKtUJXEO7Mx4TH2nVI=; b=LpGF6nNSBudT7byFvclQgDFdNjTNrEVVI7C+8JrikWaF5tGofgDAUeH6NbZScRYMDJ n+z1NwIvtkKsggDJF3H6LL7QrTOqeKB4NvqQW0W/6iwNdiyJE7UEE0+9nCHzErUtOG8D WW7/SxQL/xiWNJ1GbTa++GwFH7ebAVgjKAmyo= X-Google-DKIM-Signature: v=1; a=rsa-sha256; c=relaxed/relaxed; d=1e100.net; s=20230601; t=1760706323; x=1761311123; h=references:in-reply-to:cc:to:from:subject:message-id:date :x-gm-message-state:from:to:cc:subject:date:message-id:reply-to; bh=Z4v/qA/+ybQSuLIrQNbRcaTkrGKtUJXEO7Mx4TH2nVI=; b=Dzo/uNxnE429NUuKO+9PHPV0SO/HIlO8LvyOQNimMc49z+HZWh28aE38amyCI8Er0y WtzJlJmp1QmtkzhcgFZaqa1PLxlITQ28NW0G617mcZ0ISCByEcUBhU0MUI2x3+lonDeT FDGlfweSOl3ygBGjFcxLgx52LS0M9Vpu09WTXFNCByOktlTyYBkd2Vx4vdBTzKPlQzHV qsdNvfTpgmfLonTC89+0gwYchhLsUkfJrQqpIYrsohQk2VbwjFy+ECAZ6Md5trjhCeiI usAu8Uw9OcdEZOqGvBx7u88ruj8PUIQe3e+4XEnKboOjG+IGcD+9BC+arS0QG6jphI3b YIhA== X-Gm-Message-State: AOJu0YwrLgfqj9jRADEWacTIWXm6jeJNsrNYgCGR+1rfDK6SSu73Fj1W lXnUUdUuMfjmoUWAz4MJVRD9x3yUWl1Klbkjb6qfwpxxelumRjw4OzwWCePsQx1Jij3j2RKF6Pz pmsKIxz7VCLBkOLPwEnjBX1QrqfCLVGZ6dubs34GWXCiXzem4FgnteIVo17Qn X-Gm-Gg: ASbGncsQM8EmiqJOptY6FbUXakJg+7GZr75IyiT4d4IReleUhsdU6AOYSJDe5zNnOVS glQ9nlBTRTSn7cP37aX+XQ+9+y6/taVAisaT/qd9czgMyKhcjLDaO4oRQAr0/FcJ+ACHlNbivHg P03ZnVLJhbSvBfWV4t/6vBCA1VsKHb757CcMZV0cuAglw1Ng2X9M5oRqGCtsWXZjiN/vxAP//H0 UYELOmSr7H/diqBCf1DIP/Wnx9ACGvtsk4NMkeqjcQTqVya/0dTVW48Vd00Oi9GR+M/ytGbFD14 mn8DxRCnyreEZLjgPKq72TdS3ZghXvmJe+lWAS2tmgssBouBRi55J+uB2i50xF1wVPdh5ZfkA8+ OwnO+ooAT X-Google-Smtp-Source: AGHT+IESLEoECyx516xbj488SR3JSqhJiIeyC8ICXGcyiSL9+MekKBhHzGi5ReNidyagFjviYxld9p45AnFf X-Received: by 2002:a17:903:11c3:b0:24c:caab:dfd2 with SMTP id d9443c01a7336-290cc10be71mr43001145ad.61.1760706322797; Fri, 17 Oct 2025 06:05:22 -0700 (PDT) Received: from postal.iol.unh.edu (postal.iol.unh.edu. [2606:4100:3880:1234::84]) by smtp-relay.gmail.com with ESMTPS id d9443c01a7336-29099ab9c65sm6434025ad.65.2025.10.17.06.05.22 (version=TLS1_2 cipher=ECDHE-ECDSA-AES128-GCM-SHA256 bits=128/128); Fri, 17 Oct 2025 06:05:22 -0700 (PDT) X-Relaying-Domain: iol.unh.edu Date: Fri, 17 Oct 2025 06:05:22 -0700 (PDT) Message-ID: <68f23f12.170a0220.37013f.f095SMTPIN_ADDED_MISSING@mx.google.com> Received: from [172.21.0.2] (unknown [172.18.0.240]) by postal.iol.unh.edu (Postfix) with ESMTP id 128826051830; Fri, 17 Oct 2025 09:05:22 -0400 (EDT) Subject: |WARNING| pw157778-157782 [PATCH] [v5,6/6] net/dpaa: fix resource le From: dpdklab@iol.unh.edu To: Test Report Cc: dpdk-test-reports@iol.unh.edu, Stephen Hemminger In-Reply-To: <20251017044848.3269627-7-g.singh@nxp.com> References: <20251017044848.3269627-7-g.singh@nxp.com> Content-Type: text/plain X-BeenThere: test-report@dpdk.org X-Mailman-Version: 2.1.29 Precedence: list List-Id: automatic DPDK test reports List-Unsubscribe: , List-Archive: List-Post: List-Help: List-Subscribe: , Errors-To: test-report-bounces@dpdk.org Test-Label: iol-compile-amd64-testing Test-Status: WARNING http://dpdk.org/patch/157782 _Testing issues_ Submitter: Gagandeep Singh Date: Friday, October 17 2025 04:48:48 DPDK git baseline: Repo:dpdk-next-net Branch: master CommitID:535c49b6264f1df239703b8250b070e4c4cda2e9 157778-157782 --> testing issues Upstream job id: Generic-DPDK-Compile-Meson#435264 Test environment and result as below: +-------------------------------+--------------------+-------------------------+-------------------+----------------------+-------------------+------------------+ | Environment | dpdk_meson_compile | dpdk_llvm_clang_compile | dpdk_msvc_compile | dpdk_mingw64_compile | dpdk_compile_spdk | dpdk_compile_ovs | +===============================+====================+=========================+===================+======================+===================+==================+ | Ubuntu 20.04 | PASS | SKIPPED | SKIPPED | SKIPPED | SKIPPED | SKIPPED | +-------------------------------+--------------------+-------------------------+-------------------+----------------------+-------------------+------------------+ | FreeBSD 14.2 | PASS | SKIPPED | SKIPPED | SKIPPED | SKIPPED | SKIPPED | +-------------------------------+--------------------+-------------------------+-------------------+----------------------+-------------------+------------------+ | CentOS Stream 9 | PASS | SKIPPED | SKIPPED | SKIPPED | WARN | SKIPPED | +-------------------------------+--------------------+-------------------------+-------------------+----------------------+-------------------+------------------+ | CentOS Stream 10 | PASS | SKIPPED | SKIPPED | SKIPPED | SKIPPED | SKIPPED | +-------------------------------+--------------------+-------------------------+-------------------+----------------------+-------------------+------------------+ | Debian GNU/Linux 12 | PASS | SKIPPED | SKIPPED | SKIPPED | WARN | SKIPPED | +-------------------------------+--------------------+-------------------------+-------------------+----------------------+-------------------+------------------+ | Fedora Linux 42 | PASS | SKIPPED | SKIPPED | SKIPPED | WARN | PASS | +-------------------------------+--------------------+-------------------------+-------------------+----------------------+-------------------+------------------+ | openSUSE Leap 15.6 | PASS | SKIPPED | SKIPPED | SKIPPED | SKIPPED | SKIPPED | +-------------------------------+--------------------+-------------------------+-------------------+----------------------+-------------------+------------------+ | Red Hat Enterprise Linux 8.10 | PASS | SKIPPED | SKIPPED | SKIPPED | SKIPPED | SKIPPED | +-------------------------------+--------------------+-------------------------+-------------------+----------------------+-------------------+------------------+ | Red Hat Enterprise Linux 9.5 | PASS | SKIPPED | SKIPPED | SKIPPED | SKIPPED | SKIPPED | +-------------------------------+--------------------+-------------------------+-------------------+----------------------+-------------------+------------------+ | Ubuntu 22.04 | PASS | SKIPPED | SKIPPED | SKIPPED | WARN | SKIPPED | +-------------------------------+--------------------+-------------------------+-------------------+----------------------+-------------------+------------------+ | Ubuntu 24.04 | PASS | SKIPPED | SKIPPED | SKIPPED | WARN | PASS | +-------------------------------+--------------------+-------------------------+-------------------+----------------------+-------------------+------------------+ | Alpine Linux 3.22.0 | PASS | SKIPPED | SKIPPED | SKIPPED | SKIPPED | SKIPPED | +-------------------------------+--------------------+-------------------------+-------------------+----------------------+-------------------+------------------+ | Windows Server 2022 | SKIPPED | PASS | PASS | PASS | SKIPPED | SKIPPED | +-------------------------------+--------------------+-------------------------+-------------------+----------------------+-------------------+------------------+ ==== 20 line log output for Ubuntu 24.04 (dpdk_compile_spdk): ==== --- Failed to get log output --- ==== End log output ==== Ubuntu 20.04 Kernel: 4.19 Compiler: gcc gcc (Ubuntu 9.4.0-1ubuntu1~20.04.2) 9.4.0 FreeBSD 14.2 Kernel: 14.2-RELEASE Compiler: clang 18.1.6 CentOS Stream 9 Kernel: 5.15 Compiler: gcc gcc (GCC) 11.5.0 20240719 (Red Hat 11.5.0-11) CentOS Stream 10 Kernel: 5.15 Compiler: gcc gcc (GCC) 14.2.1 20250110 (Red Hat 14.2.1-8) Debian GNU/Linux 12 Kernel: 5.15 Compiler: gcc gcc (Debian 12.2.0-14+deb12u1) 12.2.0 Fedora Linux 42 Kernel: 5.15 Compiler: clang gcc (GCC) 15.2.1 20250808 (Red Hat 15.2.1-1) openSUSE Leap 15.6 Kernel: 5.15 Compiler: gcc gcc (SUSE Linux) 7.5.0 Red Hat Enterprise Linux 8.10 Kernel: 5.15 Compiler: gcc gcc (GCC) 8.5.0 20210514 (Red Hat 8.5.0-22) Red Hat Enterprise Linux 9.5 Kernel: 5.15 Compiler: gcc gcc (GCC) 11.5.0 20240719 (Red Hat 11.5.0-2) Ubuntu 22.04 Kernel: 5.15 Compiler: gcc gcc (Ubuntu 11.4.0-1ubuntu1~22.04) 11.4.0 Ubuntu 24.04 Kernel: 5.15 Compiler: gcc gcc (Ubuntu 13.3.0-6ubuntu2~24.04) 13.3.0 Alpine Linux 3.22.0 Kernel: 5.15 Compiler: gcc gcc (Alpine 14.2.0) 14.2.0 Windows Server 2022 Kernel: 10.0.20348.2031 Compiler: clang 15.0.7, gcc 14.1.0 (MinGW), and MSVC VS 19.39.33521 To view detailed results, visit: https://lab.dpdk.org/results/dashboard/patchsets/34306/ UNH-IOL DPDK Community Lab To manage your email subscriptions, visit: https://lab.dpdk.org/results/dashboard/preferences/subscriptions/