From mboxrd@z Thu Jan 1 00:00:00 1970 Return-Path: Received: from mails.dpdk.org (mails.dpdk.org [217.70.189.124]) by inbox.dpdk.org (Postfix) with ESMTP id 768EE48961 for ; Fri, 17 Oct 2025 15:19:45 +0200 (CEST) Received: from mails.dpdk.org (localhost [127.0.0.1]) by mails.dpdk.org (Postfix) with ESMTP id 58DAE40269; Fri, 17 Oct 2025 15:19:45 +0200 (CEST) Received: from mail-io1-f100.google.com (mail-io1-f100.google.com [209.85.166.100]) by mails.dpdk.org (Postfix) with ESMTP id 641EF40269 for ; Fri, 17 Oct 2025 15:19:44 +0200 (CEST) Received: by mail-io1-f100.google.com with SMTP id ca18e2360f4ac-93e7d3648a8so23512839f.2 for ; Fri, 17 Oct 2025 06:19:44 -0700 (PDT) DKIM-Signature: v=1; a=rsa-sha256; c=relaxed/relaxed; d=iol.unh.edu; s=unh-iol; t=1760707183; x=1761311983; darn=dpdk.org; h=references:in-reply-to:cc:to:from:subject:message-id:date:from:to :cc:subject:date:message-id:reply-to; bh=BG5gktVrrZhQLKK3CSYKNiBphrnTePiPnvmS0hwxA2U=; b=LsqRcwBqoyvzEvU68c6vVUR/iMCSoCKhB5r4IL4b0zd451RdRVbFZrHSF7GpJPrkfp /GEBNu9ewdyAp9MVHayoeN8WRn8Rr1nbFLudelD5LQ8Dh/Of8KDHJmkvfT5SA4zLTZad vipPUKNdnprghimxqPYQzpLHRxc/hlMYUn5mI= X-Google-DKIM-Signature: v=1; a=rsa-sha256; c=relaxed/relaxed; d=1e100.net; s=20230601; t=1760707183; x=1761311983; h=references:in-reply-to:cc:to:from:subject:message-id:date :x-gm-message-state:from:to:cc:subject:date:message-id:reply-to; bh=BG5gktVrrZhQLKK3CSYKNiBphrnTePiPnvmS0hwxA2U=; b=ebxsLn0ImK3W7WET9uL5ZsjThwQg4q8GOhGNf2TfR9zT6euL0vurjRYb+U5+IgLaoI m42bPozpC9Lx2ufaTmj+uKz6TaOfFpcfwpLnfbrUL77zIziWU1jMrNBr/Z00SUM0EAi2 2WaC+GGhKEw5PzXJ/7svL8hbDibyrmGXZOwZo1bA1I+SeCuWhkt0PcRE+RXrYn3BYFfA 31WI7ITq9QXi/g3wG1iKhN94g2VMUvl5VGaE6ObeMtkNlGDCAZswg0rnYihXGFzuGh5X skytlZAtHLOzxhSUNIpnkKR3zpx6/XT/sHd5q49I9qbp1+aC7zadlvofbssnynY8xLKX cK6w== X-Gm-Message-State: AOJu0YxRMJ4+uji0FNHCpOOsZ3Vpp+knuAJ/y8AKq1ZIw1KxEm/ZnYBA r9DSoycomJey0B2RufJQis2bwrzw2nhVfw70QvyNf0pCWIv/vlD/cfWCvdvFkhgeivUdLcuLWeS P2jLrjEnh95MNV40bZjsYNcNoPl5gT/6so7Dxxp/BKP3X3pDr2OMsiraVWgSw X-Gm-Gg: ASbGncu3lfKXgYQvdU42Umntp+Fnwns4iCYn8HxfF/9xwXMiFBCid2pTSpYeEV/ahgv QgaWco6Z716dRnviRSh+xpiWixhMf03H9int3eLQwF88Blxpc8UA5MVbNuUZpQ1/6iB4GjBdZ9g tk9IL1/EVCX2ppKBCck2uQjlI/Kfm/JqVyztYtAWW3e1W+3RaVZS7aO9P4/5NEmm0z0G5RvtH5s Ugr3Jw1hMSZ+VZX4gh102C+mbZ6bd+OhfDtsVKLAVMRG3mNuu8ckJH2Nk6WnaWrPfWDX99C1mcL xfz2RQZcS08cjceRW2AJEQHd8HMAmP/LVl9yz9tNZ19fYhygVF8rEIM0BE6nZyDc6hmEYLIwvtI qw5KF0iEv X-Google-Smtp-Source: AGHT+IHpRn7fG336dbxRsZkWDhiy8/Rh3x5LkSLRqJYvG183OAf4mfg71dn8//nirclDAGChrn4YQ+8ZN9Y2 X-Received: by 2002:a05:6602:6405:b0:938:9f22:ed34 with SMTP id ca18e2360f4ac-93e7644d9d1mr540422039f.16.1760707183622; Fri, 17 Oct 2025 06:19:43 -0700 (PDT) Received: from postal.iol.unh.edu (postal.iol.unh.edu. [2606:4100:3880:1234::84]) by smtp-relay.gmail.com with ESMTPS id ca18e2360f4ac-93e25789489sm140921339f.0.2025.10.17.06.19.43 (version=TLS1_2 cipher=ECDHE-ECDSA-AES128-GCM-SHA256 bits=128/128); Fri, 17 Oct 2025 06:19:43 -0700 (PDT) X-Relaying-Domain: iol.unh.edu Date: Fri, 17 Oct 2025 06:19:43 -0700 (PDT) Message-ID: <68f2426f.6b0a0220.c705d.8da9SMTPIN_ADDED_MISSING@mx.google.com> Received: from [172.21.0.2] (unknown [172.18.0.240]) by postal.iol.unh.edu (Postfix) with ESMTP id 1E6F96051830; Fri, 17 Oct 2025 09:19:43 -0400 (EDT) Subject: |SUCCESS| pw157802-157804 [PATCH] [RFC,3/3] app/testpmd: support por From: dpdklab@iol.unh.edu To: Test Report Cc: dpdk-test-reports@iol.unh.edu, Stephen Hemminger In-Reply-To: <20251017111109.1734792-4-ciara.loftus@intel.com> References: <20251017111109.1734792-4-ciara.loftus@intel.com> Content-Type: text/plain X-BeenThere: test-report@dpdk.org X-Mailman-Version: 2.1.29 Precedence: list List-Id: automatic DPDK test reports List-Unsubscribe: , List-Archive: List-Post: List-Help: List-Subscribe: , Errors-To: test-report-bounces@dpdk.org Test-Label: iol-compile-amd64-testing Test-Status: SUCCESS http://dpdk.org/patch/157804 _Testing PASS_ Submitter: Ciara Loftus Date: Friday, October 17 2025 11:11:09 DPDK git baseline: Repo:dpdk-next-net Branch: master CommitID:535c49b6264f1df239703b8250b070e4c4cda2e9 157802-157804 --> testing pass Upstream job id: Windows-Compile-DPDK-VS#7238 Test environment and result as below: +---------------------+--------------------+-------------------+ | Environment | dpdk_meson_compile | dpdk_msvc_compile | +=====================+====================+===================+ | FreeBSD 14.2 | PASS | SKIPPED | +---------------------+--------------------+-------------------+ | Ubuntu 20.04 | PASS | SKIPPED | +---------------------+--------------------+-------------------+ | Windows Server 2022 | SKIPPED | PASS | +---------------------+--------------------+-------------------+ FreeBSD 14.2 Kernel: 14.2-RELEASE Compiler: clang 18.1.6 Ubuntu 20.04 Kernel: 4.19 Compiler: gcc gcc (Ubuntu 9.4.0-1ubuntu1~20.04.2) 9.4.0 Windows Server 2022 Kernel: 10.0.20348.2031 Compiler: clang 15.0.7, gcc 14.1.0 (MinGW), and MSVC VS 19.39.33521 To view detailed results, visit: https://lab.dpdk.org/results/dashboard/patchsets/34313/ UNH-IOL DPDK Community Lab To manage your email subscriptions, visit: https://lab.dpdk.org/results/dashboard/preferences/subscriptions/