From mboxrd@z Thu Jan 1 00:00:00 1970 Return-Path: Received: from mails.dpdk.org (mails.dpdk.org [217.70.189.124]) by inbox.dpdk.org (Postfix) with ESMTP id 6B6EB48961 for ; Fri, 17 Oct 2025 15:20:07 +0200 (CEST) Received: from mails.dpdk.org (localhost [127.0.0.1]) by mails.dpdk.org (Postfix) with ESMTP id 6888C40269; Fri, 17 Oct 2025 15:20:07 +0200 (CEST) Received: from mail-pg1-f225.google.com (mail-pg1-f225.google.com [209.85.215.225]) by mails.dpdk.org (Postfix) with ESMTP id E4CC340269 for ; Fri, 17 Oct 2025 15:20:06 +0200 (CEST) Received: by mail-pg1-f225.google.com with SMTP id 41be03b00d2f7-b57d93ae3b0so1275094a12.1 for ; Fri, 17 Oct 2025 06:20:06 -0700 (PDT) DKIM-Signature: v=1; a=rsa-sha256; c=relaxed/relaxed; d=iol.unh.edu; s=unh-iol; t=1760707206; x=1761312006; darn=dpdk.org; h=references:in-reply-to:cc:to:from:subject:message-id:date:from:to :cc:subject:date:message-id:reply-to; bh=VL7IiqIb8dvcdgzHMUDTdURUH8fQyuXMGaH0k5LAY7U=; b=UMzS7NUW0+R8yieRowjDgW9kjNKqoP+1LRznlaqV9z7hcSU1D6EgtuIumaWK6qf+1w I4owUx9MGiYhk4+DSJzZdYt23BoaWoVfHP29eEIF4WYfZxR+2EHjGHYxzV9T9m2Z3FG+ XQ0Lr7/B7HIoIGjlVJYPxwJID4GxWTRso2O0c= X-Google-DKIM-Signature: v=1; a=rsa-sha256; c=relaxed/relaxed; d=1e100.net; s=20230601; t=1760707206; x=1761312006; h=references:in-reply-to:cc:to:from:subject:message-id:date :x-gm-message-state:from:to:cc:subject:date:message-id:reply-to; bh=VL7IiqIb8dvcdgzHMUDTdURUH8fQyuXMGaH0k5LAY7U=; b=hdtQ5UJUKKLkvdIGh3lQqwbRSWB51dfGsBZC3jFrT+0nm7a9Pp9cWXb7TxlO9+/+iP RXSJO3FI/DTM0xXvuUij4gjfadtiYmfGqpv7RNuVSl8BvSMQZORhOqgXVeYFlmxlMI6Z r2WlPKaDnAX36IvWumTRA8Z1lUKW10oFu4W4r/dsuhNeQq7ziMNDVvtk+c6DMDLOm6CO PXhrlx4EfhPxDz78OwESvOWsn37GpW+d3D2CRR5kyOgmKIDIw6NEKS6eO3z0DFuDX/qN g/PhmRuB7G60sEh0rkZ6ka8VpUIYSF03/z1aYZ8nmyez2u+7iTcdIKTr0205h8Q4YWVi bkAA== X-Gm-Message-State: AOJu0YxSbg39eq53dQO28Q1fRwfc2bsmZtRN8IXCngS4VggFW7Lnd8FV eA3FkyEVZWo8GIzrNhkzhBEMdyPtDU/oIm1aM2sFFIRxkWc8YVX959XLwURtvistxFiXX3y1uDb DXpipxlSCoXj7JF35qFq3jYJXBCTsho0dKGY4I+myl88p X-Gm-Gg: ASbGncugfXyPjnGuC1RwNdGu4VwkUZRcPKZKV2xhN+IgxWTQAhtwpwJ9KTSW/N27ZGV n0yGsdOG9BH40WfYmQ6/W3K1OrRH+/nh2qb/KOL5dFYSnFnGRgBo2CURsuQVcdjoNYfxeSySG3g mS8p3JBMGYHA//WUT4L4orr4Lp+WaYChNMwl0BWMCzGTBSaIMy4CdIKQC1Cy93WF0WwF6w36ID5 Hpt6CWBD73thQXyGIfSqKedTV/p0RHyj5nCbU4HPH4v3KGZHDXQFu692eYhn558qQGsanZgcsTY cdS3V5bJIbPqWRcGpOr9opSWizmR76Bni9ch+mYmVCBkEYpm4sMehq5ePdGdKpJFmCmSyYTt5wt l1KcxFqX1qSOhJewKfMnyNcZx8oKIUH8= X-Google-Smtp-Source: AGHT+IEqbusKX0s4GDfAzRHBTtouZBMw1B2Q2DQbB3inS0DoTSRR5vutD8IYjByblHxvsS/SEd1Nn9KKOyWL X-Received: by 2002:a17:903:3bc4:b0:290:b131:31dd with SMTP id d9443c01a7336-290c99aa9a0mr43438165ad.0.1760707206018; Fri, 17 Oct 2025 06:20:06 -0700 (PDT) Received: from postal.iol.unh.edu (postal.iol.unh.edu. [132.177.123.84]) by smtp-relay.gmail.com with ESMTPS id d9443c01a7336-2909967502csm6973705ad.45.2025.10.17.06.20.05 (version=TLS1_2 cipher=ECDHE-ECDSA-AES128-GCM-SHA256 bits=128/128); Fri, 17 Oct 2025 06:20:06 -0700 (PDT) X-Relaying-Domain: iol.unh.edu Date: Fri, 17 Oct 2025 06:20:06 -0700 (PDT) Message-ID: <68f24286.170a0220.25d2d2.3491SMTPIN_ADDED_MISSING@mx.google.com> Received: from [172.21.0.2] (unknown [172.18.0.240]) by postal.iol.unh.edu (Postfix) with ESMTP id 4EB086051830; Fri, 17 Oct 2025 09:20:05 -0400 (EDT) Subject: |SUCCESS| pw157802-157804 [PATCH] [RFC,3/3] app/testpmd: support por From: dpdklab@iol.unh.edu To: Test Report Cc: dpdk-test-reports@iol.unh.edu, Stephen Hemminger In-Reply-To: <20251017111109.1734792-4-ciara.loftus@intel.com> References: <20251017111109.1734792-4-ciara.loftus@intel.com> Content-Type: text/plain X-BeenThere: test-report@dpdk.org X-Mailman-Version: 2.1.29 Precedence: list List-Id: automatic DPDK test reports List-Unsubscribe: , List-Archive: List-Post: List-Help: List-Subscribe: , Errors-To: test-report-bounces@dpdk.org Test-Label: iol-unit-amd64-testing Test-Status: SUCCESS http://dpdk.org/patch/157804 _Testing PASS_ Submitter: Ciara Loftus Date: Friday, October 17 2025 11:11:09 DPDK git baseline: Repo:dpdk-next-net Branch: master CommitID:535c49b6264f1df239703b8250b070e4c4cda2e9 157802-157804 --> testing pass Upstream job id: Generic-Unit-Test-DPDK#382770 Test environment and result as below: +-------------------------------+----------------+ | Environment | dpdk_unit_test | +===============================+================+ | CentOS Stream 10 | PASS | +-------------------------------+----------------+ | CentOS Stream 9 | PASS | +-------------------------------+----------------+ | Debian GNU/Linux 12 | PASS | +-------------------------------+----------------+ | Fedora Linux 40 | PASS | +-------------------------------+----------------+ | Fedora Linux 41 | PASS | +-------------------------------+----------------+ | Fedora Linux 42 | PASS | +-------------------------------+----------------+ | Red Hat Enterprise Linux 8.10 | PASS | +-------------------------------+----------------+ | Red Hat Enterprise Linux 9.5 | PASS | +-------------------------------+----------------+ | Ubuntu 20.04 | PASS | +-------------------------------+----------------+ | Ubuntu 22.04 | PASS | +-------------------------------+----------------+ | Ubuntu 24.04 | PASS | +-------------------------------+----------------+ CentOS Stream 10 Kernel: 5.15 Compiler: gcc gcc (GCC) 14.2.1 20250110 (Red Hat 14.2.1-8) CentOS Stream 9 Kernel: 5.15 Compiler: gcc gcc (GCC) 11.5.0 20240719 (Red Hat 11.5.0-11) Debian GNU/Linux 12 Kernel: 5.15 Compiler: gcc gcc (Debian 12.2.0-14+deb12u1) 12.2.0 Fedora Linux 40 Kernel: 5.15 Compiler: clang gcc (GCC) 14.2.1 20240912 (Red Hat 14.2.1-3) Fedora Linux 41 Kernel: 5.15 Compiler: gcc gcc (GCC) 14.3.1 20250523 (Red Hat 14.3.1-1) Fedora Linux 42 Kernel: 5.15 Compiler: gcc gcc (GCC) 15.2.1 20250808 (Red Hat 15.2.1-1) Red Hat Enterprise Linux 8.10 Kernel: 5.15 Compiler: gcc gcc (GCC) 8.5.0 20210514 (Red Hat 8.5.0-22) Red Hat Enterprise Linux 9.5 Kernel: 5.15 Compiler: gcc gcc (GCC) 11.5.0 20240719 (Red Hat 11.5.0-2) Ubuntu 20.04 Kernel: 5.15 Compiler: gcc gcc (Ubuntu 9.4.0-1ubuntu1~20.04.2) 9.4.0 Ubuntu 22.04 Kernel: 5.15 Compiler: gcc gcc (Ubuntu 11.4.0-1ubuntu1~22.04) 11.4.0 Ubuntu 24.04 Kernel: 5.15 Compiler: gcc gcc (Ubuntu 13.3.0-6ubuntu2~24.04) 13.3.0 To view detailed results, visit: https://lab.dpdk.org/results/dashboard/patchsets/34313/ UNH-IOL DPDK Community Lab To manage your email subscriptions, visit: https://lab.dpdk.org/results/dashboard/preferences/subscriptions/