From mboxrd@z Thu Jan 1 00:00:00 1970 Return-Path: Received: from mails.dpdk.org (mails.dpdk.org [217.70.189.124]) by inbox.dpdk.org (Postfix) with ESMTP id 86FA648961 for ; Fri, 17 Oct 2025 15:20:55 +0200 (CEST) Received: from mails.dpdk.org (localhost [127.0.0.1]) by mails.dpdk.org (Postfix) with ESMTP id 819E640269; Fri, 17 Oct 2025 15:20:55 +0200 (CEST) Received: from mail-pl1-f226.google.com (mail-pl1-f226.google.com [209.85.214.226]) by mails.dpdk.org (Postfix) with ESMTP id 7FB1340269 for ; Fri, 17 Oct 2025 15:20:54 +0200 (CEST) Received: by mail-pl1-f226.google.com with SMTP id d9443c01a7336-28e7cd6dbc0so23041355ad.0 for ; Fri, 17 Oct 2025 06:20:54 -0700 (PDT) DKIM-Signature: v=1; a=rsa-sha256; c=relaxed/relaxed; d=iol.unh.edu; s=unh-iol; t=1760707254; x=1761312054; darn=dpdk.org; h=references:in-reply-to:cc:to:from:subject:message-id:date:from:to :cc:subject:date:message-id:reply-to; bh=fBrVTzgS1M1k0zAZSjmjw0zx/DudXU+hrvXvEnFfvk4=; b=iz7TRLHh79lCur4XI0MMF8+WXzTeghK6hguUBSZRS8KVmKzIaCmDDo7phApxbWVl0U acVaZGZ4CEhfjwTts45GJdyO2VzbgazhD/l2CkP5JQqbBrPsM7Yf45Fc/FTFpj8BaTTp jZ8hvH08L1EcP9NXirze2ZE3zikoOrgIOYxPw= X-Google-DKIM-Signature: v=1; a=rsa-sha256; c=relaxed/relaxed; d=1e100.net; s=20230601; t=1760707254; x=1761312054; h=references:in-reply-to:cc:to:from:subject:message-id:date :x-gm-message-state:from:to:cc:subject:date:message-id:reply-to; bh=fBrVTzgS1M1k0zAZSjmjw0zx/DudXU+hrvXvEnFfvk4=; b=sOdRIuggGhAP5y0IL7Mnw1g5Yz6DwQgffj84geFWd6tUDREYaQ+2yOrhzhyUG81U4z NDtWkDF5B4rHHUmSxQOZqHUzXH8zbB7sHD29BQ//qYOelSE4aFMzEK6lOtUQIAXBgKCW Mm3fEfuPvfZ3D7G98Ck2Jd7cpUa4DEri+ikB+YNMMLQ2h06XYtZLcGbZKnGu+ODjfcHP 3TDTWW+G5kNTJnDfTzUYpWK8eSl6Q/J6QpDjWiFYYD1xni4MibQBuyCJWrrWVtuS6vVu DQYSDvK6lQPLnENGxhGKyo+XHJBvIerr24Trkj3HQsAzq3U5bBp747JNO5FrV1dlBkA9 MWGA== X-Gm-Message-State: AOJu0Yzrwi7qUrdhFxwhO4mrmGeVcYRzsjBKC56VpWPV+8cp168UgyDf fuIMgeGJLz8FkQxht+/IUcYhq0O9HAuyRe6RlLqTSeS1ZnH7pzg76HFGvZj1x9p29oHktoq20xJ J2AOzWIbTgSc+to0sO3vogeCqA6wqN5kLPy/paPhycD8AodObTYjLe8ueqyCC X-Gm-Gg: ASbGncvi3VrB2IpCEuXv2XKFAUajwGWVvxXc3FTcwraljF6ps31sYG/sWPh6YYmsA7V GjCIdPHA2BTXK+WlwA2fmEpvNnlPYi3uRzSgiUR1Zis1/hsE8yI79R6atJBcEwD/8VfUcBmXIHt rYBQrAaU4zK1kpbYAUuYqvzM45feTEtvEVWYsvpCOtszR9IExdJ237BO8B5kHiQOEU1JsxMjVqb NNLNx7Vq4IAdmeaMURgJUx35MqyNugdPkLwqpSmnhCABekb3ByUBivvA9RCz8n09Mgosi+AiyyU O2NjnLO7Tp6dvAI6mqde89tQe9oeFz+uh4G8f1xsHb/TlP8NnL+5/MEaVpNLPKhnXG4tMOrMHNH OAbxOdAGb X-Google-Smtp-Source: AGHT+IEAvTfpVDwYVzAeOviOPDv+sWEOUGa9i9Pm7xb2nwDia64rBWjQ9ONC9ONzCqfg3kUc4oXcODHU8MHC X-Received: by 2002:a17:902:cf42:b0:282:eea8:764d with SMTP id d9443c01a7336-290cb9476a7mr43344235ad.35.1760707252362; Fri, 17 Oct 2025 06:20:52 -0700 (PDT) Received: from postal.iol.unh.edu (postal.iol.unh.edu. [2606:4100:3880:1234::84]) by smtp-relay.gmail.com with ESMTPS id d9443c01a7336-2909997c988sm6299725ad.54.2025.10.17.06.20.52 (version=TLS1_2 cipher=ECDHE-ECDSA-AES128-GCM-SHA256 bits=128/128); Fri, 17 Oct 2025 06:20:52 -0700 (PDT) X-Relaying-Domain: iol.unh.edu Date: Fri, 17 Oct 2025 06:20:52 -0700 (PDT) Message-ID: <68f242b4.170a0220.17ba7a.0117SMTPIN_ADDED_MISSING@mx.google.com> Received: from [172.21.0.2] (unknown [172.18.0.240]) by postal.iol.unh.edu (Postfix) with ESMTP id C73176051830; Fri, 17 Oct 2025 09:20:51 -0400 (EDT) Subject: |SUCCESS| pw157756-157758 [PATCH] [v7,3/3] dts: update tx_offload te From: dpdklab@iol.unh.edu To: Test Report Cc: dpdk-test-reports@iol.unh.edu In-Reply-To: <20251016132421.12176-4-abailey@iol.unh.edu> References: <20251016132421.12176-4-abailey@iol.unh.edu> Content-Type: text/plain X-BeenThere: test-report@dpdk.org X-Mailman-Version: 2.1.29 Precedence: list List-Id: automatic DPDK test reports List-Unsubscribe: , List-Archive: List-Post: List-Help: List-Subscribe: , Errors-To: test-report-bounces@dpdk.org Test-Label: iol-unit-arm64-testing Test-Status: SUCCESS http://dpdk.org/patch/157758 _Testing PASS_ Submitter: Andrew Bailey Date: Thursday, October 16 2025 13:24:21 DPDK git baseline: Repo:dpdk-next-dts Branch: master CommitID:c1a9d3e5a721be9be66f0c4bfd9fa4d6e6af3b98 157756-157758 --> testing pass Upstream job id: Generic-Unit-Test-DPDK#382292 Test environment and result as below: +------------------------------+----------------+------------------------------+---------------------------+--------------+ | Environment | dpdk_unit_test | cryptodev_sw_snow3g_autotest | cryptodev_sw_zuc_autotest | lpm_autotest | +==============================+================+==============================+===========================+==============+ | Fedora Linux 40 | PASS | SKIPPED | SKIPPED | SKIPPED | +------------------------------+----------------+------------------------------+---------------------------+--------------+ | CentOS Stream 10 | PASS | SKIPPED | SKIPPED | SKIPPED | +------------------------------+----------------+------------------------------+---------------------------+--------------+ | Fedora Linux 41 | PASS | SKIPPED | SKIPPED | SKIPPED | +------------------------------+----------------+------------------------------+---------------------------+--------------+ | Debian GNU/Linux 12 | PASS | SKIPPED | SKIPPED | SKIPPED | +------------------------------+----------------+------------------------------+---------------------------+--------------+ | CentOS Stream 9 | PASS | SKIPPED | SKIPPED | SKIPPED | +------------------------------+----------------+------------------------------+---------------------------+--------------+ | Ubuntu 22.04 | PASS | SKIPPED | SKIPPED | SKIPPED | +------------------------------+----------------+------------------------------+---------------------------+--------------+ | Fedora Linux 42 | PASS | SKIPPED | SKIPPED | SKIPPED | +------------------------------+----------------+------------------------------+---------------------------+--------------+ | Ubuntu 20.04 | PASS | SKIPPED | SKIPPED | PASS | +------------------------------+----------------+------------------------------+---------------------------+--------------+ | Ubuntu 24.04 | PASS | SKIPPED | SKIPPED | SKIPPED | +------------------------------+----------------+------------------------------+---------------------------+--------------+ | Red Hat Enterprise Linux 9.5 | PASS | SKIPPED | SKIPPED | SKIPPED | +------------------------------+----------------+------------------------------+---------------------------+--------------+ | Debian 12 (arm) | SKIPPED | PASS | PASS | SKIPPED | +------------------------------+----------------+------------------------------+---------------------------+--------------+ Fedora Linux 40 Kernel: 5.4 Compiler: gcc gcc (GCC) 14.2.1 20240912 (Red Hat 14.2.1-3) CentOS Stream 10 Kernel: 5.4 Compiler: gcc gcc (GCC) 14.2.1 20250110 (Red Hat 14.2.1-8) Fedora Linux 41 Kernel: 5.4 Compiler: gcc gcc (GCC) 14.3.1 20250523 (Red Hat 14.3.1-1) Debian GNU/Linux 12 Kernel: 5.4 Compiler: gcc gcc (Debian 12.2.0-14+deb12u1) 12.2.0 CentOS Stream 9 Kernel: 5.4 Compiler: gcc gcc (GCC) 11.5.0 20240719 (Red Hat 11.5.0-11) Ubuntu 22.04 Kernel: 5.15 Compiler: gcc gcc (Ubuntu 11.4.0-1ubuntu1~22.04.2) 11.4.0 Fedora Linux 42 Kernel: 5.4 Compiler: clang gcc (GCC) 15.2.1 20250808 (Red Hat 15.2.1-1) Ubuntu 20.04 Kernel: 5.4 Compiler: gcc gcc (Ubuntu 9.4.0-1ubuntu1~20.04.2) 9.4.0 Ubuntu 24.04 Kernel: 5.4 Compiler: gcc gcc (Ubuntu 13.3.0-6ubuntu2~24.04) 13.3.0 Red Hat Enterprise Linux 9.5 Kernel: 5.4 Compiler: gcc gcc (GCC) 11.5.0 20240719 (Red Hat 11.5.0-2) Debian 12 (arm) Kernel: Depends on container host Compiler: gcc (Debian 12.2.0-14) 12.2.0 To view detailed results, visit: https://lab.dpdk.org/results/dashboard/patchsets/34301/ UNH-IOL DPDK Community Lab To manage your email subscriptions, visit: https://lab.dpdk.org/results/dashboard/preferences/subscriptions/