From mboxrd@z Thu Jan 1 00:00:00 1970 Return-Path: Received: from mails.dpdk.org (mails.dpdk.org [217.70.189.124]) by inbox.dpdk.org (Postfix) with ESMTP id B0A8548961 for ; Fri, 17 Oct 2025 15:22:22 +0200 (CEST) Received: from mails.dpdk.org (localhost [127.0.0.1]) by mails.dpdk.org (Postfix) with ESMTP id ACBCE40269; Fri, 17 Oct 2025 15:22:22 +0200 (CEST) Received: from mail-pf1-f227.google.com (mail-pf1-f227.google.com [209.85.210.227]) by mails.dpdk.org (Postfix) with ESMTP id 0DD6F40269 for ; Fri, 17 Oct 2025 15:22:22 +0200 (CEST) Received: by mail-pf1-f227.google.com with SMTP id d2e1a72fcca58-781010ff051so1484275b3a.0 for ; Fri, 17 Oct 2025 06:22:21 -0700 (PDT) DKIM-Signature: v=1; a=rsa-sha256; c=relaxed/relaxed; d=iol.unh.edu; s=unh-iol; t=1760707341; x=1761312141; darn=dpdk.org; h=references:in-reply-to:cc:to:from:subject:message-id:date:from:to :cc:subject:date:message-id:reply-to; bh=PwjGFrCWz0hTM9RnutTSWirp//tZrUOCsADkMV+3abQ=; b=QWDtap4Tux0fYot6dqKjVkkngRfemW9itD1ZwhGOJ5fyX1UVd3+JNRQ3QrrCmColSP Vi719mNHsioKyLPHgnrZEuvzaMpAKCCzd7wQOGv7qT1KH1U3dLiIEVkN+KPdvx6J52dl qREFHPLFkuWwATrxJYfVnMsVQtPbohvTuomV0= X-Google-DKIM-Signature: v=1; a=rsa-sha256; c=relaxed/relaxed; d=1e100.net; s=20230601; t=1760707341; x=1761312141; h=references:in-reply-to:cc:to:from:subject:message-id:date :x-gm-message-state:from:to:cc:subject:date:message-id:reply-to; bh=PwjGFrCWz0hTM9RnutTSWirp//tZrUOCsADkMV+3abQ=; b=C7o0MvCOCDimbLkQmRc3+X3HrJORHUrlKKxy5RI1C7uV0hUVtziLX1DkRgul+65aBH Dc+JMghQP/bBpTDVXWFcdCWZEzMOsdKx62CPnURTWsCp0K/TP6Yshnl5oBms+DDoOJyL PnTbAwDiX0jDO1TaktqgmrfEaJ4m5RcmMoR/QPTvJ0DVYYKMCdjuQYQ45fq264ly7+fl rLUOvTTLY3RQsikEiF13+9tjSZMtzaSGkSTQSKmcwH8UkSZwpRqlbYeF1ctH3YZRDRBf fX5/OmpeQ5geF6gpA7H5le2+om15lYzFe7bD8G28knZzqU/FTcaCFQAeqOvUm8km+rdt /MPg== X-Gm-Message-State: AOJu0YwcUumAYK1OC25+3iHikUT5Czw5kBrkVl4bJc3VIREMtXTHnukW 6ojr6LqlkpCISD8hIAEp77cCTM8gy7hjjfXJrTrFLivcgJ+B+h15A4ZMvyBcgs16BxJDsJPm/qV 2Qgi9ktSUc8wS7wb/Kt5XMiMR45Pj2ZtPsgWq+gtGyhsIXwVmmqyY5/PFperK X-Gm-Gg: ASbGnctazm9zSMfMNw7fJi8VxlCfJK+L1p2LE4KLMwFbu0w4dEoYVGGIybYPwtktG3e mjMk8mlG8fmEfp7WxopnehrUKtczLa1ejUIIRVSwVPWci6BLfHlnuotixAD4BLJ9o2rgf6KltIB AxBt1Ed1ID0CP0hBzwmaFM0+U2nw9GrHK8EVU1FoIe/S5NMXMgQBY753L1qfFl9qv+gos192BlT fZMDRxmllrwGc5OvESSKpWpbzFjS0aEQ0n+SXqRSzIqhdgiSEuVQvs7/DOB6TA2SBkrnwNvxEc3 i2/QGxOXI2FJXe3vDRKWZeO0dfSWQTIemuYYpPt96mFhi1ep7hxx+n9/Gp9E5lfAeBoTTrg0UOZ Z+KsZEtwg X-Google-Smtp-Source: AGHT+IH7Sgm3NUKunXlRnqIrdu0X+toXFIRUlK8G86Aafc6umT+j+dGnqBTHj6ERM5VBSGVEGPMaaF7gWQcC X-Received: by 2002:a05:6a20:3d84:b0:2fa:db45:a04c with SMTP id adf61e73a8af0-334a8519b31mr5127347637.6.1760707341228; Fri, 17 Oct 2025 06:22:21 -0700 (PDT) Received: from postal.iol.unh.edu (postal.iol.unh.edu. [2606:4100:3880:1234::84]) by smtp-relay.gmail.com with ESMTPS id d2e1a72fcca58-7992fbbb384sm2138430b3a.2.2025.10.17.06.22.21 (version=TLS1_2 cipher=ECDHE-ECDSA-AES128-GCM-SHA256 bits=128/128); Fri, 17 Oct 2025 06:22:21 -0700 (PDT) X-Relaying-Domain: iol.unh.edu Date: Fri, 17 Oct 2025 06:22:21 -0700 (PDT) Message-ID: <68f2430d.050a0220.ad705.b091SMTPIN_ADDED_MISSING@mx.google.com> Received: from [172.21.0.3] (unknown [172.18.0.240]) by postal.iol.unh.edu (Postfix) with ESMTP id 79F176051830; Fri, 17 Oct 2025 09:22:20 -0400 (EDT) Subject: |SUCCESS| pw157797-157799 [PATCH] [v7,3/3] doc: note on unsupported From: dpdklab@iol.unh.edu To: Test Report Cc: dpdk-test-reports@iol.unh.edu, Bruce Richardson In-Reply-To: <20251017103415.114400-4-shaiq.wani@intel.com> References: <20251017103415.114400-4-shaiq.wani@intel.com> Content-Type: text/plain X-BeenThere: test-report@dpdk.org X-Mailman-Version: 2.1.29 Precedence: list List-Id: automatic DPDK test reports List-Unsubscribe: , List-Archive: List-Post: List-Help: List-Subscribe: , Errors-To: test-report-bounces@dpdk.org Test-Label: iol-compile-amd64-testing Test-Status: SUCCESS http://dpdk.org/patch/157799 _Testing PASS_ Submitter: Shaiq Wani Date: Friday, October 17 2025 10:34:15 DPDK git baseline: Repo:dpdk-next-net-intel Branch: master CommitID:6b997d6b9ffdbb4f8ecd14d1f217da69cdc783af 157797-157799 --> testing pass Upstream job id: Windows-Compile-DPDK-Native#31709 Test environment and result as below: +---------------------+--------------------+-------------------+-------------------------+ | Environment | dpdk_meson_compile | dpdk_msvc_compile | dpdk_llvm_clang_compile | +=====================+====================+===================+=========================+ | FreeBSD 14.2 | PASS | SKIPPED | SKIPPED | +---------------------+--------------------+-------------------+-------------------------+ | Ubuntu 20.04 | PASS | SKIPPED | SKIPPED | +---------------------+--------------------+-------------------+-------------------------+ | Ubuntu 24.04 | PASS | SKIPPED | SKIPPED | +---------------------+--------------------+-------------------+-------------------------+ | Windows Server 2022 | SKIPPED | PASS | PASS | +---------------------+--------------------+-------------------+-------------------------+ FreeBSD 14.2 Kernel: 14.2-RELEASE Compiler: clang 18.1.6 Ubuntu 20.04 Kernel: 4.19 Compiler: gcc gcc (Ubuntu 9.4.0-1ubuntu1~20.04.2) 9.4.0 Ubuntu 24.04 Kernel: 5.15 Compiler: gcc gcc (Ubuntu 13.3.0-6ubuntu2~24.04) 13.3.0 Windows Server 2022 Kernel: 10.0.20348.2031 Compiler: clang 15.0.7, gcc 14.1.0 (MinGW), and MSVC VS 19.39.33521 To view detailed results, visit: https://lab.dpdk.org/results/dashboard/patchsets/34311/ UNH-IOL DPDK Community Lab To manage your email subscriptions, visit: https://lab.dpdk.org/results/dashboard/preferences/subscriptions/