From mboxrd@z Thu Jan 1 00:00:00 1970 Return-Path: Received: from mails.dpdk.org (mails.dpdk.org [217.70.189.124]) by inbox.dpdk.org (Postfix) with ESMTP id 1EA6148961 for ; Fri, 17 Oct 2025 15:26:44 +0200 (CEST) Received: from mails.dpdk.org (localhost [127.0.0.1]) by mails.dpdk.org (Postfix) with ESMTP id 1A82340269; Fri, 17 Oct 2025 15:26:44 +0200 (CEST) Received: from mail-io1-f99.google.com (mail-io1-f99.google.com [209.85.166.99]) by mails.dpdk.org (Postfix) with ESMTP id 230DC40269 for ; Fri, 17 Oct 2025 15:26:43 +0200 (CEST) Received: by mail-io1-f99.google.com with SMTP id ca18e2360f4ac-93607aec358so49734339f.0 for ; Fri, 17 Oct 2025 06:26:43 -0700 (PDT) DKIM-Signature: v=1; a=rsa-sha256; c=relaxed/relaxed; d=iol.unh.edu; s=unh-iol; t=1760707602; x=1761312402; darn=dpdk.org; h=references:in-reply-to:cc:to:from:subject:message-id:date:from:to :cc:subject:date:message-id:reply-to; bh=UwO8lPNCjPhDIUYykUfl6F0axyx4+/dNddbv+LaUT5k=; b=VnI7LYOqhiYZBZX29j/Lgz8Yp9vr6vb/mrF7OkYCmbbglDNFjH7oEqi0MUSaT6/1Wh lHkQFqj9FrzpMF6KjiqPxvnzumwHLHJHuQiy2r0C3jnr5EJ7JVs+tmiQUE0cQXAlm+K2 be1PFejyJ0FQRVArNlRs2dCn9273Lt3yN7eaw= X-Google-DKIM-Signature: v=1; a=rsa-sha256; c=relaxed/relaxed; d=1e100.net; s=20230601; t=1760707602; x=1761312402; h=references:in-reply-to:cc:to:from:subject:message-id:date :x-gm-message-state:from:to:cc:subject:date:message-id:reply-to; bh=UwO8lPNCjPhDIUYykUfl6F0axyx4+/dNddbv+LaUT5k=; b=I6NzgrPDeCX6sKQbu4+Z29kmwv/ZC7TECYBSetruaeGKO9Jru5Vmm0e08O2w4O9ZdB iK1Aqugy/jqWq7dNTDWY5cXpISjpWYwQECcSxqroByHffynjw8Cbgf0q0VmE9sxB0HnK 3eQk376m+Xi0a7rcexPRppehSzOGgJQDrkz2W9Q+CO49UQco62sTvXbQQKjyn0DxjkB2 4PkpYG+P2kk4UkmYKSRwzEKdvRV3nabkz1Hg/NMdliY1HSHaieI3bY52QhBQgeoO+v8W 5K+bVJnFXREKkS9SgQkr7zq5pw76UwR1yp5cbGL6ZWV3yqxrwGEY/tKj/YkLZhYxySyM qftA== X-Gm-Message-State: AOJu0YznMNNPFZf4p3qgmvFuTj7iL2N7L2DI4CJAKmm9GnAz38g+8knB M85ZtUELKHUnm201kh9BQksFzCcWHugm9lCTzRcfYO5KjXYt/wNaxfwwYkr5xr7WOrmHLhmxzHm qb6PMOGL+SsVWQ7CYhHE8Ym3w9ELGcRKw0R06dqoYQWU5wPaGn57BwLZxlNkX X-Gm-Gg: ASbGncs8m1cNDpNibIULFixE7PDd4F1noPumMaGmcY12mAYrxSsbaAMmA+1MQDEd0I8 CrPCHJOiBDekz2yCfKU8WOscWCd7ZFe1IE6Hoz+K/+K1Pekf3sosM2icBi8PkFP0AvjfoWsBal/ vcU56VA1iHUdkWq4nZR+vuQ/EGDonfmNLNWQ+6KjVHo/DZc5g9y0WWLYBZiVJG/J0krclOZ29TR uYMgxOqUHzXEGNlCLZSYlHI17AlFFOjkfVIUed80M80Vfg/W+X4K3SZAlBMPsIkApmUleRFPURV JAHCAUno9DJhKjEa85YbEf2J9KtJu0Nu2y2yxZvllkDInt+cExDWx+Dvhc2X+e3vRscPK3NfQEz gmBhCnYrK X-Google-Smtp-Source: AGHT+IEp+nlm/YUa8aPERG2f+vt0PVdkmcAq04/dXgaf8pVdeyaJQm+DRL84rtbsd3RMInx1ch6NZ7pSkRNX X-Received: by 2002:a05:6e02:1605:b0:430:a7d5:235f with SMTP id e9e14a558f8ab-430c52b5a72mr51330355ab.15.1760707602323; Fri, 17 Oct 2025 06:26:42 -0700 (PDT) Received: from postal.iol.unh.edu (postal.iol.unh.edu. [2606:4100:3880:1234::84]) by smtp-relay.gmail.com with ESMTPS id e9e14a558f8ab-430c2b1462csm3722935ab.24.2025.10.17.06.26.42 (version=TLS1_2 cipher=ECDHE-ECDSA-AES128-GCM-SHA256 bits=128/128); Fri, 17 Oct 2025 06:26:42 -0700 (PDT) X-Relaying-Domain: iol.unh.edu Date: Fri, 17 Oct 2025 06:26:42 -0700 (PDT) Message-ID: <68f24412.050a0220.32f678.241fSMTPIN_ADDED_MISSING@mx.google.com> Received: from [172.21.0.2] (unknown [172.18.0.240]) by postal.iol.unh.edu (Postfix) with ESMTP id E228D6051830; Fri, 17 Oct 2025 09:26:41 -0400 (EDT) Subject: |SUCCESS| pw157797-157799 [PATCH] [v7,3/3] doc: note on unsupported From: dpdklab@iol.unh.edu To: Test Report Cc: dpdk-test-reports@iol.unh.edu, Bruce Richardson In-Reply-To: <20251017103415.114400-4-shaiq.wani@intel.com> References: <20251017103415.114400-4-shaiq.wani@intel.com> Content-Type: text/plain X-BeenThere: test-report@dpdk.org X-Mailman-Version: 2.1.29 Precedence: list List-Id: automatic DPDK test reports List-Unsubscribe: , List-Archive: List-Post: List-Help: List-Subscribe: , Errors-To: test-report-bounces@dpdk.org Test-Label: iol-unit-amd64-testing Test-Status: SUCCESS http://dpdk.org/patch/157799 _Testing PASS_ Submitter: Shaiq Wani Date: Friday, October 17 2025 10:34:15 DPDK git baseline: Repo:dpdk-next-net-intel Branch: master CommitID:6b997d6b9ffdbb4f8ecd14d1f217da69cdc783af 157797-157799 --> testing pass Upstream job id: Generic-VM-Unit-Test-DPDK#31881 Test environment and result as below: +-------------------------------+----------------+ | Environment | dpdk_unit_test | +===============================+================+ | CentOS Stream 10 | PASS | +-------------------------------+----------------+ | Debian GNU/Linux 12 | PASS | +-------------------------------+----------------+ | CentOS Stream 9 | PASS | +-------------------------------+----------------+ | Fedora Linux 40 | PASS | +-------------------------------+----------------+ | Fedora Linux 41 | PASS | +-------------------------------+----------------+ | Fedora Linux 42 | PASS | +-------------------------------+----------------+ | Ubuntu 20.04 | PASS | +-------------------------------+----------------+ | Red Hat Enterprise Linux 8.10 | PASS | +-------------------------------+----------------+ | Ubuntu 24.04 | PASS | +-------------------------------+----------------+ | Ubuntu 22.04 | PASS | +-------------------------------+----------------+ | Red Hat Enterprise Linux 9.5 | PASS | +-------------------------------+----------------+ | Windows Server 2022 | PASS | +-------------------------------+----------------+ CentOS Stream 10 Kernel: 5.15 Compiler: gcc gcc (GCC) 14.2.1 20250110 (Red Hat 14.2.1-8) Debian GNU/Linux 12 Kernel: 5.15 Compiler: gcc gcc (Debian 12.2.0-14+deb12u1) 12.2.0 CentOS Stream 9 Kernel: 5.15 Compiler: gcc gcc (GCC) 11.5.0 20240719 (Red Hat 11.5.0-11) Fedora Linux 40 Kernel: 5.15 Compiler: gcc gcc (GCC) 14.2.1 20240912 (Red Hat 14.2.1-3) Fedora Linux 41 Kernel: 5.15 Compiler: gcc gcc (GCC) 14.3.1 20250523 (Red Hat 14.3.1-1) Fedora Linux 42 Kernel: 5.15 Compiler: gcc gcc (GCC) 15.2.1 20250808 (Red Hat 15.2.1-1) Ubuntu 20.04 Kernel: 5.15 Compiler: gcc gcc (Ubuntu 9.4.0-1ubuntu1~20.04.2) 9.4.0 Red Hat Enterprise Linux 8.10 Kernel: 5.15 Compiler: gcc gcc (GCC) 8.5.0 20210514 (Red Hat 8.5.0-22) Ubuntu 24.04 Kernel: 5.15 Compiler: gcc gcc (Ubuntu 13.3.0-6ubuntu2~24.04) 13.3.0 Ubuntu 22.04 Kernel: 5.15 Compiler: gcc gcc (Ubuntu 11.4.0-1ubuntu1~22.04) 11.4.0 Red Hat Enterprise Linux 9.5 Kernel: 5.15 Compiler: gcc gcc (GCC) 11.5.0 20240719 (Red Hat 11.5.0-2) Windows Server 2022 Kernel: 10.0.20348.2031 Compiler: clang 15.0.7, gcc 14.1.0 (MinGW), and MSVC VS 19.39.33521 To view detailed results, visit: https://lab.dpdk.org/results/dashboard/patchsets/34311/ UNH-IOL DPDK Community Lab To manage your email subscriptions, visit: https://lab.dpdk.org/results/dashboard/preferences/subscriptions/