From mboxrd@z Thu Jan 1 00:00:00 1970 Return-Path: Received: from mails.dpdk.org (mails.dpdk.org [217.70.189.124]) by inbox.dpdk.org (Postfix) with ESMTP id D97B948961 for ; Fri, 17 Oct 2025 15:33:08 +0200 (CEST) Received: from mails.dpdk.org (localhost [127.0.0.1]) by mails.dpdk.org (Postfix) with ESMTP id B1F9340269; Fri, 17 Oct 2025 15:33:08 +0200 (CEST) Received: from mail-pj1-f98.google.com (mail-pj1-f98.google.com [209.85.216.98]) by mails.dpdk.org (Postfix) with ESMTP id 5A9E240269 for ; Fri, 17 Oct 2025 15:33:07 +0200 (CEST) Received: by mail-pj1-f98.google.com with SMTP id 98e67ed59e1d1-33bafd5d2adso1627790a91.3 for ; Fri, 17 Oct 2025 06:33:07 -0700 (PDT) DKIM-Signature: v=1; a=rsa-sha256; c=relaxed/relaxed; d=iol.unh.edu; s=unh-iol; t=1760707986; x=1761312786; darn=dpdk.org; h=references:in-reply-to:cc:to:from:subject:message-id:date:from:to :cc:subject:date:message-id:reply-to; bh=VSoIXn5XkI6pdxQDLLvsvc/+9gVzRB4OhDAeKF8H3GQ=; b=IUedpV8aAANyps2fevZzxvv+sU5XD29xrZ3n2QtjyHTzs2cFU42zDpCmMztCxl25tP vMGChJ95vxCsP6m0aI/jS4+5o0rMgGK9qMDpRO+sWN6Q0NNzASiQgJD6D1ZK97utNshx vtDO9iLFuG/N8F7JfwtpPQA20R3aIbAlEfHhY= X-Google-DKIM-Signature: v=1; a=rsa-sha256; c=relaxed/relaxed; d=1e100.net; s=20230601; t=1760707986; x=1761312786; h=references:in-reply-to:cc:to:from:subject:message-id:date :x-gm-message-state:from:to:cc:subject:date:message-id:reply-to; bh=VSoIXn5XkI6pdxQDLLvsvc/+9gVzRB4OhDAeKF8H3GQ=; b=Km5e/1rcZ6wTbjH1yfeQvl0WuHLchZTlq3oxr9FuCslZoYvW0qfBANCwMr4lcpWxf1 g4Dc00HvqIi+cQhsd/bIQtzIs8Ip2T8Yvs0e2/xs5lUI9t6uPsQCGVDxmN6GzJ3G75CS Al6+YWhPT4Yt6mhLvvP2Cyyx6auF1UiUIoWwRKHTyutyFUkp+N1dldgUJbRUbZYvcIdH mW9ndKTjUvIMguhhXJezOUZO7eXSxjat9Xk00LUq/w6y/S4zLfr5Djb7UFq38g+0URnt ur91BB61aguOU7NM5AFdkr0n/Py2ZYiK3GUAamgHXLrXzsIg14RVg6tW2srvZQHJtQoV PTdA== X-Gm-Message-State: AOJu0Yynbf0b0IW7CaLGztzlQ1wzK7lmCVU4QjNadZK+kz02fZudZq4m lPoUT5p09vzlgB3tvKiYleT/cz14l0E47hu6ZYsk6z+8xQVrjxXGYmDd6nGFDaeq5ExyrHxFnnU INNOtI+tvpAJ7hJSwC5TGzjEC3+LsgQrcdmBg4ohpwKb1y7JZKqyrwucxHooe X-Gm-Gg: ASbGncsS2CcrMH7YYV8AU1OWMIdk5Xlu9bFBtme4GCKioqOca7GeRAxL6gpU8zwcQha xzyou0sSdV74XwP5OQi+bg0yuET1HWtQ4ZsnXyV93Y2k9oTo0hrgucrOlQBe78zb8lUoNwVDH/V 8HQGKah7EWTk84L69wX2NN61axpKSMKvawZJc1cpLT2NWp8+pMepmw7UumuMWamlhTxEa9YUz0m Uygu9JoFokfDNcwnhZ62TWVltDhpHsU/jpXF1/JYwy0IXKk74mW/x6v85ey1tACHgHWiuehiGr+ GALkTDTsto+jujxfcnwZrSFpJNtdWQjCyUt4d9VW0pwrIF4XQT5QrQ5u8ge5/mHsj3X5qNqav9W /8lGygnPj X-Google-Smtp-Source: AGHT+IEFF/BeyAyAAWQB7WF64vRUiXPip6YmW/a7tWwdD5PeqdeOdBbn6DZ5d1rjPrA5F1PzJJJ/o7CmsqNm X-Received: by 2002:a17:90b:4cce:b0:32e:dd8c:dd18 with SMTP id 98e67ed59e1d1-33bcf8f7617mr4946836a91.17.1760707986388; Fri, 17 Oct 2025 06:33:06 -0700 (PDT) Received: from postal.iol.unh.edu (postal.iol.unh.edu. [2606:4100:3880:1234::84]) by smtp-relay.gmail.com with ESMTPS id 98e67ed59e1d1-33bd7b565e5sm246132a91.3.2025.10.17.06.33.06 (version=TLS1_2 cipher=ECDHE-ECDSA-AES128-GCM-SHA256 bits=128/128); Fri, 17 Oct 2025 06:33:06 -0700 (PDT) X-Relaying-Domain: iol.unh.edu Date: Fri, 17 Oct 2025 06:33:06 -0700 (PDT) Message-ID: <68f24592.170a0220.294fa.ca08SMTPIN_ADDED_MISSING@mx.google.com> Received: from [172.21.0.3] (unknown [172.18.0.240]) by postal.iol.unh.edu (Postfix) with ESMTP id A552E6051830; Fri, 17 Oct 2025 09:33:05 -0400 (EDT) Subject: |WARNING| pw157783 [PATCH] [v4,1/1] lib/dma: introduce inter-process From: dpdklab@iol.unh.edu To: Test Report Cc: dpdk-test-reports@iol.unh.edu In-Reply-To: <20251017054210.3105218-1-vattunuru@marvell.com> References: <20251017054210.3105218-1-vattunuru@marvell.com> Content-Type: text/plain X-BeenThere: test-report@dpdk.org X-Mailman-Version: 2.1.29 Precedence: list List-Id: automatic DPDK test reports List-Unsubscribe: , List-Archive: List-Post: List-Help: List-Subscribe: , Errors-To: test-report-bounces@dpdk.org Test-Label: iol-compile-amd64-testing Test-Status: WARNING http://dpdk.org/patch/157783 _Testing issues_ Submitter: Vamsi Krishna Date: Friday, October 17 2025 05:42:10 DPDK git baseline: Repo:dpdk Branch: master CommitID:438491733c2d8a109574449d3d6de9b25a05c07c 157783 --> testing issues Upstream job id: Generic-DPDK-Compile-Meson#435286 Test environment and result as below: +-------------------------------+--------------------+-------------------------+-------------------+----------------------+-------------------+------------------+ | Environment | dpdk_meson_compile | dpdk_llvm_clang_compile | dpdk_msvc_compile | dpdk_mingw64_compile | dpdk_compile_spdk | dpdk_compile_ovs | +===============================+====================+=========================+===================+======================+===================+==================+ | Ubuntu 20.04 | PASS | SKIPPED | SKIPPED | SKIPPED | SKIPPED | SKIPPED | +-------------------------------+--------------------+-------------------------+-------------------+----------------------+-------------------+------------------+ | FreeBSD 14.2 | PASS | SKIPPED | SKIPPED | SKIPPED | SKIPPED | SKIPPED | +-------------------------------+--------------------+-------------------------+-------------------+----------------------+-------------------+------------------+ | CentOS Stream 9 | PASS | SKIPPED | SKIPPED | SKIPPED | WARN | SKIPPED | +-------------------------------+--------------------+-------------------------+-------------------+----------------------+-------------------+------------------+ | CentOS Stream 10 | PASS | SKIPPED | SKIPPED | SKIPPED | SKIPPED | SKIPPED | +-------------------------------+--------------------+-------------------------+-------------------+----------------------+-------------------+------------------+ | Debian GNU/Linux 12 | PASS | SKIPPED | SKIPPED | SKIPPED | WARN | SKIPPED | +-------------------------------+--------------------+-------------------------+-------------------+----------------------+-------------------+------------------+ | Fedora Linux 42 | PASS | SKIPPED | SKIPPED | SKIPPED | WARN | PASS | +-------------------------------+--------------------+-------------------------+-------------------+----------------------+-------------------+------------------+ | openSUSE Leap 15.6 | PASS | SKIPPED | SKIPPED | SKIPPED | SKIPPED | SKIPPED | +-------------------------------+--------------------+-------------------------+-------------------+----------------------+-------------------+------------------+ | Red Hat Enterprise Linux 8.10 | PASS | SKIPPED | SKIPPED | SKIPPED | SKIPPED | SKIPPED | +-------------------------------+--------------------+-------------------------+-------------------+----------------------+-------------------+------------------+ | Red Hat Enterprise Linux 9.5 | PASS | SKIPPED | SKIPPED | SKIPPED | SKIPPED | SKIPPED | +-------------------------------+--------------------+-------------------------+-------------------+----------------------+-------------------+------------------+ | Windows Server 2022 | SKIPPED | PASS | PASS | PASS | SKIPPED | SKIPPED | +-------------------------------+--------------------+-------------------------+-------------------+----------------------+-------------------+------------------+ ==== 20 line log output for Fedora Linux 42 (dpdk_compile_spdk): ==== --- Failed to get log output --- ==== End log output ==== Ubuntu 20.04 Kernel: 4.19 Compiler: gcc gcc (Ubuntu 9.4.0-1ubuntu1~20.04.2) 9.4.0 FreeBSD 14.2 Kernel: 14.2-RELEASE Compiler: clang 18.1.6 CentOS Stream 9 Kernel: 5.15 Compiler: gcc gcc (GCC) 11.5.0 20240719 (Red Hat 11.5.0-11) CentOS Stream 10 Kernel: 5.15 Compiler: gcc gcc (GCC) 14.2.1 20250110 (Red Hat 14.2.1-8) Debian GNU/Linux 12 Kernel: 5.15 Compiler: gcc gcc (Debian 12.2.0-14+deb12u1) 12.2.0 Fedora Linux 42 Kernel: 5.15 Compiler: clang gcc (GCC) 15.2.1 20250808 (Red Hat 15.2.1-1) openSUSE Leap 15.6 Kernel: 5.15 Compiler: gcc gcc (SUSE Linux) 7.5.0 Red Hat Enterprise Linux 8.10 Kernel: 5.15 Compiler: gcc gcc (GCC) 8.5.0 20210514 (Red Hat 8.5.0-22) Red Hat Enterprise Linux 9.5 Kernel: 5.15 Compiler: gcc gcc (GCC) 11.5.0 20240719 (Red Hat 11.5.0-2) Windows Server 2022 Kernel: 10.0.20348.2031 Compiler: clang 15.0.7, gcc 14.1.0 (MinGW), and MSVC VS 19.39.33521 To view detailed results, visit: https://lab.dpdk.org/results/dashboard/patchsets/34308/ UNH-IOL DPDK Community Lab To manage your email subscriptions, visit: https://lab.dpdk.org/results/dashboard/preferences/subscriptions/