From mboxrd@z Thu Jan 1 00:00:00 1970 Return-Path: Received: from mails.dpdk.org (mails.dpdk.org [217.70.189.124]) by inbox.dpdk.org (Postfix) with ESMTP id 5641848961 for ; Fri, 17 Oct 2025 15:39:57 +0200 (CEST) Received: from mails.dpdk.org (localhost [127.0.0.1]) by mails.dpdk.org (Postfix) with ESMTP id 50FAF40269; Fri, 17 Oct 2025 15:39:57 +0200 (CEST) Received: from mail-qv1-f98.google.com (mail-qv1-f98.google.com [209.85.219.98]) by mails.dpdk.org (Postfix) with ESMTP id A212A40269 for ; Fri, 17 Oct 2025 15:39:56 +0200 (CEST) Received: by mail-qv1-f98.google.com with SMTP id 6a1803df08f44-87c11268b97so31429766d6.3 for ; Fri, 17 Oct 2025 06:39:56 -0700 (PDT) DKIM-Signature: v=1; a=rsa-sha256; c=relaxed/relaxed; d=iol.unh.edu; s=unh-iol; t=1760708396; x=1761313196; darn=dpdk.org; h=references:in-reply-to:cc:to:from:subject:message-id:date:from:to :cc:subject:date:message-id:reply-to; bh=AWgyBp8a5e20LbZOS9Sk/Jsx6b1n/escsuwxeG2m3lw=; b=BSkat2FXRZBIvjtFHZW+VysL4O6AQBNRBAS/B/KlWlR6SZ8FhQlUxTWHyqiD9jsb7A zr7npHRpUWK3StrxyjCgnAHrtJy+6bp7t8PgHARlxQoW3fejxRlImnkrnDDM/BrS+d3Z Onsjv5zojKm4A4jg1Ur8O+hzN1XRSFzDWTsfE= X-Google-DKIM-Signature: v=1; a=rsa-sha256; c=relaxed/relaxed; d=1e100.net; s=20230601; t=1760708396; x=1761313196; h=references:in-reply-to:cc:to:from:subject:message-id:date :x-gm-message-state:from:to:cc:subject:date:message-id:reply-to; bh=AWgyBp8a5e20LbZOS9Sk/Jsx6b1n/escsuwxeG2m3lw=; b=i9swi1qb+1GgS2WdEqSrEn6dYKlFTxyX0saToNwXiWXGoWvO8wOhsQfyVKN2GnWSAZ jEJqiVp6IaKEfloFDkTIjtiRveOlfatZMpt2FgKz407RnzzWHL6B2ldKKoSKMtDRsXC+ JOlpOwHajGfu1vnEdO+IXGl3zlsWjsODezNtPl6qYpjRNKGzGZJTAqQKqbhzaYYKof/j Eclej9xtbHdlLS0+LMbxG8/onHKRWp3LDhttwwqyEvYVQsl59T7RdjwT3hFTxxJ8uIAS qK0bgqaW8c6wyTMIH163z3OwFUN8GzGU5mti1BZPBk+A1ghIgHiivMWZPC8cfOz78zyE Vdow== X-Gm-Message-State: AOJu0YxQjhq9ph33j1UvZmiTqSKFVDO9s1oiqF+KeU8IxqQ7lMXSgwOr DQr1+MookEJ8OAiiBWXqWLE8I5VF4TjHDlXuLCLlaTXCw9hGrpDr600mrFj4exX7jtiueBUZq2O rOVI/bT8/Vi4XbCfX9EklzS9a7OzSu6AxnPqzHld7hBSFMkYsi+vKT/Yt8XXZ X-Gm-Gg: ASbGncu3xrnA+gnEIuExmuqHpJBlV8fcllfiXZTUxUayH6MipQDqv6L3gDaUJlhWxC/ lwq3cW99542BkNC2VKStgiGETYr1R0+9CRZvZW+fJLcbqqHUx01OGmzhY2+bVbXj1UtQ0Op8/cu xtm4hkW9DD1YnCzAp59RlQd54iBez5BXGkjkpOxOPMCrPFR7NAPmfCIQ0JwdhSU+kHE8FOZ+1cb gscvAvB8rmBFgsXfAD6Cvr00UcadVZFhHnCqPb87Jy122uxi4zBSm7QIESZETCtiiwJnheUteum NUHWvLTkhwGJrhQaE4T+h5xl7V6H+vyQTi2GqM48/Qq+AFaA6rkxr8QEZSJOxhuhc6+i2AhP+Em 6/P5JUFmO X-Google-Smtp-Source: AGHT+IHK/1b/al1IWEl7HkOiY1pVvva27Nt7Q+OaBp5B75FXKXSprGQob+EoKroD3zwd+PVLXMW4onvFr1pF X-Received: by 2002:a05:6214:23cb:b0:87c:108f:676c with SMTP id 6a1803df08f44-87c2075c6famr59305516d6.25.1760708396045; Fri, 17 Oct 2025 06:39:56 -0700 (PDT) Received: from postal.iol.unh.edu (postal.iol.unh.edu. [2606:4100:3880:1234::84]) by smtp-relay.gmail.com with ESMTPS id 6a1803df08f44-87c1ecae991sm3474226d6.16.2025.10.17.06.39.55 (version=TLS1_2 cipher=ECDHE-ECDSA-AES128-GCM-SHA256 bits=128/128); Fri, 17 Oct 2025 06:39:56 -0700 (PDT) X-Relaying-Domain: iol.unh.edu Date: Fri, 17 Oct 2025 06:39:56 -0700 (PDT) Message-ID: <68f2472c.d40a0220.6d215.0e33SMTPIN_ADDED_MISSING@mx.google.com> Received: from [172.21.0.4] (unknown [172.18.0.240]) by postal.iol.unh.edu (Postfix) with ESMTP id 5620F6051830; Fri, 17 Oct 2025 09:39:55 -0400 (EDT) Subject: |SUCCESS| pw157797-157799 [PATCH] [v7,3/3] doc: note on unsupported From: dpdklab@iol.unh.edu To: Test Report Cc: dpdk-test-reports@iol.unh.edu, Bruce Richardson In-Reply-To: <20251017103415.114400-4-shaiq.wani@intel.com> References: <20251017103415.114400-4-shaiq.wani@intel.com> Content-Type: text/plain X-BeenThere: test-report@dpdk.org X-Mailman-Version: 2.1.29 Precedence: list List-Id: automatic DPDK test reports List-Unsubscribe: , List-Archive: List-Post: List-Help: List-Subscribe: , Errors-To: test-report-bounces@dpdk.org Test-Label: iol-compile-amd64-testing Test-Status: SUCCESS http://dpdk.org/patch/157799 _Testing PASS_ Submitter: Shaiq Wani Date: Friday, October 17 2025 10:34:15 DPDK git baseline: Repo:dpdk-next-net-intel Branch: master CommitID:6b997d6b9ffdbb4f8ecd14d1f217da69cdc783af 157797-157799 --> testing pass Upstream job id: Windows-Compile-DPDK-Native#31710 Test environment and result as below: +---------------------+--------------------+-------------------+-------------------------+----------------------+ | Environment | dpdk_meson_compile | dpdk_msvc_compile | dpdk_llvm_clang_compile | dpdk_mingw64_compile | +=====================+====================+===================+=========================+======================+ | FreeBSD 14.2 | PASS | SKIPPED | SKIPPED | SKIPPED | +---------------------+--------------------+-------------------+-------------------------+----------------------+ | Ubuntu 20.04 | PASS | SKIPPED | SKIPPED | SKIPPED | +---------------------+--------------------+-------------------+-------------------------+----------------------+ | Ubuntu 24.04 | PASS | SKIPPED | SKIPPED | SKIPPED | +---------------------+--------------------+-------------------+-------------------------+----------------------+ | Windows Server 2022 | SKIPPED | PASS | PASS | PASS | +---------------------+--------------------+-------------------+-------------------------+----------------------+ FreeBSD 14.2 Kernel: 14.2-RELEASE Compiler: clang 18.1.6 Ubuntu 20.04 Kernel: 4.19 Compiler: gcc gcc (Ubuntu 9.4.0-1ubuntu1~20.04.2) 9.4.0 Ubuntu 24.04 Kernel: 5.15 Compiler: gcc gcc (Ubuntu 13.3.0-6ubuntu2~24.04) 13.3.0 Windows Server 2022 Kernel: 10.0.20348.2031 Compiler: clang 15.0.7, gcc 14.1.0 (MinGW), and MSVC VS 19.39.33521 To view detailed results, visit: https://lab.dpdk.org/results/dashboard/patchsets/34311/ UNH-IOL DPDK Community Lab To manage your email subscriptions, visit: https://lab.dpdk.org/results/dashboard/preferences/subscriptions/