From mboxrd@z Thu Jan 1 00:00:00 1970 Return-Path: Received: from mails.dpdk.org (mails.dpdk.org [217.70.189.124]) by inbox.dpdk.org (Postfix) with ESMTP id D3B9848961 for ; Fri, 17 Oct 2025 15:44:53 +0200 (CEST) Received: from mails.dpdk.org (localhost [127.0.0.1]) by mails.dpdk.org (Postfix) with ESMTP id CE4A440269; Fri, 17 Oct 2025 15:44:53 +0200 (CEST) Received: from mail-pf1-f226.google.com (mail-pf1-f226.google.com [209.85.210.226]) by mails.dpdk.org (Postfix) with ESMTP id 7CFB740269 for ; Fri, 17 Oct 2025 15:44:52 +0200 (CEST) Received: by mail-pf1-f226.google.com with SMTP id d2e1a72fcca58-77f67ba775aso2736658b3a.3 for ; Fri, 17 Oct 2025 06:44:52 -0700 (PDT) DKIM-Signature: v=1; a=rsa-sha256; c=relaxed/relaxed; d=iol.unh.edu; s=unh-iol; t=1760708691; x=1761313491; darn=dpdk.org; h=references:in-reply-to:cc:to:from:subject:message-id:date:from:to :cc:subject:date:message-id:reply-to; bh=K7rkRHqONSjUQpRx7y376UHHPW9kc0d70NI+T0k2s8w=; b=hHOR3sPdimDA7obrC/oDIbkXaHLcfndsEo19Zm7LwLU5zqxqlE3vdXSGxeE0JpuY89 NDHlf4/ykrn1iBXfPgTFC7hyKKRJdKK2kHPSHWieexCtPyCE16bpEnQd4h9d1nzCPwfG HwqEKkXXKkFbNgJnQVT9iQ0GAC7Z3Dz7gmG+s= X-Google-DKIM-Signature: v=1; a=rsa-sha256; c=relaxed/relaxed; d=1e100.net; s=20230601; t=1760708691; x=1761313491; h=references:in-reply-to:cc:to:from:subject:message-id:date :x-gm-message-state:from:to:cc:subject:date:message-id:reply-to; bh=K7rkRHqONSjUQpRx7y376UHHPW9kc0d70NI+T0k2s8w=; b=eTP/m98yIRozFYA4cvwKxjIrxEjzzAZ4RO97O9vVeZCJJRvd5CznuNTsUNGz60ZMFx EWPeeY8r1HUeq2Hmymivdy+jeP7xmh5shERrNH9zVwR9S7/b0QyovYIh8ytR/vG7rP9C wNwkC5TP8Yu1Y3HRNvnqbLiQX4JCW5f+9Aw7RvnSUQqVDRL2KZeFt4I6hikUbvn3T/K/ bRd2NiY7XF3gJs6JdsoAmus9XAIk66sSTuxWbrRtKPcoCuLJ71oCroBaEr94yHyehiA8 Du3qfKn6OrDeCzYR68J46cU8WwNcVuwDEApClS4NR2P86Hcq4fixn2t+2HV4qXObx1j5 nVww== X-Gm-Message-State: AOJu0YwsOttgICP2ILMqgj3tR44Yhk/LvjDgPu/azK0cZ8J6MuwSi+pX lHLN5ft2laWTKPa4Gpjlfrd8WsD9u57Wv2WODIJLMOOSng5m1/gTe8q9nE07V9MezIhfOug7qRZ SMo9TAP03GrNOYh3iRtZ3+EHIiJuPGHWLTVU+obFGDB2LbfhGsXW12M1cHXx2 X-Gm-Gg: ASbGnctAYee5ek/5wvBEidJGxsF0G5NPUi8177cHAMdthtg6gc3wqUWn6i/5HcnUZOo WtIG3kQn4x4SXRW4TxWzz6W+B2CVBDYBECDraaf7fjQV/2oKwLrk6eQJ0Tbgl4DVvQuUIH8Ko3Z UWldOSAOcFWqyKITSACHEytT+EkhKY85ayTRM+7A/vPguI9G+D9O/B1mzjbBGMxNKfrD/zsRB0M TEXxRicT5xmvpFCfIS7LgTapxyC4BIhj9Fill8/nxxmBP/yVvPqIbgaS6Z5SlOpy44zXtat2eIw zg21scH1otWaVOTl5PZgajgTg11kRtt4PogenRSfj4qbHYkdSeubHa2LIbwWFzlePLEdV9zNFIc RsYjeaL8f X-Google-Smtp-Source: AGHT+IFuHVFr9cFXDFwV9fbm9qieEq1CnargnIKb7dvogB+dT5iya1ZqJj5xRszQnd4sPKEEAMsVpcJGr8P0 X-Received: by 2002:a17:903:2309:b0:262:9c4:5470 with SMTP id d9443c01a7336-290caf85241mr46941745ad.28.1760708691457; Fri, 17 Oct 2025 06:44:51 -0700 (PDT) Received: from postal.iol.unh.edu (postal.iol.unh.edu. [2606:4100:3880:1234::84]) by smtp-relay.gmail.com with ESMTPS id d9443c01a7336-29099a9af75sm6184355ad.59.2025.10.17.06.44.51 (version=TLS1_2 cipher=ECDHE-ECDSA-AES128-GCM-SHA256 bits=128/128); Fri, 17 Oct 2025 06:44:51 -0700 (PDT) X-Relaying-Domain: iol.unh.edu Date: Fri, 17 Oct 2025 06:44:51 -0700 (PDT) Message-ID: <68f24853.170a0220.176a24.dd89SMTPIN_ADDED_MISSING@mx.google.com> Received: from [172.21.0.2] (unknown [172.18.0.240]) by postal.iol.unh.edu (Postfix) with ESMTP id 447FA6051830; Fri, 17 Oct 2025 09:44:50 -0400 (EDT) Subject: |SUCCESS| pw157805 [PATCH] net/tap: fix interrupt callback crash aft From: dpdklab@iol.unh.edu To: Test Report Cc: dpdk-test-reports@iol.unh.edu, Stephen Hemminger In-Reply-To: <20251017121946.421658-2-rjarry@redhat.com> References: <20251017121946.421658-2-rjarry@redhat.com> Content-Type: text/plain X-BeenThere: test-report@dpdk.org X-Mailman-Version: 2.1.29 Precedence: list List-Id: automatic DPDK test reports List-Unsubscribe: , List-Archive: List-Post: List-Help: List-Subscribe: , Errors-To: test-report-bounces@dpdk.org Test-Label: iol-unit-amd64-testing Test-Status: SUCCESS http://dpdk.org/patch/157805 _Testing PASS_ Submitter: Robin Jarry Date: Friday, October 17 2025 12:19:47 DPDK git baseline: Repo:dpdk-next-net Branch: master CommitID:535c49b6264f1df239703b8250b070e4c4cda2e9 157805 --> testing pass Upstream job id: Generic-Unit-Test-DPDK#382791 Test environment and result as below: +-------------------------------+----------------+ | Environment | dpdk_unit_test | +===============================+================+ | CentOS Stream 9 | PASS | +-------------------------------+----------------+ | CentOS Stream 10 | PASS | +-------------------------------+----------------+ | Debian GNU/Linux 12 | PASS | +-------------------------------+----------------+ | Fedora Linux 41 | PASS | +-------------------------------+----------------+ | Fedora Linux 40 | PASS | +-------------------------------+----------------+ | Fedora Linux 42 | PASS | +-------------------------------+----------------+ | Red Hat Enterprise Linux 8.10 | PASS | +-------------------------------+----------------+ | Ubuntu 22.04 | PASS | +-------------------------------+----------------+ | Ubuntu 20.04 | PASS | +-------------------------------+----------------+ | Red Hat Enterprise Linux 9.5 | PASS | +-------------------------------+----------------+ | Ubuntu 24.04 | PASS | +-------------------------------+----------------+ CentOS Stream 9 Kernel: 5.15 Compiler: gcc gcc (GCC) 11.5.0 20240719 (Red Hat 11.5.0-11) CentOS Stream 10 Kernel: 5.15 Compiler: gcc gcc (GCC) 14.2.1 20250110 (Red Hat 14.2.1-8) Debian GNU/Linux 12 Kernel: 5.15 Compiler: gcc gcc (Debian 12.2.0-14+deb12u1) 12.2.0 Fedora Linux 41 Kernel: 5.15 Compiler: gcc gcc (GCC) 14.3.1 20250523 (Red Hat 14.3.1-1) Fedora Linux 40 Kernel: 5.15 Compiler: clang gcc (GCC) 14.2.1 20240912 (Red Hat 14.2.1-3) Fedora Linux 42 Kernel: 5.15 Compiler: gcc gcc (GCC) 15.2.1 20250808 (Red Hat 15.2.1-1) Red Hat Enterprise Linux 8.10 Kernel: 5.15 Compiler: gcc gcc (GCC) 8.5.0 20210514 (Red Hat 8.5.0-22) Ubuntu 22.04 Kernel: 5.15 Compiler: gcc gcc (Ubuntu 11.4.0-1ubuntu1~22.04) 11.4.0 Ubuntu 20.04 Kernel: 5.15 Compiler: gcc gcc (Ubuntu 9.4.0-1ubuntu1~20.04.2) 9.4.0 Red Hat Enterprise Linux 9.5 Kernel: 5.15 Compiler: gcc gcc (GCC) 11.5.0 20240719 (Red Hat 11.5.0-2) Ubuntu 24.04 Kernel: 5.15 Compiler: gcc gcc (Ubuntu 13.3.0-6ubuntu2~24.04) 13.3.0 To view detailed results, visit: https://lab.dpdk.org/results/dashboard/patchsets/34314/ UNH-IOL DPDK Community Lab To manage your email subscriptions, visit: https://lab.dpdk.org/results/dashboard/preferences/subscriptions/