From mboxrd@z Thu Jan 1 00:00:00 1970 Return-Path: Received: from mails.dpdk.org (mails.dpdk.org [217.70.189.124]) by inbox.dpdk.org (Postfix) with ESMTP id 0440748961 for ; Fri, 17 Oct 2025 15:46:34 +0200 (CEST) Received: from mails.dpdk.org (localhost [127.0.0.1]) by mails.dpdk.org (Postfix) with ESMTP id F2F62427AA; Fri, 17 Oct 2025 15:46:33 +0200 (CEST) Received: from mail-vk1-f225.google.com (mail-vk1-f225.google.com [209.85.221.225]) by mails.dpdk.org (Postfix) with ESMTP id A8A35427AA for ; Fri, 17 Oct 2025 15:46:32 +0200 (CEST) Received: by mail-vk1-f225.google.com with SMTP id 71dfb90a1353d-54bc04b9d07so765228e0c.1 for ; Fri, 17 Oct 2025 06:46:32 -0700 (PDT) DKIM-Signature: v=1; a=rsa-sha256; c=relaxed/relaxed; d=iol.unh.edu; s=unh-iol; t=1760708792; x=1761313592; darn=dpdk.org; h=references:in-reply-to:cc:to:from:subject:message-id:date:from:to :cc:subject:date:message-id:reply-to; bh=kAY8f4OIaZhli8swfHmggbcJYjZXTJMqNQYXvj97Lbc=; b=X+lk75D/nmpjx0WfWsrjux2C3fQNxeqtPHLcyS0bEecFF3fsZkXbHG1FDz+bX98cBU 1PTiMUlCO/r+9fyzQNFxFAhiQ8P2L6e7eewJLCIDyr3tLTaJvlPLkk7WcNSSZ+9uXLhC 3Btm8ZXcIA4LoqDsUG+kITaj4Rdva1GzjP1+8= X-Google-DKIM-Signature: v=1; a=rsa-sha256; c=relaxed/relaxed; d=1e100.net; s=20230601; t=1760708792; x=1761313592; h=references:in-reply-to:cc:to:from:subject:message-id:date :x-gm-message-state:from:to:cc:subject:date:message-id:reply-to; bh=kAY8f4OIaZhli8swfHmggbcJYjZXTJMqNQYXvj97Lbc=; b=Zvl/8xugGAjCknzwh/M9hzaY1Zg6xNTvIuXq/6ehCbF1nSj6OpaiUMVwlPwF4CTpJr 5zRDt9W4/fGZhmBJ/z3V2gVs0YnsH1r172WnexU6sih/yCrz1Y2FkiRKel3grh1378aN FaHoH5RnNZWl3kKiQW5gR4aVL9GIVnoY9ZVESi8X2GRmLajZjGDRToiwSdb2LKQW2AQc cog+XAXe1ZwgEwzP1i1Pwg7CfJYNuJqlDPMlmlb/YO7BXQRKiUuUZYV4h2ayM65CGYxs munv4CTVrr5NaNHEAsnmtQk2ZnIyYA13aKSbGit02GhogpuId2IfLqcrOVxitqFdy5Qf e3kQ== X-Gm-Message-State: AOJu0YyynnzbB/tkl4y/dWeNtEe2cq9BrWO54kY1qcKk9R10cuYi2Irn 6nXmw7rdbHo3pqRO3x9pXoo1f4RRCiNa8UhfpDRHBvGLqsz/89KyQKj1QOucWea7eDN4nEZm9Ni vwSVrCoisgDImMq1qhRqep0mlGxNtuKrziwb8qVnmCG8E/dJHPmk/cdCHz53w X-Gm-Gg: ASbGncsrYFUxlaRaLzLngFf6FGDbvNN33Cah4LHeR2kLiMkqm7MN8+l/Q3/z9qeWR+M h9AMMgjTZY7xxPChaDlqHvWb3EQKLHw9PqmSs0lZwwx6v6SPgx5E+WK8tgN9iCAPnJeCF2X6qMU pxgoNIDCqx+D3AehBLACFR0zSbN1sGSg5yGmVwqRsku2JQFMmiDppbso/EAO/6tumf+jMbJ8yMt 8X4g1hgVFky0crddO695EHcttCTGtstmzFdvWp8PaK2+6VU0v3htSOHYnjmGNKzKU9hdK8DW2pT Dr3oumQFe4RIs8nMTV3uYteVIOgIEq6ej8CyR8RvjxClNPsHqk5uPqoclCtUm7VXyfD8DRRnbdE VatUqehBQ X-Google-Smtp-Source: AGHT+IEhBQN6QbanW8qXgZttiPD6PS5MUKDgy8LQ3o0HFT1iJGoF7BeiMAhjTMaZquTtXOTumNz0GppEFRbK X-Received: by 2002:a05:6122:179f:b0:556:4136:40fb with SMTP id 71dfb90a1353d-5564ef3affcmr1278841e0c.10.1760708791946; Fri, 17 Oct 2025 06:46:31 -0700 (PDT) Received: from postal.iol.unh.edu (postal.iol.unh.edu. [2606:4100:3880:1234::84]) by smtp-relay.gmail.com with ESMTPS id 71dfb90a1353d-554d803b7fcsm2193245e0c.8.2025.10.17.06.46.31 (version=TLS1_2 cipher=ECDHE-ECDSA-AES128-GCM-SHA256 bits=128/128); Fri, 17 Oct 2025 06:46:31 -0700 (PDT) X-Relaying-Domain: iol.unh.edu Date: Fri, 17 Oct 2025 06:46:31 -0700 (PDT) Message-ID: <68f248b7.050a0220.27047e.c874SMTPIN_ADDED_MISSING@mx.google.com> Received: from [172.21.0.3] (unknown [172.18.0.240]) by postal.iol.unh.edu (Postfix) with ESMTP id 34F746051830; Fri, 17 Oct 2025 09:46:31 -0400 (EDT) Subject: |SUCCESS| pw157800-157801 [PATCH] [2/2] app/pdump: improve cmdline a From: dpdklab@iol.unh.edu To: Test Report Cc: dpdk-test-reports@iol.unh.edu In-Reply-To: <20251017110638.1094371-2-bruce.richardson@intel.com> References: <20251017110638.1094371-2-bruce.richardson@intel.com> Content-Type: text/plain X-BeenThere: test-report@dpdk.org X-Mailman-Version: 2.1.29 Precedence: list List-Id: automatic DPDK test reports List-Unsubscribe: , List-Archive: List-Post: List-Help: List-Subscribe: , Errors-To: test-report-bounces@dpdk.org Test-Label: iol-unit-amd64-testing Test-Status: SUCCESS http://dpdk.org/patch/157801 _Testing PASS_ Submitter: Bruce Richardson Date: Friday, October 17 2025 11:06:37 DPDK git baseline: Repo:dpdk Branch: master CommitID:438491733c2d8a109574449d3d6de9b25a05c07c 157800-157801 --> testing pass Upstream job id: Generic-VM-Unit-Test-DPDK#31882 Test environment and result as below: +-------------------------------+----------------+ | Environment | dpdk_unit_test | +===============================+================+ | Debian GNU/Linux 12 | PASS | +-------------------------------+----------------+ | CentOS Stream 9 | PASS | +-------------------------------+----------------+ | Fedora Linux 41 | PASS | +-------------------------------+----------------+ | Fedora Linux 40 | PASS | +-------------------------------+----------------+ | CentOS Stream 10 | PASS | +-------------------------------+----------------+ | Fedora Linux 42 | PASS | +-------------------------------+----------------+ | Ubuntu 20.04 | PASS | +-------------------------------+----------------+ | Red Hat Enterprise Linux 9.5 | PASS | +-------------------------------+----------------+ | Red Hat Enterprise Linux 8.10 | PASS | +-------------------------------+----------------+ | Ubuntu 22.04 | PASS | +-------------------------------+----------------+ | Ubuntu 24.04 | PASS | +-------------------------------+----------------+ | Windows Server 2022 | PASS | +-------------------------------+----------------+ Debian GNU/Linux 12 Kernel: 5.15 Compiler: gcc gcc (Debian 12.2.0-14+deb12u1) 12.2.0 CentOS Stream 9 Kernel: 5.15 Compiler: gcc gcc (GCC) 11.5.0 20240719 (Red Hat 11.5.0-11) Fedora Linux 41 Kernel: 5.15 Compiler: clang gcc (GCC) 14.3.1 20250523 (Red Hat 14.3.1-1) Fedora Linux 40 Kernel: 5.15 Compiler: gcc gcc (GCC) 14.2.1 20240912 (Red Hat 14.2.1-3) CentOS Stream 10 Kernel: 5.15 Compiler: gcc gcc (GCC) 14.2.1 20250110 (Red Hat 14.2.1-8) Fedora Linux 42 Kernel: 5.15 Compiler: gcc gcc (GCC) 15.2.1 20250808 (Red Hat 15.2.1-1) Ubuntu 20.04 Kernel: 5.15 Compiler: gcc gcc (Ubuntu 9.4.0-1ubuntu1~20.04.2) 9.4.0 Red Hat Enterprise Linux 9.5 Kernel: 5.15 Compiler: gcc gcc (GCC) 11.5.0 20240719 (Red Hat 11.5.0-2) Red Hat Enterprise Linux 8.10 Kernel: 5.15 Compiler: gcc gcc (GCC) 8.5.0 20210514 (Red Hat 8.5.0-22) Ubuntu 22.04 Kernel: 5.15 Compiler: gcc gcc (Ubuntu 11.4.0-1ubuntu1~22.04) 11.4.0 Ubuntu 24.04 Kernel: 5.15 Compiler: gcc gcc (Ubuntu 13.3.0-6ubuntu2~24.04) 13.3.0 Windows Server 2022 Kernel: 10.0.20348.2031 Compiler: clang 15.0.7, gcc 14.1.0 (MinGW), and MSVC VS 19.39.33521 To view detailed results, visit: https://lab.dpdk.org/results/dashboard/patchsets/34312/ UNH-IOL DPDK Community Lab To manage your email subscriptions, visit: https://lab.dpdk.org/results/dashboard/preferences/subscriptions/