From mboxrd@z Thu Jan 1 00:00:00 1970 Return-Path: Received: from mails.dpdk.org (mails.dpdk.org [217.70.189.124]) by inbox.dpdk.org (Postfix) with ESMTP id 6545448961 for ; Fri, 17 Oct 2025 15:48:57 +0200 (CEST) Received: from mails.dpdk.org (localhost [127.0.0.1]) by mails.dpdk.org (Postfix) with ESMTP id 46687427AA; Fri, 17 Oct 2025 15:48:57 +0200 (CEST) Received: from mail-il1-f227.google.com (mail-il1-f227.google.com [209.85.166.227]) by mails.dpdk.org (Postfix) with ESMTP id E8D3A427AA for ; Fri, 17 Oct 2025 15:48:55 +0200 (CEST) Received: by mail-il1-f227.google.com with SMTP id e9e14a558f8ab-430cd27de3eso1165715ab.1 for ; Fri, 17 Oct 2025 06:48:55 -0700 (PDT) DKIM-Signature: v=1; a=rsa-sha256; c=relaxed/relaxed; d=iol.unh.edu; s=unh-iol; t=1760708935; x=1761313735; darn=dpdk.org; h=references:in-reply-to:cc:to:from:subject:message-id:date:from:to :cc:subject:date:message-id:reply-to; bh=Tn/dnfjxSWgDXKuTPMB7gY9pQvUxlFo68wtKvs5iNdo=; b=Q/xNcpRTYVQxM3ug2IDBm//xhJwK/VmKtjcDpyKDtghHUVQiriUkcErit0cRVilE4R cjDZMvUnaoQsyYOSGh+zLYMlXnX/PV2YWbz7hSVF8R64lkzvtrRkd91YifC35i8/Oi8Z YoRG859JyAqY8YwxpkTmCvjaUEz24yVOAfuXI= X-Google-DKIM-Signature: v=1; a=rsa-sha256; c=relaxed/relaxed; d=1e100.net; s=20230601; t=1760708935; x=1761313735; h=references:in-reply-to:cc:to:from:subject:message-id:date :x-gm-message-state:from:to:cc:subject:date:message-id:reply-to; bh=Tn/dnfjxSWgDXKuTPMB7gY9pQvUxlFo68wtKvs5iNdo=; b=mr4imIUPz+Mcs+it0Vvm8V5ZrZaNVb3ZfT+uZY1PBTgXluDNg8kr4xsfmcQYKV91w3 OJTiEAtJw1FQan5DOuwTGzoD982Muh1BsaAJ6XmXd27pKdx2TU0gmXpjcND6NO7xdND1 I5GxD6aewN2hZ9PtxMdxpGkMSq2h+xAT7RcUIk9rvV2VB/1ltVNojKGaM+xBDJKRj4P3 hRQlOOsAQRf+TKWc8ZvttTHr2pgYsnMTNFgkmomvsyBdXvvr9LHiaUbGHyCJWTWE6qVy rceILgYCn3coB7QM+m9eV4wShcMvCbs44VGoe6MaTg2APu6O/cBA9FtIlmJP7YVHRGyA CsBQ== X-Gm-Message-State: AOJu0YxwO203c84NaIi5mXNZ5lWtljljoq8x81lbYvnEZ+OCpEm9X8mm nuIiVUbQ0+3xsJannLDMSa+Y6C1JnjllYcD23XaPvmAIkIf71eRBr11AJKAivvp+1+2gnOdcTak Koxm6oIuAwkRHgYIaqhgsxD6KDy2cMH1BTAL4phnp1xAN4ay+Tmbzocubj6g4 X-Gm-Gg: ASbGnculkl6nlopiJyoPO4rpZBYB3+xxI8CuuNpG6ZZ5XzTWUtmf8Os3viQaVNUdKaU Zz4uLqSKb1YlhD2flXir+jf3e4+X4cvEtFhhGVZesO90TDa+0Ns4L5QBHbUcbC34z4oe9ga/vnP 7G28fKKPSyna9+kG65bnHy+cyW7d6lFIS2rqAQc/6Z+m9+nOVQ+ScnPba1bul1jllexd/+fClK4 6yYrUXHDdPLfnJDyMJW7Ml15Q4NNzdyNDML+JHg9WmCcbEACgbG/p/hYICBb88bCqGuSHO4Lmvm RxOYMkbF/6Hgnh0ROzWqQU+mbu+KN1KU7yQ/o0H1Y8u8d9kbF/vwZT9kzduS5uOU8CnUXSHRSL8 eqTUGb5Iu X-Google-Smtp-Source: AGHT+IHj1rTBzBfgSYvX0XtKXyVr1xYv1Z9Plvh/o1DHzC3tDr194hXPUTQIzJ0bs2U+AirXCVmU0C7UCeAF X-Received: by 2002:a05:6e02:4510:b0:430:cad8:45fc with SMTP id e9e14a558f8ab-430cad847a8mr19697175ab.29.1760708935102; Fri, 17 Oct 2025 06:48:55 -0700 (PDT) Received: from postal.iol.unh.edu (postal.iol.unh.edu. [2606:4100:3880:1234::84]) by smtp-relay.gmail.com with ESMTPS id 8926c6da1cb9f-5a76f58e6fdsm233368173.16.2025.10.17.06.48.54 (version=TLS1_2 cipher=ECDHE-ECDSA-AES128-GCM-SHA256 bits=128/128); Fri, 17 Oct 2025 06:48:55 -0700 (PDT) X-Relaying-Domain: iol.unh.edu Date: Fri, 17 Oct 2025 06:48:55 -0700 (PDT) Message-ID: <68f24947.050a0220.d5314.be8fSMTPIN_ADDED_MISSING@mx.google.com> Received: from [172.21.0.2] (unknown [172.18.0.240]) by postal.iol.unh.edu (Postfix) with ESMTP id C8CAC6051830; Fri, 17 Oct 2025 09:48:53 -0400 (EDT) Subject: |SUCCESS| pw157800-157801 [PATCH] [2/2] app/pdump: improve cmdline a From: dpdklab@iol.unh.edu To: Test Report Cc: dpdk-test-reports@iol.unh.edu In-Reply-To: <20251017110638.1094371-2-bruce.richardson@intel.com> References: <20251017110638.1094371-2-bruce.richardson@intel.com> Content-Type: text/plain X-BeenThere: test-report@dpdk.org X-Mailman-Version: 2.1.29 Precedence: list List-Id: automatic DPDK test reports List-Unsubscribe: , List-Archive: List-Post: List-Help: List-Subscribe: , Errors-To: test-report-bounces@dpdk.org Test-Label: iol-compile-amd64-testing Test-Status: SUCCESS http://dpdk.org/patch/157801 _Testing PASS_ Submitter: Bruce Richardson Date: Friday, October 17 2025 11:06:37 DPDK git baseline: Repo:dpdk Branch: master CommitID:438491733c2d8a109574449d3d6de9b25a05c07c 157800-157801 --> testing pass Upstream job id: Windows-Compile-DPDK-Native#31711 Test environment and result as below: +---------------------+--------------------+-------------------+-------------------------+ | Environment | dpdk_meson_compile | dpdk_msvc_compile | dpdk_llvm_clang_compile | +=====================+====================+===================+=========================+ | Ubuntu 20.04 | PASS | SKIPPED | SKIPPED | +---------------------+--------------------+-------------------+-------------------------+ | FreeBSD 14.2 | PASS | SKIPPED | SKIPPED | +---------------------+--------------------+-------------------+-------------------------+ | Windows Server 2022 | SKIPPED | PASS | PASS | +---------------------+--------------------+-------------------+-------------------------+ Ubuntu 20.04 Kernel: 4.19 Compiler: gcc gcc (Ubuntu 9.4.0-1ubuntu1~20.04.2) 9.4.0 FreeBSD 14.2 Kernel: 14.2-RELEASE Compiler: clang 18.1.6 Windows Server 2022 Kernel: 10.0.20348.2031 Compiler: clang 15.0.7, gcc 14.1.0 (MinGW), and MSVC VS 19.39.33521 To view detailed results, visit: https://lab.dpdk.org/results/dashboard/patchsets/34312/ UNH-IOL DPDK Community Lab To manage your email subscriptions, visit: https://lab.dpdk.org/results/dashboard/preferences/subscriptions/