automatic DPDK test reports
 help / color / mirror / Atom feed
From: dpdklab@iol.unh.edu
To: Test Report <test-report@dpdk.org>
Cc: dpdk-test-reports@iol.unh.edu
Subject: |SUCCESS| pw157800-157801 [PATCH] [2/2] app/pdump: improve cmdline a
Date: Fri, 17 Oct 2025 06:49:58 -0700 (PDT)	[thread overview]
Message-ID: <68f24986.050a0220.30ff25.1ec4SMTPIN_ADDED_MISSING@mx.google.com> (raw)
In-Reply-To: <20251017110638.1094371-2-bruce.richardson@intel.com>

Test-Label: iol-compile-amd64-testing
Test-Status: SUCCESS
http://dpdk.org/patch/157801

_Testing PASS_

Submitter: Bruce Richardson <bruce.richardson@intel.com>
Date: Friday, October 17 2025 11:06:37 
DPDK git baseline: Repo:dpdk
  Branch: master
  CommitID:438491733c2d8a109574449d3d6de9b25a05c07c

157800-157801 --> testing pass

Upstream job id: Windows-Compile-DPDK-Native#31712

Test environment and result as below:

+---------------------+--------------------+-------------------+-------------------------+----------------------+
|     Environment     | dpdk_meson_compile | dpdk_msvc_compile | dpdk_llvm_clang_compile | dpdk_mingw64_compile |
+=====================+====================+===================+=========================+======================+
| Ubuntu 20.04        | PASS               | SKIPPED           | SKIPPED                 | SKIPPED              |
+---------------------+--------------------+-------------------+-------------------------+----------------------+
| FreeBSD 14.2        | PASS               | SKIPPED           | SKIPPED                 | SKIPPED              |
+---------------------+--------------------+-------------------+-------------------------+----------------------+
| Windows Server 2022 | SKIPPED            | PASS              | PASS                    | PASS                 |
+---------------------+--------------------+-------------------+-------------------------+----------------------+


Ubuntu 20.04
	Kernel: 4.19
	Compiler: gcc gcc (Ubuntu 9.4.0-1ubuntu1~20.04.2) 9.4.0

FreeBSD 14.2
	Kernel: 14.2-RELEASE
	Compiler: clang 18.1.6

Windows Server 2022
	Kernel: 10.0.20348.2031
	Compiler: clang 15.0.7, gcc 14.1.0 (MinGW), and MSVC VS 19.39.33521

To view detailed results, visit:
https://lab.dpdk.org/results/dashboard/patchsets/34312/

UNH-IOL DPDK Community Lab

To manage your email subscriptions, visit: 
https://lab.dpdk.org/results/dashboard/preferences/subscriptions/

  parent reply	other threads:[~2025-10-17 13:50 UTC|newest]

Thread overview: 30+ messages / expand[flat|nested]  mbox.gz  Atom feed  top
     [not found] <20251017110638.1094371-2-bruce.richardson@intel.com>
2025-10-17 10:33 ` |SUCCESS| pw157800-157801 [PATCH 2/2] app/pdump: improve cmdline argument handling qemudev
2025-10-17 10:38 ` qemudev
2025-10-17 11:07 ` |SUCCESS| pw157801 " checkpatch
2025-10-17 11:32 ` |PENDING| pw157800-157801 [PATCH] [2/2] app/pdump: improve cmdline a dpdklab
2025-10-17 11:36 ` |SUCCESS| " dpdklab
2025-10-17 11:40 ` dpdklab
2025-10-17 11:40 ` dpdklab
2025-10-17 11:44 ` dpdklab
2025-10-17 11:52 ` dpdklab
2025-10-17 11:53 ` |PENDING| " dpdklab
2025-10-17 11:54 ` dpdklab
2025-10-17 12:03 ` |SUCCESS| " dpdklab
2025-10-17 12:22 ` dpdklab
2025-10-17 12:27 ` dpdklab
2025-10-17 12:39 ` dpdklab
2025-10-17 12:54 ` dpdklab
2025-10-17 13:05 ` |SUCCESS| pw157801 [PATCH 2/2] app/pdump: improve cmdline argument handling 0-day Robot
2025-10-17 13:06 ` 0-day Robot
2025-10-17 13:21 ` |SUCCESS| pw157800-157801 [PATCH] [2/2] app/pdump: improve cmdline a dpdklab
2025-10-17 13:46 ` dpdklab
2025-10-17 13:48 ` dpdklab
2025-10-17 13:49 ` dpdklab [this message]
2025-10-17 14:06 ` dpdklab
2025-10-17 15:23 ` dpdklab
2025-10-17 15:48 ` dpdklab
2025-10-17 17:26 ` |WARNING| " dpdklab
2025-10-17 17:31 ` |PENDING| " dpdklab
2025-10-17 17:53 ` |WARNING| " dpdklab
2025-10-17 22:52 ` |SUCCESS| " dpdklab
2025-10-17 22:53 ` dpdklab

Reply instructions:

You may reply publicly to this message via plain-text email
using any one of the following methods:

* Save the following mbox file, import it into your mail client,
  and reply-to-all from there: mbox

  Avoid top-posting and favor interleaved quoting:
  https://en.wikipedia.org/wiki/Posting_style#Interleaved_style

* Reply using the --to, --cc, and --in-reply-to
  switches of git-send-email(1):

  git send-email \
    --in-reply-to=68f24986.050a0220.30ff25.1ec4SMTPIN_ADDED_MISSING@mx.google.com \
    --to=dpdklab@iol.unh.edu \
    --cc=dpdk-test-reports@iol.unh.edu \
    --cc=test-report@dpdk.org \
    /path/to/YOUR_REPLY

  https://kernel.org/pub/software/scm/git/docs/git-send-email.html

* If your mail client supports setting the In-Reply-To header
  via mailto: links, try the mailto: link
Be sure your reply has a Subject: header at the top and a blank line before the message body.
This is a public inbox, see mirroring instructions
for how to clone and mirror all data and code used for this inbox;
as well as URLs for NNTP newsgroup(s).