From mboxrd@z Thu Jan 1 00:00:00 1970 Return-Path: Received: from mails.dpdk.org (mails.dpdk.org [217.70.189.124]) by inbox.dpdk.org (Postfix) with ESMTP id 7440748961 for ; Fri, 17 Oct 2025 15:50:01 +0200 (CEST) Received: from mails.dpdk.org (localhost [127.0.0.1]) by mails.dpdk.org (Postfix) with ESMTP id 6FB2A427AA; Fri, 17 Oct 2025 15:50:01 +0200 (CEST) Received: from mail-oa1-f97.google.com (mail-oa1-f97.google.com [209.85.160.97]) by mails.dpdk.org (Postfix) with ESMTP id CCD77427AA for ; Fri, 17 Oct 2025 15:49:59 +0200 (CEST) Received: by mail-oa1-f97.google.com with SMTP id 586e51a60fabf-35acca93e00so1185779fac.2 for ; Fri, 17 Oct 2025 06:49:59 -0700 (PDT) DKIM-Signature: v=1; a=rsa-sha256; c=relaxed/relaxed; d=iol.unh.edu; s=unh-iol; t=1760708999; x=1761313799; darn=dpdk.org; h=references:in-reply-to:cc:to:from:subject:message-id:date:from:to :cc:subject:date:message-id:reply-to; bh=XM8crXXAuzjvGBQqnH8qEvdDLzkwGFCRDBV95tiX3ZA=; b=jwlH8Ztp0Qqkh9QJMxt6daWCZhfiwpUgHq7QBzxoNUMrEC65kJd5j+jDmXBr9Bl5L0 snojB618UlMrPH/yxkP3CV9hNelTmD2hQsa5BOcYN2r2G01SZq73+VKZ42w4hQMQ7fgK cvwvJ1J81qAIGoP+UEmCc2pzJdjkQJD1vPuKA= X-Google-DKIM-Signature: v=1; a=rsa-sha256; c=relaxed/relaxed; d=1e100.net; s=20230601; t=1760708999; x=1761313799; h=references:in-reply-to:cc:to:from:subject:message-id:date :x-gm-message-state:from:to:cc:subject:date:message-id:reply-to; bh=XM8crXXAuzjvGBQqnH8qEvdDLzkwGFCRDBV95tiX3ZA=; b=sxmFX5OiGzk1pLBbt325thItMICtfolUZomqA5t4/w9Uyv9nE64guIHjtm0qjom8RO B3tjh0eaRKcehMPp1xyiMltDhBet4ZqW9HOV3Qm4xwAPZx7lfu/QmML4WTS9HuyLvS3o odapuz6LJ/iYyxJYZGdhWzHY90Gy+ewzE0o2kDnoRxD8zM4jEtSKm90g3lmePtL8GCi8 aehkVZcAx/cgjtBnQkrtKxaESUxfdKFMbfpVYoQlJFRBAe3aKrf11ffOF/QnOzAQcXHN RWW0YyvVq99Yqk/ZC2/ZuuXLy8yW+uXJaySNd+nPOnggOTT7sQ+n7ptrrG2SYZzriEPU I3yQ== X-Gm-Message-State: AOJu0Yw8+Crb7nxhydjR41lvFKTiG5CfUon6G0dsMLHvsbo8TZJjpv3F fDGHCr3n4fwiyiLCweyMvUkCzWRs1ZwF1+kAyth/kpkeo2dKR98HpGNjO+AJA1GSz2gW2sAFaA+ 85295n8IseRfd0/jIgRpzOIbWpUVZWf99Zw/vZHKl0h6/OekXaJpNWrcJF5z+ X-Gm-Gg: ASbGncvkIRpoIiIj6vSVg03xOomKj68Ol48wL6cS4+XXbQSzne+GQZeIxkMUxWpXv6q 1aMj48v+HNgQNpwgcullWLyIcJFexFwJwezw3GxBMT4leePXShQEXSG4wQe9mMrv4OPUY1tgj4R j0m7PfNr7cNIkXyWQB0cJSWUCtiimyRSgp++H9jgCoybatY1te/IgTbwpAYToemSsxoRjlhJesK +v0pukSm2pBVDNAgt/fziHeAPsY0AFZ87KvnQu1tc8qzQDGsGs2ugWj9NCkOgA1jFIVJCwyIKIk J3OSVRZcLdXfuakBcUZ0Q6eVztlfdwY1ON2PFTVWGLW800vThCUEFjo5Eq1A9e/W9rQ4TlvUW9B KbxrKHn2v X-Google-Smtp-Source: AGHT+IEkWMcFUL1chtJWQTq9AVK9I1Bcu8V/4o864vrgNB47+cuYI1c6X84tdVxAL2wRfeQ7CqV1XBvu5Mee X-Received: by 2002:a05:6871:2ec9:b0:375:94a0:166d with SMTP id 586e51a60fabf-3c98cf14278mr1544167fac.5.1760708998937; Fri, 17 Oct 2025 06:49:58 -0700 (PDT) Received: from postal.iol.unh.edu (postal.iol.unh.edu. [2606:4100:3880:1234::84]) by smtp-relay.gmail.com with ESMTPS id 586e51a60fabf-3c8c8b7da77sm1995952fac.8.2025.10.17.06.49.58 (version=TLS1_2 cipher=ECDHE-ECDSA-AES128-GCM-SHA256 bits=128/128); Fri, 17 Oct 2025 06:49:58 -0700 (PDT) X-Relaying-Domain: iol.unh.edu Date: Fri, 17 Oct 2025 06:49:58 -0700 (PDT) Message-ID: <68f24986.050a0220.30ff25.1ec4SMTPIN_ADDED_MISSING@mx.google.com> Received: from [172.21.0.2] (unknown [172.18.0.240]) by postal.iol.unh.edu (Postfix) with ESMTP id B6E7D6051830; Fri, 17 Oct 2025 09:49:57 -0400 (EDT) Subject: |SUCCESS| pw157800-157801 [PATCH] [2/2] app/pdump: improve cmdline a From: dpdklab@iol.unh.edu To: Test Report Cc: dpdk-test-reports@iol.unh.edu In-Reply-To: <20251017110638.1094371-2-bruce.richardson@intel.com> References: <20251017110638.1094371-2-bruce.richardson@intel.com> Content-Type: text/plain X-BeenThere: test-report@dpdk.org X-Mailman-Version: 2.1.29 Precedence: list List-Id: automatic DPDK test reports List-Unsubscribe: , List-Archive: List-Post: List-Help: List-Subscribe: , Errors-To: test-report-bounces@dpdk.org Test-Label: iol-compile-amd64-testing Test-Status: SUCCESS http://dpdk.org/patch/157801 _Testing PASS_ Submitter: Bruce Richardson Date: Friday, October 17 2025 11:06:37 DPDK git baseline: Repo:dpdk Branch: master CommitID:438491733c2d8a109574449d3d6de9b25a05c07c 157800-157801 --> testing pass Upstream job id: Windows-Compile-DPDK-Native#31712 Test environment and result as below: +---------------------+--------------------+-------------------+-------------------------+----------------------+ | Environment | dpdk_meson_compile | dpdk_msvc_compile | dpdk_llvm_clang_compile | dpdk_mingw64_compile | +=====================+====================+===================+=========================+======================+ | Ubuntu 20.04 | PASS | SKIPPED | SKIPPED | SKIPPED | +---------------------+--------------------+-------------------+-------------------------+----------------------+ | FreeBSD 14.2 | PASS | SKIPPED | SKIPPED | SKIPPED | +---------------------+--------------------+-------------------+-------------------------+----------------------+ | Windows Server 2022 | SKIPPED | PASS | PASS | PASS | +---------------------+--------------------+-------------------+-------------------------+----------------------+ Ubuntu 20.04 Kernel: 4.19 Compiler: gcc gcc (Ubuntu 9.4.0-1ubuntu1~20.04.2) 9.4.0 FreeBSD 14.2 Kernel: 14.2-RELEASE Compiler: clang 18.1.6 Windows Server 2022 Kernel: 10.0.20348.2031 Compiler: clang 15.0.7, gcc 14.1.0 (MinGW), and MSVC VS 19.39.33521 To view detailed results, visit: https://lab.dpdk.org/results/dashboard/patchsets/34312/ UNH-IOL DPDK Community Lab To manage your email subscriptions, visit: https://lab.dpdk.org/results/dashboard/preferences/subscriptions/