automatic DPDK test reports
 help / color / mirror / Atom feed
From: dpdklab@iol.unh.edu
To: Test Report <test-report@dpdk.org>
Cc: dpdk-test-reports@iol.unh.edu,
	Stephen Hemminger <stephen@networkplumber.org>
Subject: |SUCCESS| pw157802-157804 [PATCH] [RFC,3/3] app/testpmd: support por
Date: Fri, 17 Oct 2025 06:53:02 -0700 (PDT)	[thread overview]
Message-ID: <68f24a3e.170a0220.10cc20.5f73SMTPIN_ADDED_MISSING@mx.google.com> (raw)
In-Reply-To: <20251017111109.1734792-4-ciara.loftus@intel.com>

Test-Label: iol-compile-amd64-testing
Test-Status: SUCCESS
http://dpdk.org/patch/157804

_Testing PASS_

Submitter: Ciara Loftus <ciara.loftus@intel.com>
Date: Friday, October 17 2025 11:11:09 
DPDK git baseline: Repo:dpdk-next-net
  Branch: master
  CommitID:535c49b6264f1df239703b8250b070e4c4cda2e9

157802-157804 --> testing pass

Upstream job id: Windows-Compile-DPDK-Native#31713

Test environment and result as below:

+---------------------+--------------------+-------------------+-------------------------+
|     Environment     | dpdk_meson_compile | dpdk_msvc_compile | dpdk_llvm_clang_compile |
+=====================+====================+===================+=========================+
| FreeBSD 14.2        | PASS               | SKIPPED           | SKIPPED                 |
+---------------------+--------------------+-------------------+-------------------------+
| Ubuntu 20.04        | PASS               | SKIPPED           | SKIPPED                 |
+---------------------+--------------------+-------------------+-------------------------+
| Windows Server 2022 | SKIPPED            | PASS              | PASS                    |
+---------------------+--------------------+-------------------+-------------------------+


FreeBSD 14.2
	Kernel: 14.2-RELEASE
	Compiler: clang 18.1.6

Ubuntu 20.04
	Kernel: 4.19
	Compiler: gcc gcc (Ubuntu 9.4.0-1ubuntu1~20.04.2) 9.4.0

Windows Server 2022
	Kernel: 10.0.20348.2031
	Compiler: clang 15.0.7, gcc 14.1.0 (MinGW), and MSVC VS 19.39.33521

To view detailed results, visit:
https://lab.dpdk.org/results/dashboard/patchsets/34313/

UNH-IOL DPDK Community Lab

To manage your email subscriptions, visit: 
https://lab.dpdk.org/results/dashboard/preferences/subscriptions/

  parent reply	other threads:[~2025-10-17 13:53 UTC|newest]

Thread overview: 30+ messages / expand[flat|nested]  mbox.gz  Atom feed  top
     [not found] <20251017111109.1734792-4-ciara.loftus@intel.com>
2025-10-17 10:39 ` |SUCCESS| pw157802-157804 [RFC 3/3] app/testpmd: support port reinitialisation qemudev
2025-10-17 10:45 ` qemudev
2025-10-17 11:12 ` |SUCCESS| pw157804 " checkpatch
2025-10-17 11:49 ` |SUCCESS| pw157802-157804 [PATCH] [RFC,3/3] app/testpmd: support por dpdklab
2025-10-17 11:49 ` dpdklab
2025-10-17 11:53 ` dpdklab
2025-10-17 12:01 ` dpdklab
2025-10-17 12:14 ` dpdklab
2025-10-17 12:17 ` dpdklab
2025-10-17 12:26 ` |PENDING| " dpdklab
2025-10-17 12:29 ` |SUCCESS| " dpdklab
2025-10-17 12:29 ` |PENDING| " dpdklab
2025-10-17 12:39 ` |SUCCESS| " dpdklab
2025-10-17 12:58 ` dpdklab
2025-10-17 13:06 ` |SUCCESS| pw157804 [RFC 3/3] app/testpmd: support port reinitialisation 0-day Robot
2025-10-17 13:06 ` 0-day Robot
2025-10-17 13:19 ` |SUCCESS| pw157802-157804 [PATCH] [RFC,3/3] app/testpmd: support por dpdklab
2025-10-17 13:20 ` dpdklab
2025-10-17 13:53 ` dpdklab [this message]
2025-10-17 13:56 ` dpdklab
2025-10-17 14:30 ` dpdklab
2025-10-17 14:39 ` dpdklab
2025-10-17 14:51 ` dpdklab
2025-10-17 15:55 ` dpdklab
2025-10-17 16:14 ` dpdklab
2025-10-17 18:13 ` |PENDING| " dpdklab
2025-10-17 18:20 ` |WARNING| " dpdklab
2025-10-17 18:58 ` dpdklab
2025-10-17 23:05 ` |SUCCESS| " dpdklab
2025-10-18  5:55 ` dpdklab

Reply instructions:

You may reply publicly to this message via plain-text email
using any one of the following methods:

* Save the following mbox file, import it into your mail client,
  and reply-to-all from there: mbox

  Avoid top-posting and favor interleaved quoting:
  https://en.wikipedia.org/wiki/Posting_style#Interleaved_style

* Reply using the --to, --cc, and --in-reply-to
  switches of git-send-email(1):

  git send-email \
    --in-reply-to=68f24a3e.170a0220.10cc20.5f73SMTPIN_ADDED_MISSING@mx.google.com \
    --to=dpdklab@iol.unh.edu \
    --cc=dpdk-test-reports@iol.unh.edu \
    --cc=stephen@networkplumber.org \
    --cc=test-report@dpdk.org \
    /path/to/YOUR_REPLY

  https://kernel.org/pub/software/scm/git/docs/git-send-email.html

* If your mail client supports setting the In-Reply-To header
  via mailto: links, try the mailto: link
Be sure your reply has a Subject: header at the top and a blank line before the message body.
This is a public inbox, see mirroring instructions
for how to clone and mirror all data and code used for this inbox;
as well as URLs for NNTP newsgroup(s).