From mboxrd@z Thu Jan 1 00:00:00 1970 Return-Path: Received: from mails.dpdk.org (mails.dpdk.org [217.70.189.124]) by inbox.dpdk.org (Postfix) with ESMTP id CFF3948961 for ; Fri, 17 Oct 2025 15:53:04 +0200 (CEST) Received: from mails.dpdk.org (localhost [127.0.0.1]) by mails.dpdk.org (Postfix) with ESMTP id B115C427AA; Fri, 17 Oct 2025 15:53:04 +0200 (CEST) Received: from mail-pj1-f98.google.com (mail-pj1-f98.google.com [209.85.216.98]) by mails.dpdk.org (Postfix) with ESMTP id F3A4F427AA for ; Fri, 17 Oct 2025 15:53:02 +0200 (CEST) Received: by mail-pj1-f98.google.com with SMTP id 98e67ed59e1d1-33ba8d20888so2044525a91.0 for ; Fri, 17 Oct 2025 06:53:02 -0700 (PDT) DKIM-Signature: v=1; a=rsa-sha256; c=relaxed/relaxed; d=iol.unh.edu; s=unh-iol; t=1760709182; x=1761313982; darn=dpdk.org; h=references:in-reply-to:cc:to:from:subject:message-id:date:from:to :cc:subject:date:message-id:reply-to; bh=s99KlnSdgy2Srj11ZeKgjh6HRp5oOm6iCZKiAqWweZg=; b=UzgM4XhI0TqZB3RN4NNRMLvGe3SG/m1Ex7Ha3q7xLW4hA/1BI9jQDUInpJl4Kq/k0q dxZxX1HWfF3iL68TdQ7nb8LHdMyweYkrTPwTJZklmH5It9kG1QgfY5TMatb0l6hTcThA FgAUYTC7exueJ+z+uOHNSMebxOwyV7j6CeQ7k= X-Google-DKIM-Signature: v=1; a=rsa-sha256; c=relaxed/relaxed; d=1e100.net; s=20230601; t=1760709182; x=1761313982; h=references:in-reply-to:cc:to:from:subject:message-id:date :x-gm-message-state:from:to:cc:subject:date:message-id:reply-to; bh=s99KlnSdgy2Srj11ZeKgjh6HRp5oOm6iCZKiAqWweZg=; b=D6QCjUbqqiHIbCcmYQm4BgC3/+3OeRiWHjpA/63LBDbktz36Fh4NvuhQgTHOw4S47l 2TvH1YMfMmfkgzX7PUbfbjjO9q04mZs3kq7u6ihF6hMI6oVoDXpLtdk0WTYsW7hjzV7k DHalGBiQl9DTcUAkAh8eq0bwLvVRKVJm1ZeTCAKcj/8fQNKLFo/XUS+V0KsmlHSqsRVv Je+UysrO9sUk0PuOe3EwuTCls/JMp59fFylpprG7sjw70IBBZkH9hCkm36YFFb5H1os3 WmN/HmN+hzDGXTJdIdJgd6bodRZj24GSq3/pnUStr2LHbf9UQmWbZNOhWLWS/BGHbrms Yr2Q== X-Gm-Message-State: AOJu0YwqN2NYpSM4y4Okn75XJ4DxRQdEHag5rcJraFuqjFo89QJmZQ62 M7wwJhz/21usNh7jUAI+K1+RAKHVuLbQqOrCaGEfG5drpEnEtLnBQ+iWTDW61vl/4Z0OAQp3KS9 CxWV99PkHDrgL5/5YHJ517riQ7/cC/gLVmCnMuI9NNSfiFLN8fCw9lbc38dx4 X-Gm-Gg: ASbGncutBXwoDOnwjQWZkFQW8gIncvJJ2ZNNyO08VhWIWFjH2Uo2OOnkfQe9azHj7I0 o33yXx6P2ZwkONo1rzSpfENZztwcwkuLQRyqXfBvp+Kz3xW040EVRdMeC5Dbb4/xbx2ZYIJshe6 N54ipk648pNzas1KLjk4kpgGXvysnUXuJEMiATrUbnckQBj6jz+1/pSqfWfZgUxBjrHwcNEFoec s5PqiPlEnSq42roVVWYoSRr2XdRw3oPfDOOt7ec5OfhYxnQP5DN72nZMsEpf4u1xB2a/Iy8ZE5m jzaIup3vGHTdIwquWZc6dCZBZLMyseNGib3fBR1c+zvkTWMunzlsNPXpmZpTFjX513h+lk9l0aw t67G9kE1a X-Google-Smtp-Source: AGHT+IHpI69QBCzTC18R2Zbmc4I0C7HWQuCvl0ImsH/7x32b+10q746EGVSrA29WhBgpq/VcuDys6Wh/LyO3 X-Received: by 2002:a17:90b:274c:b0:31f:ecf:36f with SMTP id 98e67ed59e1d1-33b9e090157mr9237280a91.1.1760709182048; Fri, 17 Oct 2025 06:53:02 -0700 (PDT) Received: from postal.iol.unh.edu (postal.iol.unh.edu. [2606:4100:3880:1234::84]) by smtp-relay.gmail.com with ESMTPS id 98e67ed59e1d1-33bb66920f8sm460553a91.5.2025.10.17.06.53.01 (version=TLS1_2 cipher=ECDHE-ECDSA-AES128-GCM-SHA256 bits=128/128); Fri, 17 Oct 2025 06:53:02 -0700 (PDT) X-Relaying-Domain: iol.unh.edu Date: Fri, 17 Oct 2025 06:53:02 -0700 (PDT) Message-ID: <68f24a3e.170a0220.10cc20.5f73SMTPIN_ADDED_MISSING@mx.google.com> Received: from [172.21.0.3] (unknown [172.18.0.240]) by postal.iol.unh.edu (Postfix) with ESMTP id 5B86B60003EA; Fri, 17 Oct 2025 09:53:01 -0400 (EDT) Subject: |SUCCESS| pw157802-157804 [PATCH] [RFC,3/3] app/testpmd: support por From: dpdklab@iol.unh.edu To: Test Report Cc: dpdk-test-reports@iol.unh.edu, Stephen Hemminger In-Reply-To: <20251017111109.1734792-4-ciara.loftus@intel.com> References: <20251017111109.1734792-4-ciara.loftus@intel.com> Content-Type: text/plain X-BeenThere: test-report@dpdk.org X-Mailman-Version: 2.1.29 Precedence: list List-Id: automatic DPDK test reports List-Unsubscribe: , List-Archive: List-Post: List-Help: List-Subscribe: , Errors-To: test-report-bounces@dpdk.org Test-Label: iol-compile-amd64-testing Test-Status: SUCCESS http://dpdk.org/patch/157804 _Testing PASS_ Submitter: Ciara Loftus Date: Friday, October 17 2025 11:11:09 DPDK git baseline: Repo:dpdk-next-net Branch: master CommitID:535c49b6264f1df239703b8250b070e4c4cda2e9 157802-157804 --> testing pass Upstream job id: Windows-Compile-DPDK-Native#31713 Test environment and result as below: +---------------------+--------------------+-------------------+-------------------------+ | Environment | dpdk_meson_compile | dpdk_msvc_compile | dpdk_llvm_clang_compile | +=====================+====================+===================+=========================+ | FreeBSD 14.2 | PASS | SKIPPED | SKIPPED | +---------------------+--------------------+-------------------+-------------------------+ | Ubuntu 20.04 | PASS | SKIPPED | SKIPPED | +---------------------+--------------------+-------------------+-------------------------+ | Windows Server 2022 | SKIPPED | PASS | PASS | +---------------------+--------------------+-------------------+-------------------------+ FreeBSD 14.2 Kernel: 14.2-RELEASE Compiler: clang 18.1.6 Ubuntu 20.04 Kernel: 4.19 Compiler: gcc gcc (Ubuntu 9.4.0-1ubuntu1~20.04.2) 9.4.0 Windows Server 2022 Kernel: 10.0.20348.2031 Compiler: clang 15.0.7, gcc 14.1.0 (MinGW), and MSVC VS 19.39.33521 To view detailed results, visit: https://lab.dpdk.org/results/dashboard/patchsets/34313/ UNH-IOL DPDK Community Lab To manage your email subscriptions, visit: https://lab.dpdk.org/results/dashboard/preferences/subscriptions/