From mboxrd@z Thu Jan 1 00:00:00 1970 Return-Path: Received: from mails.dpdk.org (mails.dpdk.org [217.70.189.124]) by inbox.dpdk.org (Postfix) with ESMTP id 15B1048961 for ; Fri, 17 Oct 2025 15:55:53 +0200 (CEST) Received: from mails.dpdk.org (localhost [127.0.0.1]) by mails.dpdk.org (Postfix) with ESMTP id 1075340269; Fri, 17 Oct 2025 15:55:53 +0200 (CEST) Received: from mail-oa1-f98.google.com (mail-oa1-f98.google.com [209.85.160.98]) by mails.dpdk.org (Postfix) with ESMTP id AE59F40269 for ; Fri, 17 Oct 2025 15:55:51 +0200 (CEST) Received: by mail-oa1-f98.google.com with SMTP id 586e51a60fabf-3c97813e788so1115653fac.0 for ; Fri, 17 Oct 2025 06:55:51 -0700 (PDT) DKIM-Signature: v=1; a=rsa-sha256; c=relaxed/relaxed; d=iol.unh.edu; s=unh-iol; t=1760709351; x=1761314151; darn=dpdk.org; h=references:in-reply-to:cc:to:from:subject:message-id:date:from:to :cc:subject:date:message-id:reply-to; bh=zuTC1VZOcXsPyJ5oEvsEWD5xIoOchRPig7WIMpeIurI=; b=Txf/oe+JDe+Z7Pyjgwpdtp5a3NfcSkXxVLOKf3otiD6ZDWx7zYkW+l2tJ0Py1fE/9e gGO2oFIV1V0tZ0tzoHIZJ+d8D5LpvMYaMf2Lb7o9pQIGqXOpIyv7BRkVKDfsfRM431qO keWh3oD6rjOqdT5DewnhKkcp9LyVTLWDdZwYw= X-Google-DKIM-Signature: v=1; a=rsa-sha256; c=relaxed/relaxed; d=1e100.net; s=20230601; t=1760709351; x=1761314151; h=references:in-reply-to:cc:to:from:subject:message-id:date :x-gm-message-state:from:to:cc:subject:date:message-id:reply-to; bh=zuTC1VZOcXsPyJ5oEvsEWD5xIoOchRPig7WIMpeIurI=; b=WfHsbaeCkI88zl3JysMBqbA8TlfoU8cOMcAE1OyLmfiFVUEugNk5KPB3bgT90eXp2J ATW2P00F8U/W3Ye2aJWeWeDzqVOy9FI6vBdCRCIMWbKFXn6Wb4QrU7epAs6x9uo9rDr/ OgSExwTeQr77z0ERgUjuC2xZAA1aH4DsLbAJFwjtoGVcOPiJ57e6bIbM4AXmDcD0veNw DFmzO1+qCC/Q9SSoEJk/sHsgVbwkjfQ0tSWhNfFhI2oqsWGirf/A+2OugoMeCy5dyqCI S5+9qJ0gfNj31zPOAIt3Mvdwchh1u0h8K3b8PBzTsX6tKLqGuQPLod7ejYxnYu5FtFNo PdNg== X-Gm-Message-State: AOJu0YyJ9GMfmAPj44wN1FwAZykjc0ElI2X59EnCLUBqJByRH1ckgzil +8M5eHBBvWulO+JN3+Gx83pHFN+m/c6SqNhbbek1lHjreWVWmZNh5DpYln5OmaIA4arbonIZPV5 hnjOC5Klxv8Tkk0Df3T22+2cmcvtbsJUJuP9h25094RRs2t8ENXOjv1Ibk5pA X-Gm-Gg: ASbGnctNlvj7J2NFyjLSCByKhl2281hTlNpvyKH6wATBXNDGsg/jPp4fGJM7OeM55Eh JGdZETvKXDkM6LO4oCP63ni34MOKTgJNJ4LnIaqt+/TWZnQfnIyRT0m2N3tYcAAEp2DTk6wexiM JxU7npGK8Hoe6kvW7wg5r1+uACJbs3dIQUZ/Hhoi1UQaqFZS88X3ht6MIGgZZFxiWbGSEERsHTq UbUhre8R70doE3toY9UeyGoaKSx6xu0o0YGG023uQJ9d/6GTAtLKGneQHgAeg1ZYwRGRCr10gqG Er4//HXdItpO1PcfiO68ewwz+YMoCGuBTbn0qXRcmvoni3NWmih+q4h9vzLTv2etZSD86ovN/ze oMkIA9gfL X-Google-Smtp-Source: AGHT+IE65gnDnZMVACfuuMcA8MlTSdrTCzjbO1D2vkLFpuimv+saOXdol8ycF1qGIWNjRG5c/srjENoJxJwD X-Received: by 2002:a05:6870:9707:b0:30c:92a1:64e6 with SMTP id 586e51a60fabf-3c98d17453fmr1144548fac.42.1760709350880; Fri, 17 Oct 2025 06:55:50 -0700 (PDT) Received: from postal.iol.unh.edu (postal.iol.unh.edu. [2606:4100:3880:1234::84]) by smtp-relay.gmail.com with ESMTPS id 586e51a60fabf-3c8c8af25b7sm1879044fac.2.2025.10.17.06.55.50 (version=TLS1_2 cipher=ECDHE-ECDSA-AES128-GCM-SHA256 bits=128/128); Fri, 17 Oct 2025 06:55:50 -0700 (PDT) X-Relaying-Domain: iol.unh.edu Date: Fri, 17 Oct 2025 06:55:50 -0700 (PDT) Message-ID: <68f24ae6.050a0220.35948.d732SMTPIN_ADDED_MISSING@mx.google.com> Received: from [172.21.0.4] (unknown [172.18.0.240]) by postal.iol.unh.edu (Postfix) with ESMTP id 65BAE6051830; Fri, 17 Oct 2025 09:55:50 -0400 (EDT) Subject: |WARNING| pw157783 [PATCH] [v4,1/1] lib/dma: introduce inter-process From: dpdklab@iol.unh.edu To: Test Report Cc: dpdk-test-reports@iol.unh.edu In-Reply-To: <20251017054210.3105218-1-vattunuru@marvell.com> References: <20251017054210.3105218-1-vattunuru@marvell.com> Content-Type: text/plain X-BeenThere: test-report@dpdk.org X-Mailman-Version: 2.1.29 Precedence: list List-Id: automatic DPDK test reports List-Unsubscribe: , List-Archive: List-Post: List-Help: List-Subscribe: , Errors-To: test-report-bounces@dpdk.org Test-Label: iol-compile-amd64-testing Test-Status: WARNING http://dpdk.org/patch/157783 _Testing issues_ Submitter: Vamsi Krishna Date: Friday, October 17 2025 05:42:10 DPDK git baseline: Repo:dpdk Branch: master CommitID:438491733c2d8a109574449d3d6de9b25a05c07c 157783 --> testing issues Upstream job id: Generic-DPDK-Compile-Meson#435301 Test environment and result as below: +-------------------------------+--------------------+-------------------------+-------------------+----------------------+-------------------+------------------+ | Environment | dpdk_meson_compile | dpdk_llvm_clang_compile | dpdk_msvc_compile | dpdk_mingw64_compile | dpdk_compile_spdk | dpdk_compile_ovs | +===============================+====================+=========================+===================+======================+===================+==================+ | Ubuntu 20.04 | PASS | SKIPPED | SKIPPED | SKIPPED | SKIPPED | SKIPPED | +-------------------------------+--------------------+-------------------------+-------------------+----------------------+-------------------+------------------+ | FreeBSD 14.2 | PASS | SKIPPED | SKIPPED | SKIPPED | SKIPPED | SKIPPED | +-------------------------------+--------------------+-------------------------+-------------------+----------------------+-------------------+------------------+ | CentOS Stream 9 | PASS | SKIPPED | SKIPPED | SKIPPED | WARN | SKIPPED | +-------------------------------+--------------------+-------------------------+-------------------+----------------------+-------------------+------------------+ | CentOS Stream 10 | PASS | SKIPPED | SKIPPED | SKIPPED | SKIPPED | SKIPPED | +-------------------------------+--------------------+-------------------------+-------------------+----------------------+-------------------+------------------+ | Debian GNU/Linux 12 | PASS | SKIPPED | SKIPPED | SKIPPED | WARN | SKIPPED | +-------------------------------+--------------------+-------------------------+-------------------+----------------------+-------------------+------------------+ | Fedora Linux 42 | PASS | SKIPPED | SKIPPED | SKIPPED | WARN | PASS | +-------------------------------+--------------------+-------------------------+-------------------+----------------------+-------------------+------------------+ | openSUSE Leap 15.6 | PASS | SKIPPED | SKIPPED | SKIPPED | SKIPPED | SKIPPED | +-------------------------------+--------------------+-------------------------+-------------------+----------------------+-------------------+------------------+ | Red Hat Enterprise Linux 8.10 | PASS | SKIPPED | SKIPPED | SKIPPED | SKIPPED | SKIPPED | +-------------------------------+--------------------+-------------------------+-------------------+----------------------+-------------------+------------------+ | Red Hat Enterprise Linux 9.5 | PASS | SKIPPED | SKIPPED | SKIPPED | SKIPPED | SKIPPED | +-------------------------------+--------------------+-------------------------+-------------------+----------------------+-------------------+------------------+ | Ubuntu 22.04 | PASS | SKIPPED | SKIPPED | SKIPPED | WARN | SKIPPED | +-------------------------------+--------------------+-------------------------+-------------------+----------------------+-------------------+------------------+ | Ubuntu 24.04 | PASS | SKIPPED | SKIPPED | SKIPPED | WARN | PASS | +-------------------------------+--------------------+-------------------------+-------------------+----------------------+-------------------+------------------+ | Windows Server 2022 | SKIPPED | PASS | PASS | PASS | SKIPPED | SKIPPED | +-------------------------------+--------------------+-------------------------+-------------------+----------------------+-------------------+------------------+ ==== 20 line log output for Ubuntu 24.04 (dpdk_compile_spdk): ==== --- Failed to get log output --- ==== End log output ==== Ubuntu 20.04 Kernel: 4.19 Compiler: gcc gcc (Ubuntu 9.4.0-1ubuntu1~20.04.2) 9.4.0 FreeBSD 14.2 Kernel: 14.2-RELEASE Compiler: clang 18.1.6 CentOS Stream 9 Kernel: 5.15 Compiler: gcc gcc (GCC) 11.5.0 20240719 (Red Hat 11.5.0-11) CentOS Stream 10 Kernel: 5.15 Compiler: gcc gcc (GCC) 14.2.1 20250110 (Red Hat 14.2.1-8) Debian GNU/Linux 12 Kernel: 5.15 Compiler: gcc gcc (Debian 12.2.0-14+deb12u1) 12.2.0 Fedora Linux 42 Kernel: 5.15 Compiler: clang gcc (GCC) 15.2.1 20250808 (Red Hat 15.2.1-1) openSUSE Leap 15.6 Kernel: 5.15 Compiler: gcc gcc (SUSE Linux) 7.5.0 Red Hat Enterprise Linux 8.10 Kernel: 5.15 Compiler: gcc gcc (GCC) 8.5.0 20210514 (Red Hat 8.5.0-22) Red Hat Enterprise Linux 9.5 Kernel: 5.15 Compiler: gcc gcc (GCC) 11.5.0 20240719 (Red Hat 11.5.0-2) Ubuntu 22.04 Kernel: 5.15 Compiler: gcc gcc (Ubuntu 11.4.0-1ubuntu1~22.04) 11.4.0 Ubuntu 24.04 Kernel: 5.15 Compiler: gcc gcc (Ubuntu 13.3.0-6ubuntu2~24.04) 13.3.0 Windows Server 2022 Kernel: 10.0.20348.2031 Compiler: clang 15.0.7, gcc 14.1.0 (MinGW), and MSVC VS 19.39.33521 To view detailed results, visit: https://lab.dpdk.org/results/dashboard/patchsets/34308/ UNH-IOL DPDK Community Lab To manage your email subscriptions, visit: https://lab.dpdk.org/results/dashboard/preferences/subscriptions/