From mboxrd@z Thu Jan 1 00:00:00 1970 Return-Path: Received: from mails.dpdk.org (mails.dpdk.org [217.70.189.124]) by inbox.dpdk.org (Postfix) with ESMTP id 30EE948961 for ; Fri, 17 Oct 2025 15:56:28 +0200 (CEST) Received: from mails.dpdk.org (localhost [127.0.0.1]) by mails.dpdk.org (Postfix) with ESMTP id 29914427AA; Fri, 17 Oct 2025 15:56:28 +0200 (CEST) Received: from mail-qk1-f227.google.com (mail-qk1-f227.google.com [209.85.222.227]) by mails.dpdk.org (Postfix) with ESMTP id E7E0740269 for ; Fri, 17 Oct 2025 15:56:26 +0200 (CEST) Received: by mail-qk1-f227.google.com with SMTP id af79cd13be357-88ed6837e2eso422043885a.1 for ; Fri, 17 Oct 2025 06:56:26 -0700 (PDT) DKIM-Signature: v=1; a=rsa-sha256; c=relaxed/relaxed; d=iol.unh.edu; s=unh-iol; t=1760709386; x=1761314186; darn=dpdk.org; h=references:in-reply-to:cc:to:from:subject:message-id:date:from:to :cc:subject:date:message-id:reply-to; bh=BoSOpl5GIZdvH0txIKX5FOskTT5jG6j6IJlqzNxT2X8=; b=RDLPdBUxWoFU699AYfvzf+yiocyWarHbrPIqjEC7q3DB+zVTf5bMYCK2wK83gUxT2r U9JJe1C/yogE4a7bALn7WKqjuP4v1mhgPXSgFc67ATNlLN68gNG2xBU09n2ummQXETUp UQ1C38mVcVYW6mCA0ujrrWIyI5OSSsB0yjeUQ= X-Google-DKIM-Signature: v=1; a=rsa-sha256; c=relaxed/relaxed; d=1e100.net; s=20230601; t=1760709386; x=1761314186; h=references:in-reply-to:cc:to:from:subject:message-id:date :x-gm-message-state:from:to:cc:subject:date:message-id:reply-to; bh=BoSOpl5GIZdvH0txIKX5FOskTT5jG6j6IJlqzNxT2X8=; b=UysUeA4ngURbjn+wYT+ewVtBkW0O4uOXKvWrwHNiuzSwTuo1J//9kUQISh2TYwEaXH QB1CJ3zduQr7EWz0dVJ75/CJ2SohkXxzFleG+0JPiyvmeW5xNdid1bDnC75dHHxGHhOo 2/K7OrtSeTgp2NPfHVG7eAmj6q257+5tlvs67E9R2ojKcsAg+FNg2l/xKy2DiaShkAxy q6EioEIN+L/IVZ66e5R4jdjzHe+BEYwzO0Pl2Z/f1aYyLJHG2yKxT7szpNUGF6ICnB0e +dErCgu0s9WtB80RfhUwGoDTabJTzxwcKzC2H3JKp5QIzk8sufppNUiHELcrz/+YzZZw 2iVg== X-Gm-Message-State: AOJu0YzqB78B1dsq1wE4mz/qWLJjxc6NqauDcAk9PTzLb1Q9uFjNivZ5 mnTREwtTF9XKfAfiuiF0wR0zdGmqAFX1wjaul+M4/yhwcXP8udMPiTAj9+2xoneQmCt2/rNprq/ LFr4B3oWyky/xbp7Cv65GFeC8119p5ptGd92UhySrcWJp X-Gm-Gg: ASbGnctgorsYDjpEygGTwqcSNr7/m+muloISyOC3tOztwlI3MjJsV1P5cjCNxD2d4WK 0MgXW1p34Xje1FwVvKFFfLv+d3shdTfAeGRfL6JbAg1EEmGbF1i5cfLFE5O/z/Qs/0YULhGx1VK nMJalbZaGPdi/RdKuSrzkGERv9+rdw8oBOYAOaGfQNGnvCW+kbnAPPUwVZI/XxWL3KvGmnSBow8 N8EoYE2Yvd+K3JR58jZcXq5GryDpPIFBivH6IQhZ9yRyGI46ITT8WGdElNr7GasoIq8SiZWzdnc SjCiqhUS/SeTvZePoH+qQiiXIC+iv0s2BPwN+oqx/TWYfGZlTJQGJLIjgBeGruhx5Vz3EfvD+Gj tO4E7YksqH7bbVRnMOHly/I6GO6tXZSY= X-Google-Smtp-Source: AGHT+IGMEup9XHVpddaa4GDkArYga70XRNC69E64yj8c1yX4rLBMFdFnjcQHSICfInkvIg6d5vjv4SwUkyyO X-Received: by 2002:a05:620a:269d:b0:890:893b:10ff with SMTP id af79cd13be357-890893b133dmr506569885a.39.1760709386080; Fri, 17 Oct 2025 06:56:26 -0700 (PDT) Received: from postal.iol.unh.edu (postal.iol.unh.edu. [132.177.123.84]) by smtp-relay.gmail.com with ESMTPS id af79cd13be357-88f32cee421sm46750185a.0.2025.10.17.06.56.25 (version=TLS1_2 cipher=ECDHE-ECDSA-AES128-GCM-SHA256 bits=128/128); Fri, 17 Oct 2025 06:56:26 -0700 (PDT) X-Relaying-Domain: iol.unh.edu Date: Fri, 17 Oct 2025 06:56:26 -0700 (PDT) Message-ID: <68f24b0a.050a0220.2dcea8.6e62SMTPIN_ADDED_MISSING@mx.google.com> Received: from [172.21.0.4] (unknown [172.18.0.240]) by postal.iol.unh.edu (Postfix) with ESMTP id 9BA036051830; Fri, 17 Oct 2025 09:56:25 -0400 (EDT) Subject: |SUCCESS| pw157802-157804 [PATCH] [RFC,3/3] app/testpmd: support por From: dpdklab@iol.unh.edu To: Test Report Cc: dpdk-test-reports@iol.unh.edu, Stephen Hemminger In-Reply-To: <20251017111109.1734792-4-ciara.loftus@intel.com> References: <20251017111109.1734792-4-ciara.loftus@intel.com> Content-Type: text/plain X-BeenThere: test-report@dpdk.org X-Mailman-Version: 2.1.29 Precedence: list List-Id: automatic DPDK test reports List-Unsubscribe: , List-Archive: List-Post: List-Help: List-Subscribe: , Errors-To: test-report-bounces@dpdk.org Test-Label: iol-compile-amd64-testing Test-Status: SUCCESS http://dpdk.org/patch/157804 _Testing PASS_ Submitter: Ciara Loftus Date: Friday, October 17 2025 11:11:09 DPDK git baseline: Repo:dpdk-next-net Branch: master CommitID:535c49b6264f1df239703b8250b070e4c4cda2e9 157802-157804 --> testing pass Upstream job id: Windows-Compile-DPDK-Native#31714 Test environment and result as below: +---------------------+--------------------+-------------------+-------------------------+----------------------+ | Environment | dpdk_meson_compile | dpdk_msvc_compile | dpdk_llvm_clang_compile | dpdk_mingw64_compile | +=====================+====================+===================+=========================+======================+ | FreeBSD 14.2 | PASS | SKIPPED | SKIPPED | SKIPPED | +---------------------+--------------------+-------------------+-------------------------+----------------------+ | Ubuntu 20.04 | PASS | SKIPPED | SKIPPED | SKIPPED | +---------------------+--------------------+-------------------+-------------------------+----------------------+ | Windows Server 2022 | SKIPPED | PASS | PASS | PASS | +---------------------+--------------------+-------------------+-------------------------+----------------------+ FreeBSD 14.2 Kernel: 14.2-RELEASE Compiler: clang 18.1.6 Ubuntu 20.04 Kernel: 4.19 Compiler: gcc gcc (Ubuntu 9.4.0-1ubuntu1~20.04.2) 9.4.0 Windows Server 2022 Kernel: 10.0.20348.2031 Compiler: clang 15.0.7, gcc 14.1.0 (MinGW), and MSVC VS 19.39.33521 To view detailed results, visit: https://lab.dpdk.org/results/dashboard/patchsets/34313/ UNH-IOL DPDK Community Lab To manage your email subscriptions, visit: https://lab.dpdk.org/results/dashboard/preferences/subscriptions/