From mboxrd@z Thu Jan 1 00:00:00 1970 Return-Path: Received: from mails.dpdk.org (mails.dpdk.org [217.70.189.124]) by inbox.dpdk.org (Postfix) with ESMTP id EDAFE48961 for ; Fri, 17 Oct 2025 15:59:03 +0200 (CEST) Received: from mails.dpdk.org (localhost [127.0.0.1]) by mails.dpdk.org (Postfix) with ESMTP id E3DF440269; Fri, 17 Oct 2025 15:59:03 +0200 (CEST) Received: from mail-pj1-f97.google.com (mail-pj1-f97.google.com [209.85.216.97]) by mails.dpdk.org (Postfix) with ESMTP id 272C040269 for ; Fri, 17 Oct 2025 15:59:03 +0200 (CEST) Received: by mail-pj1-f97.google.com with SMTP id 98e67ed59e1d1-33bda2306c5so855125a91.0 for ; Fri, 17 Oct 2025 06:59:03 -0700 (PDT) DKIM-Signature: v=1; a=rsa-sha256; c=relaxed/relaxed; d=iol.unh.edu; s=unh-iol; t=1760709542; x=1761314342; darn=dpdk.org; h=references:in-reply-to:cc:to:from:subject:message-id:date:from:to :cc:subject:date:message-id:reply-to; bh=yV1JjHnJPCEE/Yx7PW4fn9tRqTiTW8lNR9CT2Vq09oQ=; b=AL7tpW5rOsRI1QXRCK6lkQzqTGX7U6K/7t6ae/qL6cKkqwT1SAXYv241ipw1Bje+mN c4S3TILLUCl97BNKjhDjv1ZBMJHzXreEhAzlFl0TapjVIust7lC6nY7sKxhb/3oQB30a HhOJnusE85NsRjCVWIwFpR2SZU0egTiHkspWQ= X-Google-DKIM-Signature: v=1; a=rsa-sha256; c=relaxed/relaxed; d=1e100.net; s=20230601; t=1760709542; x=1761314342; h=references:in-reply-to:cc:to:from:subject:message-id:date :x-gm-message-state:from:to:cc:subject:date:message-id:reply-to; bh=yV1JjHnJPCEE/Yx7PW4fn9tRqTiTW8lNR9CT2Vq09oQ=; b=P84vzoGG/Mm/9igLouRIAbaz1DUaEqg35/TG0lUXBDzGrF0fYnioOTJvHHLa+kLLVB RmMfueN3DAwMP9bOfj4HIzn9goXayhPOB/aCbYupkbIn4Lqdz9TefrVXYgiSCe3Pj7qq r8Nyq4zNh9axi5qjcW5dJGH6Wjr1ZxmismJOw1V44m14AghbrZQkLYp9x0M4bv7V701X u5YGjRSdax3tHpZCWQ3TUy3t25Ch5K4hi/UU+cpNZjQw3jZXRZi5EkMaBk1wAvbUVltE ZjEz6+CDKUPWem3okUvP9e+92l3D116anetbOVr8iKFCIFOd8+HzWXXlpQwBrbGsVjHa c2XQ== X-Gm-Message-State: AOJu0Yz3+WOfPE9sqDohwkpIagkt6DJA3HGUc86/t3lLiaN/zdjIk0eS e/z+45wmpdC5moKDa2sYT1Q9sPEDNrANUUWT1IyehPK1AZhnwmuHuRvWXQwaVZ8zT4eyF/b1jK6 4DeKcDmCEXM2f1thpknw5mg6AOgYOLrYPwzuXNyeWpGc/QPXmKE4sp4kwicw/ X-Gm-Gg: ASbGncsWSgEm19rvjw13PoqVojfdvn7CVhmqzhv1Ql/XgJVnMOkUAOFtsyKOIXVptKw t0q+EfXGDVbTawobCDbBildUGyCjcfQcKAe58jbBcr2jprbUWhxszyUxRVzW2bq4pxHijKEGmHv /heD7aMJoUnK0Tn+sVqXMaBVQOykp0l9fUbATKQtW1qzRVfNaRzadko+HkOuXM3/rY9tRkpiaT0 bJ4siy8gHK54VMPK1Ke8IXdW7QAoGGityoeEYENJdTttxOesCVPwVMyPe1nhE5AqHPQT68vXfdr rJdRCf/V/tjovIC6mK0NtpNaI3Trj0NELihxouSY0gAMj7ehP+3aXluxGx+/NTvJxoLzQyNE7aA t58S/c4c4 X-Google-Smtp-Source: AGHT+IEWo3K6lzPfqJg70LEd4xptEqgTGEWvrhRUAPXaeC6SyiTKAID0KJpH9DL79j5m4RDQhKKBEu5tVjcM X-Received: by 2002:a17:90b:2788:b0:32e:2059:ee83 with SMTP id 98e67ed59e1d1-33bcf85aa00mr4603925a91.7.1760709542206; Fri, 17 Oct 2025 06:59:02 -0700 (PDT) Received: from postal.iol.unh.edu (postal.iol.unh.edu. [2606:4100:3880:1234::84]) by smtp-relay.gmail.com with ESMTPS id 98e67ed59e1d1-33bae118aa7sm181787a91.1.2025.10.17.06.59.02 (version=TLS1_2 cipher=ECDHE-ECDSA-AES128-GCM-SHA256 bits=128/128); Fri, 17 Oct 2025 06:59:02 -0700 (PDT) X-Relaying-Domain: iol.unh.edu Date: Fri, 17 Oct 2025 06:59:02 -0700 (PDT) Message-ID: <68f24ba6.170a0220.2dd2c.8adcSMTPIN_ADDED_MISSING@mx.google.com> Received: from [172.21.0.2] (unknown [172.18.0.240]) by postal.iol.unh.edu (Postfix) with ESMTP id 754F36051830; Fri, 17 Oct 2025 09:59:01 -0400 (EDT) Subject: |SUCCESS| pw157805 [PATCH] net/tap: fix interrupt callback crash aft From: dpdklab@iol.unh.edu To: Test Report Cc: dpdk-test-reports@iol.unh.edu, Stephen Hemminger In-Reply-To: <20251017121946.421658-2-rjarry@redhat.com> References: <20251017121946.421658-2-rjarry@redhat.com> Content-Type: text/plain X-BeenThere: test-report@dpdk.org X-Mailman-Version: 2.1.29 Precedence: list List-Id: automatic DPDK test reports List-Unsubscribe: , List-Archive: List-Post: List-Help: List-Subscribe: , Errors-To: test-report-bounces@dpdk.org Test-Label: iol-compile-amd64-testing Test-Status: SUCCESS http://dpdk.org/patch/157805 _Testing PASS_ Submitter: Robin Jarry Date: Friday, October 17 2025 12:19:47 DPDK git baseline: Repo:dpdk-next-net Branch: master CommitID:535c49b6264f1df239703b8250b070e4c4cda2e9 157805 --> testing pass Upstream job id: Windows-Compile-DPDK-Native#31715 Test environment and result as below: +---------------------+--------------------+-------------------+-------------------------+ | Environment | dpdk_meson_compile | dpdk_msvc_compile | dpdk_llvm_clang_compile | +=====================+====================+===================+=========================+ | FreeBSD 14.2 | PASS | SKIPPED | SKIPPED | +---------------------+--------------------+-------------------+-------------------------+ | Ubuntu 20.04 | PASS | SKIPPED | SKIPPED | +---------------------+--------------------+-------------------+-------------------------+ | Windows Server 2022 | SKIPPED | PASS | PASS | +---------------------+--------------------+-------------------+-------------------------+ FreeBSD 14.2 Kernel: 14.2-RELEASE Compiler: clang 18.1.6 Ubuntu 20.04 Kernel: 4.19 Compiler: gcc gcc (Ubuntu 9.4.0-1ubuntu1~20.04.2) 9.4.0 Windows Server 2022 Kernel: 10.0.20348.2031 Compiler: clang 15.0.7, gcc 14.1.0 (MinGW), and MSVC VS 19.39.33521 To view detailed results, visit: https://lab.dpdk.org/results/dashboard/patchsets/34314/ UNH-IOL DPDK Community Lab To manage your email subscriptions, visit: https://lab.dpdk.org/results/dashboard/preferences/subscriptions/