From mboxrd@z Thu Jan 1 00:00:00 1970 Return-Path: Received: from mails.dpdk.org (mails.dpdk.org [217.70.189.124]) by inbox.dpdk.org (Postfix) with ESMTP id 1727148961 for ; Fri, 17 Oct 2025 16:00:11 +0200 (CEST) Received: from mails.dpdk.org (localhost [127.0.0.1]) by mails.dpdk.org (Postfix) with ESMTP id 11A6A40269; Fri, 17 Oct 2025 16:00:11 +0200 (CEST) Received: from mail-vk1-f226.google.com (mail-vk1-f226.google.com [209.85.221.226]) by mails.dpdk.org (Postfix) with ESMTP id 7A77940269 for ; Fri, 17 Oct 2025 16:00:10 +0200 (CEST) Received: by mail-vk1-f226.google.com with SMTP id 71dfb90a1353d-54aa30f4093so675916e0c.3 for ; Fri, 17 Oct 2025 07:00:10 -0700 (PDT) DKIM-Signature: v=1; a=rsa-sha256; c=relaxed/relaxed; d=iol.unh.edu; s=unh-iol; t=1760709610; x=1761314410; darn=dpdk.org; h=references:in-reply-to:cc:to:from:subject:message-id:date:from:to :cc:subject:date:message-id:reply-to; bh=nkgc8PI/oa4GZFXFyzSSad6cN/2WYO9UOdxobpCDNwc=; b=F0h+XBfUn9vWT2UHoRQCDTq+m8i5oYnU0Qi7iAB3SGCFGnt/L6ND9y5wMEqpV7goxt fetHn19DDXPXCV9pvf4QPKa/SNr2lN29gvDQAbWaVTno2b+ZgztXRoS7RADlR/UAP+0n uh306ykPYShlwN2TuNK0Plkt+B/0L3WAynZ8c= X-Google-DKIM-Signature: v=1; a=rsa-sha256; c=relaxed/relaxed; d=1e100.net; s=20230601; t=1760709610; x=1761314410; h=references:in-reply-to:cc:to:from:subject:message-id:date :x-gm-message-state:from:to:cc:subject:date:message-id:reply-to; bh=nkgc8PI/oa4GZFXFyzSSad6cN/2WYO9UOdxobpCDNwc=; b=KGplZEOpiqWgcKsharrScf7dgR4iOEbbQxQLU3daC0ME58+MrvEn3rVFk5DfXDvW3b qH6XMPX5QMfYEGq6edGYKK3ukgASMGm/byh8a3uOSqcBXgdgrj1qciN327WqID9h96nm b4TrYaT3KJWJ2Wc95xa6x+bhG2aHs95VXEy8F4kucBfuaQgH/IMQFRcthisrxjYEE/8I PhS4v2Xz1VCXi9+xAgiIXhkg6MEcVAgIv5q5RwxbkLAF1N6fCwaZCAm9jRz3UWm0VC5/ Vbe08bpe88RwhgB9nYmv8SnSshaBzXRGRDMyNqhe4+tsqgib/RATY1JPhLVKbN1CblTn 7ULw== X-Gm-Message-State: AOJu0YwzjgUg/1r45eF+Mi857495F+qJGbpbfUj9QAD4YCx4Jb8lJLJu AY2q+Q/MsvEHa87IuRW+Le6oed231x21n0Sw9fIWDIL+err9fCxtgVPHPUYlQM5tkYwJlLEwSft Vb+z4KdEn0eg3M17X0P1S9mhcsymwoSPjEtuyhogjO3rGTBx1+V2uqm2ZUOH5 X-Gm-Gg: ASbGnct6L+WoVe0U+bsubqXhQfM7Ee95FG4fUvdEmLukvC3ne6YPuqriNiLa8Bn9Iex XOI7y4TA/IaEqTQgUap1dviwEwA97cVgAI1cTipO6y/LLOrUDKNC+iY65enx31ZiIUO/1HGi9WH 0QlKfWqCmQiqVZhhMnYEXBVViydenhbH7mPweGDOUj705TRq5SRcubk0up2c9XNqJEBnHmu58rj tzZJW2vgSi+TGahSygf35USkhi5KA3ykr4fSkBPkePsYvWeoIoWnuVFcmYJO/BWIlgXx54/ldHn mSCMsF/m/bHfXgTJoJYZ/AY/T0eD3yjCjkQIsB4Nj7dzQ4RMOE1iWKXxhVLDdivJQtRS+E1nDAR cfhiFOyRa X-Google-Smtp-Source: AGHT+IHGl/AAQXMYiLHeSWkfYI/r6A3vVr8P55QXMv7bNJALZpjGlB04nlENKWI/ZspH6hYGBDUQSY933wpz X-Received: by 2002:a05:6102:cce:b0:5d5:f4bb:fd42 with SMTP id ada2fe7eead31-5d7dd6dc519mr1513233137.32.1760709609760; Fri, 17 Oct 2025 07:00:09 -0700 (PDT) Received: from postal.iol.unh.edu (postal.iol.unh.edu. [2606:4100:3880:1234::84]) by smtp-relay.gmail.com with ESMTPS id ada2fe7eead31-5d5fc702821sm2682508137.2.2025.10.17.07.00.09 (version=TLS1_2 cipher=ECDHE-ECDSA-AES128-GCM-SHA256 bits=128/128); Fri, 17 Oct 2025 07:00:09 -0700 (PDT) X-Relaying-Domain: iol.unh.edu Date: Fri, 17 Oct 2025 07:00:09 -0700 (PDT) Message-ID: <68f24be9.050a0220.23c067.3d27SMTPIN_ADDED_MISSING@mx.google.com> Received: from [172.21.0.7] (unknown [172.18.0.240]) by postal.iol.unh.edu (Postfix) with ESMTP id 6FDA86051830; Fri, 17 Oct 2025 10:00:09 -0400 (EDT) Subject: |SUCCESS| pw157805 [PATCH] net/tap: fix interrupt callback crash aft From: dpdklab@iol.unh.edu To: Test Report Cc: dpdk-test-reports@iol.unh.edu, Stephen Hemminger In-Reply-To: <20251017121946.421658-2-rjarry@redhat.com> References: <20251017121946.421658-2-rjarry@redhat.com> Content-Type: text/plain X-BeenThere: test-report@dpdk.org X-Mailman-Version: 2.1.29 Precedence: list List-Id: automatic DPDK test reports List-Unsubscribe: , List-Archive: List-Post: List-Help: List-Subscribe: , Errors-To: test-report-bounces@dpdk.org Test-Label: iol-compile-amd64-testing Test-Status: SUCCESS http://dpdk.org/patch/157805 _Testing PASS_ Submitter: Robin Jarry Date: Friday, October 17 2025 12:19:47 DPDK git baseline: Repo:dpdk-next-net Branch: master CommitID:535c49b6264f1df239703b8250b070e4c4cda2e9 157805 --> testing pass Upstream job id: Windows-Compile-DPDK-Native#31716 Test environment and result as below: +---------------------+--------------------+-------------------+-------------------------+----------------------+ | Environment | dpdk_meson_compile | dpdk_msvc_compile | dpdk_llvm_clang_compile | dpdk_mingw64_compile | +=====================+====================+===================+=========================+======================+ | FreeBSD 14.2 | PASS | SKIPPED | SKIPPED | SKIPPED | +---------------------+--------------------+-------------------+-------------------------+----------------------+ | Ubuntu 20.04 | PASS | SKIPPED | SKIPPED | SKIPPED | +---------------------+--------------------+-------------------+-------------------------+----------------------+ | Windows Server 2022 | SKIPPED | PASS | PASS | PASS | +---------------------+--------------------+-------------------+-------------------------+----------------------+ FreeBSD 14.2 Kernel: 14.2-RELEASE Compiler: clang 18.1.6 Ubuntu 20.04 Kernel: 4.19 Compiler: gcc gcc (Ubuntu 9.4.0-1ubuntu1~20.04.2) 9.4.0 Windows Server 2022 Kernel: 10.0.20348.2031 Compiler: clang 15.0.7, gcc 14.1.0 (MinGW), and MSVC VS 19.39.33521 To view detailed results, visit: https://lab.dpdk.org/results/dashboard/patchsets/34314/ UNH-IOL DPDK Community Lab To manage your email subscriptions, visit: https://lab.dpdk.org/results/dashboard/preferences/subscriptions/