From mboxrd@z Thu Jan 1 00:00:00 1970 Return-Path: Received: from mails.dpdk.org (mails.dpdk.org [217.70.189.124]) by inbox.dpdk.org (Postfix) with ESMTP id 1ABB048961 for ; Fri, 17 Oct 2025 16:06:12 +0200 (CEST) Received: from mails.dpdk.org (localhost [127.0.0.1]) by mails.dpdk.org (Postfix) with ESMTP id 0990340269; Fri, 17 Oct 2025 16:06:12 +0200 (CEST) Received: from mail-il1-f225.google.com (mail-il1-f225.google.com [209.85.166.225]) by mails.dpdk.org (Postfix) with ESMTP id D795A40269 for ; Fri, 17 Oct 2025 16:06:10 +0200 (CEST) Received: by mail-il1-f225.google.com with SMTP id e9e14a558f8ab-424da17e309so21123155ab.2 for ; Fri, 17 Oct 2025 07:06:10 -0700 (PDT) DKIM-Signature: v=1; a=rsa-sha256; c=relaxed/relaxed; d=iol.unh.edu; s=unh-iol; t=1760709970; x=1761314770; darn=dpdk.org; h=references:in-reply-to:cc:to:from:subject:message-id:date:from:to :cc:subject:date:message-id:reply-to; bh=0ndxLflxQxesFYKjXS83txoRVGnfwKbBj3ikoi9eVaw=; b=eObyB9U3arp5K+UMLhrnm2EP0aijKHDZHtqu4kokiuLZNwgzOjhBojjbK8s+UsK+F+ eJGi45emwuZUm/pJ8wGFOrFS86Fzg5dU4ac4TvX1/hAyA4poncVY+MV8hyOH4N1zk1+U KS90FQiWXUvqWLiRJKtIRWn4WBfXKrLmZudp8= X-Google-DKIM-Signature: v=1; a=rsa-sha256; c=relaxed/relaxed; d=1e100.net; s=20230601; t=1760709970; x=1761314770; h=references:in-reply-to:cc:to:from:subject:message-id:date :x-gm-message-state:from:to:cc:subject:date:message-id:reply-to; bh=0ndxLflxQxesFYKjXS83txoRVGnfwKbBj3ikoi9eVaw=; b=JTcH3ijgyJRLYcZMCUx04iibbAtkmr5iEjVBZekRIXKsDPCurbST+P6pi3PsOrz8D1 2SnqkeNGzRrdu0TeQeX3NFL1GsshhXWgX4xlC23LDaGsA7uivE+OII3eVmdfmxPYwE7h b/j+ZnsbJMV6yIzglo9edbOzvBiFW4m2ABgNJGpUlyek/HLtU6sJRPBzvnfMvSaaoWGm Gvyv9Sa9TqW6RgRQKi3aPfJK0k1vkg863HPJwq/nz1csQroGoLcsFXCD8Hh6AcrpT8Bx LV1vczHm4zfpjJJZFo2SqfBtaHAXKraG5gSNvSsM9zfhJ6k4ZalvAO7lJT035w9aJanJ 6YiA== X-Gm-Message-State: AOJu0Yx8yizM6J423P0X77akOnzexu9H6vzM/rM9qrFDWxraM6G5c5Hr VDBfYWD1fHeD7AyTTIjFvHkCGo7/ORiURJtnNTpyh9ZaAcu9F56B6nCe5ZbNa5fnBHIpfjGxfum NFDozD0O4dWi+QQpYES9HHrshtBJwMifUc5mw7Pj7myjYoZ0zcFWcPTGXQDaM X-Gm-Gg: ASbGncsrzFWS6TR4kBtTdQSJQLuQGbW1hZ+UhJ20BqIRsPM56+nf5pWzRl08MrW4uZP u36GIEQVXJtUyI5EetcOXoKMUExmmhdGWV/QWWMZmW0QJdUg20DODoBYHjTN17Y/+kDRwLZ0pwM aRVpjiL/l8hQCU+ALSh0Mnk6tTNfhvfEP0HKGoyjfG3+0BMuZdVd9nx37mQWEwiYjJQkPTL3i2W lYWm4Vc7o5yzRLoIgjTbf1i0G3EPz/0mAfKC0SABNkCKcGRUr8VORGNHgTMKC3x1vQtvQyqaKgK t5YbM536xfKhjtZ5Znebc3oYekVWnvTpf3WCfWolr5eG2mNnaHfwyTlFvFcTMLpVOsvj/uOETQh cvN7ndv44 X-Google-Smtp-Source: AGHT+IGoKHMBCDqMKKVepdXaVNxIM94avx01XQnGE+CXVuCB0/bBkwexyZHBV7kJmLo/8gf8I6P8V8h9BnAb X-Received: by 2002:a92:cda3:0:b0:430:c1ba:3558 with SMTP id e9e14a558f8ab-430c5268da9mr56510315ab.18.1760709969714; Fri, 17 Oct 2025 07:06:09 -0700 (PDT) Received: from postal.iol.unh.edu (postal.iol.unh.edu. [2606:4100:3880:1234::84]) by smtp-relay.gmail.com with ESMTPS id e9e14a558f8ab-430b50b7248sm5454485ab.6.2025.10.17.07.06.09 (version=TLS1_2 cipher=ECDHE-ECDSA-AES128-GCM-SHA256 bits=128/128); Fri, 17 Oct 2025 07:06:09 -0700 (PDT) X-Relaying-Domain: iol.unh.edu Date: Fri, 17 Oct 2025 07:06:09 -0700 (PDT) Message-ID: <68f24d51.050a0220.c38f2.ac48SMTPIN_ADDED_MISSING@mx.google.com> Received: from [172.21.0.5] (unknown [172.18.0.240]) by postal.iol.unh.edu (Postfix) with ESMTP id 5F4E76050A61; Fri, 17 Oct 2025 10:06:09 -0400 (EDT) Subject: |SUCCESS| pw157800-157801 [PATCH] [2/2] app/pdump: improve cmdline a From: dpdklab@iol.unh.edu To: Test Report Cc: dpdk-test-reports@iol.unh.edu In-Reply-To: <20251017110638.1094371-2-bruce.richardson@intel.com> References: <20251017110638.1094371-2-bruce.richardson@intel.com> Content-Type: text/plain X-BeenThere: test-report@dpdk.org X-Mailman-Version: 2.1.29 Precedence: list List-Id: automatic DPDK test reports List-Unsubscribe: , List-Archive: List-Post: List-Help: List-Subscribe: , Errors-To: test-report-bounces@dpdk.org Test-Label: iol-unit-amd64-testing Test-Status: SUCCESS http://dpdk.org/patch/157801 _Testing PASS_ Submitter: Bruce Richardson Date: Friday, October 17 2025 11:06:37 DPDK git baseline: Repo:dpdk Branch: master CommitID:438491733c2d8a109574449d3d6de9b25a05c07c 157800-157801 --> testing pass Upstream job id: Generic-VM-Unit-Test-DPDK#31883 Test environment and result as below: +-------------------------------+----------------+ | Environment | dpdk_unit_test | +===============================+================+ | Debian GNU/Linux 12 | PASS | +-------------------------------+----------------+ | CentOS Stream 9 | PASS | +-------------------------------+----------------+ | Fedora Linux 41 | PASS | +-------------------------------+----------------+ | Fedora Linux 40 | PASS | +-------------------------------+----------------+ | CentOS Stream 10 | PASS | +-------------------------------+----------------+ | Fedora Linux 42 | PASS | +-------------------------------+----------------+ | Ubuntu 20.04 | PASS | +-------------------------------+----------------+ | Red Hat Enterprise Linux 9.5 | PASS | +-------------------------------+----------------+ | Red Hat Enterprise Linux 8.10 | PASS | +-------------------------------+----------------+ | Ubuntu 22.04 | PASS | +-------------------------------+----------------+ | Ubuntu 24.04 | PASS | +-------------------------------+----------------+ | Windows Server 2022 | PASS | +-------------------------------+----------------+ Debian GNU/Linux 12 Kernel: 5.15 Compiler: gcc gcc (Debian 12.2.0-14+deb12u1) 12.2.0 CentOS Stream 9 Kernel: 5.15 Compiler: gcc gcc (GCC) 11.5.0 20240719 (Red Hat 11.5.0-11) Fedora Linux 41 Kernel: 5.15 Compiler: clang gcc (GCC) 14.3.1 20250523 (Red Hat 14.3.1-1) Fedora Linux 40 Kernel: 5.15 Compiler: gcc gcc (GCC) 14.2.1 20240912 (Red Hat 14.2.1-3) CentOS Stream 10 Kernel: 5.15 Compiler: gcc gcc (GCC) 14.2.1 20250110 (Red Hat 14.2.1-8) Fedora Linux 42 Kernel: 5.15 Compiler: gcc gcc (GCC) 15.2.1 20250808 (Red Hat 15.2.1-1) Ubuntu 20.04 Kernel: 5.15 Compiler: gcc gcc (Ubuntu 9.4.0-1ubuntu1~20.04.2) 9.4.0 Red Hat Enterprise Linux 9.5 Kernel: 5.15 Compiler: gcc gcc (GCC) 11.5.0 20240719 (Red Hat 11.5.0-2) Red Hat Enterprise Linux 8.10 Kernel: 5.15 Compiler: gcc gcc (GCC) 8.5.0 20210514 (Red Hat 8.5.0-22) Ubuntu 22.04 Kernel: 5.15 Compiler: gcc gcc (Ubuntu 11.4.0-1ubuntu1~22.04) 11.4.0 Ubuntu 24.04 Kernel: 5.15 Compiler: gcc gcc (Ubuntu 13.3.0-6ubuntu2~24.04) 13.3.0 Windows Server 2022 Kernel: 10.0.20348.2031 Compiler: clang 15.0.7, gcc 14.1.0 (MinGW), and MSVC VS 19.39.33521 To view detailed results, visit: https://lab.dpdk.org/results/dashboard/patchsets/34312/ UNH-IOL DPDK Community Lab To manage your email subscriptions, visit: https://lab.dpdk.org/results/dashboard/preferences/subscriptions/