From mboxrd@z Thu Jan 1 00:00:00 1970 Return-Path: Received: from mails.dpdk.org (mails.dpdk.org [217.70.189.124]) by inbox.dpdk.org (Postfix) with ESMTP id 8264848961 for ; Fri, 17 Oct 2025 16:21:41 +0200 (CEST) Received: from mails.dpdk.org (localhost [127.0.0.1]) by mails.dpdk.org (Postfix) with ESMTP id 7B95840269; Fri, 17 Oct 2025 16:21:41 +0200 (CEST) Received: from mail-io1-f99.google.com (mail-io1-f99.google.com [209.85.166.99]) by mails.dpdk.org (Postfix) with ESMTP id F1F1E40269 for ; Fri, 17 Oct 2025 16:21:39 +0200 (CEST) Received: by mail-io1-f99.google.com with SMTP id ca18e2360f4ac-88703c873d5so79774939f.3 for ; Fri, 17 Oct 2025 07:21:39 -0700 (PDT) DKIM-Signature: v=1; a=rsa-sha256; c=relaxed/relaxed; d=iol.unh.edu; s=unh-iol; t=1760710899; x=1761315699; darn=dpdk.org; h=references:in-reply-to:cc:to:from:subject:message-id:date:from:to :cc:subject:date:message-id:reply-to; bh=ikFo06lP3CKU3mhLSi3I0dvNzC/vjPXvfaaYNIEIWbM=; b=NgSicPCvG83WSCRz6z7TyurofE03YWHE71mObbldlDr69yqgFmPzo8musEE73gaA+q H2gBKuQxbX8w1DaFI1OEMxIaaV+xgOrJZrxJ/DPz4bKoBjMW4bc1Z0akQOGxsC4jaYwg Qw1Kn94ff4mJZoQgn+kCRD/Vqm7F7ASkDAYnc= X-Google-DKIM-Signature: v=1; a=rsa-sha256; c=relaxed/relaxed; d=1e100.net; s=20230601; t=1760710899; x=1761315699; h=references:in-reply-to:cc:to:from:subject:message-id:date :x-gm-message-state:from:to:cc:subject:date:message-id:reply-to; bh=ikFo06lP3CKU3mhLSi3I0dvNzC/vjPXvfaaYNIEIWbM=; b=Xk9IgJO6VlYfbPTgON/1VwzIROfeGPB2Uni607E9vPl6eYKOMfXgrVDS5WUO8uDYbP VeiKhSe2/FyyraWs4u/d/GlJlvdPo89wk4bhsytLBw7HEZRYCxlsc7gSZwTJrvkIFlZY hAJ5Uc0/beyBp2bhHZqTm+fTyECQ2h+rdWj5kqBaBpqbICwgVTFg+nreR6AomXq4+rI8 l4Hjex9u76Ij146yC7MoNMT8O33iybiFbBkXQSrd/K39uvVUr69zDLfOznLjyGWw142u MzFqkaMNUTLqh0Vz4UqSltqy1F7drF8UPXFyrcAs47BlnK4BcwlRHdpAYWUI0R9CQfmc TJ8g== X-Gm-Message-State: AOJu0YyX703Nrn41ptjVfZvQq19pi6tJUYXznAPW12sWxhOWKF+DplW2 gReplEb6mEXpYk9DGXFx50Ac7gGirQqSQ21xeg5pYOYF6MO5f5h4T36lF47BHyUqPFchSeYTrlt Fr5WsUoskWTLmxJK066tFrdwbzejdv0vT6u2h/xD/RaVI X-Gm-Gg: ASbGncvko0ExsnAxhIyyz582D5toYOC2V09F88tEpoMSX5+pscpADURJyW/mYBKdnSi uSYfH0O24Cbuwry7/I7ji7ArIkp2ZqEkEXt0Kz6lWu1X1a3TbF+tS5JmOKLXAgfx5qnJjsgSU0/ oDSQnywMb0pvhbs9Ivl8iBcguMXljUuNstGCe3jiOtVOgTsZuEccflxFFct2xyrpSHtfDfGORuU EmV4GstoNZxEmzPBzzSQg1XPn4Kq3jzSqxFRCmKSbQigdPrJISs/fNxuD+GXqfxw7i9tdpc7yCY b3OrNIBmcvIVmf/SyNhDSUqvfM1FcaN4LwaLgHu8HjYLCIpx/8SS7smoX5nFgOgSOpzBnngkfTy DRZw+rJFWZeOFOQyD9T6bb+VjFppNX0Y= X-Google-Smtp-Source: AGHT+IFj/+8Nrz3fCQ0nbfhcU77OiBMCRbHTWHJiY/o1pF6Z+l8QVMxWBr+1CYcVWFvvOPOkZ06AS/YyLfG3 X-Received: by 2002:a05:6602:1d83:b0:92a:e2bc:d861 with SMTP id ca18e2360f4ac-93e7625496amr481200339f.1.1760710899201; Fri, 17 Oct 2025 07:21:39 -0700 (PDT) Received: from postal.iol.unh.edu (postal.iol.unh.edu. [132.177.123.84]) by smtp-relay.gmail.com with ESMTPS id 8926c6da1cb9f-5a76f76b9edsm225895173.41.2025.10.17.07.21.39 (version=TLS1_2 cipher=ECDHE-ECDSA-AES128-GCM-SHA256 bits=128/128); Fri, 17 Oct 2025 07:21:39 -0700 (PDT) X-Relaying-Domain: iol.unh.edu Date: Fri, 17 Oct 2025 07:21:39 -0700 (PDT) Message-ID: <68f250f3.050a0220.23b653.b003SMTPIN_ADDED_MISSING@mx.google.com> Received: from [172.21.0.3] (unknown [172.18.0.240]) by postal.iol.unh.edu (Postfix) with ESMTP id B90CA6050A61; Fri, 17 Oct 2025 10:21:38 -0400 (EDT) Subject: |SUCCESS| pw157807-157808 [PATCH] [v3,2/2] mailmap: sort mailmap From: dpdklab@iol.unh.edu To: Test Report Cc: dpdk-test-reports@iol.unh.edu In-Reply-To: <20251017133812.1109638-3-bruce.richardson@intel.com> References: <20251017133812.1109638-3-bruce.richardson@intel.com> Content-Type: text/plain X-BeenThere: test-report@dpdk.org X-Mailman-Version: 2.1.29 Precedence: list List-Id: automatic DPDK test reports List-Unsubscribe: , List-Archive: List-Post: List-Help: List-Subscribe: , Errors-To: test-report-bounces@dpdk.org Test-Label: iol-compile-amd64-testing Test-Status: SUCCESS http://dpdk.org/patch/157808 _Testing PASS_ Submitter: Bruce Richardson Date: Friday, October 17 2025 13:38:08 DPDK git baseline: Repo:dpdk Branch: master CommitID:438491733c2d8a109574449d3d6de9b25a05c07c 157807-157808 --> testing pass Upstream job id: Windows-Compile-DPDK-Native#31718 Test environment and result as below: +---------------------+-------------------------+-------------------+--------------------+----------------------+ | Environment | dpdk_llvm_clang_compile | dpdk_msvc_compile | dpdk_meson_compile | dpdk_mingw64_compile | +=====================+=========================+===================+====================+======================+ | Windows Server 2022 | PASS | PASS | SKIPPED | PASS | +---------------------+-------------------------+-------------------+--------------------+----------------------+ | FreeBSD 14.2 | SKIPPED | SKIPPED | PASS | SKIPPED | +---------------------+-------------------------+-------------------+--------------------+----------------------+ | Ubuntu 20.04 | SKIPPED | SKIPPED | PASS | SKIPPED | +---------------------+-------------------------+-------------------+--------------------+----------------------+ Windows Server 2022 Kernel: 10.0.20348.2031 Compiler: clang 15.0.7, gcc 14.1.0 (MinGW), and MSVC VS 19.39.33521 FreeBSD 14.2 Kernel: 14.2-RELEASE Compiler: clang 18.1.6 Ubuntu 20.04 Kernel: 4.19 Compiler: gcc gcc (Ubuntu 9.4.0-1ubuntu1~20.04.2) 9.4.0 To view detailed results, visit: https://lab.dpdk.org/results/dashboard/patchsets/34316/ UNH-IOL DPDK Community Lab To manage your email subscriptions, visit: https://lab.dpdk.org/results/dashboard/preferences/subscriptions/