From mboxrd@z Thu Jan 1 00:00:00 1970 Return-Path: Received: from mails.dpdk.org (mails.dpdk.org [217.70.189.124]) by inbox.dpdk.org (Postfix) with ESMTP id F31F148961 for ; Fri, 17 Oct 2025 16:24:43 +0200 (CEST) Received: from mails.dpdk.org (localhost [127.0.0.1]) by mails.dpdk.org (Postfix) with ESMTP id EA2E640269; Fri, 17 Oct 2025 16:24:43 +0200 (CEST) Received: from mail-il1-f226.google.com (mail-il1-f226.google.com [209.85.166.226]) by mails.dpdk.org (Postfix) with ESMTP id 6A27E40269 for ; Fri, 17 Oct 2025 16:24:42 +0200 (CEST) Received: by mail-il1-f226.google.com with SMTP id e9e14a558f8ab-430b0909e2eso8215595ab.1 for ; Fri, 17 Oct 2025 07:24:42 -0700 (PDT) DKIM-Signature: v=1; a=rsa-sha256; c=relaxed/relaxed; d=iol.unh.edu; s=unh-iol; t=1760711082; x=1761315882; darn=dpdk.org; h=cc:to:from:subject:message-id:date:from:to:cc:subject:date :message-id:reply-to; bh=nLLAl5CZjKAKOKfiniGm6wvCQt7Psafdicwv5nSHAfw=; b=SdQXNNPpwqT00DYV6EBB9FHUrn1lHqZGA2VkEMM9+Xar1e6JoBdtLIq5wZTLU9j0Zp 4YZaMFoVuNat3T306NMvADbBngMH0CAmH+B1/FDAa9CygC5yl4Q1nprrMVUm5sPNso3C JfYtwed3R47Bzw4S5WH7mYtAbj1gGrmBdAkhQ= X-Google-DKIM-Signature: v=1; a=rsa-sha256; c=relaxed/relaxed; d=1e100.net; s=20230601; t=1760711082; x=1761315882; h=cc:to:from:subject:message-id:date:x-gm-message-state:from:to:cc :subject:date:message-id:reply-to; bh=nLLAl5CZjKAKOKfiniGm6wvCQt7Psafdicwv5nSHAfw=; b=HT4FLmAA1BugpulnsK4Ev3fH8gfdYCPVB9H+l95Xt5uHxBc+Apcziyy5bYgWC3HUOP qXmYbTfRvalxUj0V1u5yAKOei43vQNHoA3CCYMOas4YaDP+Pr2dTXt/OFCIdshOtp5Pz 5Y6neTvU58OmfrMbXdAG0/jT133duhG1SaT1KqdeMvpcNqLt8RnxhgZz83N4ezbGnArH /q1rQxW9YSKK1QjkEmWjtMyIN5ZYZbR7zdcWsOkApL2UVbRigNRJhadJ8Qew1NIk0kv3 T/SHk7E/bylgTUJ60iM40e160WCZ0VPRaV1TUwLSa3b4RBIttyFB+dZcyF6D51Jqonqq 5sUA== X-Gm-Message-State: AOJu0YzEzyhVpI1k+lIs45S4MclmdBlfRW251AF6B7h6/8DVEkO4Jnvj DnNjgtxHDnaRCFVC+Q//0DdCzVwluCqr+Rr3L42Tvz4x8NWrFNSTpjtAqyeAAuhGt0dAPcFbIpz e8Cc0A0ruc0AwJaab38j8+mYm8dtbVPl1MUrMpWUz2Sj+ X-Gm-Gg: ASbGncvDXh8k71arFYFdYAYa4+KmqyIaaIZIJUMyWiyshqCEqabc7WhomzZ8o70aYhG mULtlt/Qj8REAmT0CtyrUvjxaBtR4yXq655+K6b77uucy2GDhH1ADu9KMZOIFpQogFwgQ3YHTs/ fT8gOwm4wKhPU7YCIqdXHdDxlQS1fwdLDfRIiemd7fjIm1i4fBbfcpTgLhl1MyAqZ1GBngD5xqK zRL8AzgUyM0NNR7HMeVzV+LU7STuPYBj6MwVJR9jSflOYytByiJ4e5a5iEXxW6O8OX211cOgg0e t55C+E8UDXEm/TfdzWVr3h/IDKOrneVmJKBuXR/uw7d5M+/Ud4Qr+k6h7SEVC1HMCb/bOjMZpOp Ldiyxi2N5+8tox/ddUo3woyPH05aB1CA= X-Google-Smtp-Source: AGHT+IFc99f4ablzOW910W3w3f+JL3Gsw7O/Z9cG+ggKisX1bvf1fhRQYwwzvzDMUR9QZdXUcdXvSdJTzukD X-Received: by 2002:a05:6e02:441b:10b0:430:c857:734e with SMTP id e9e14a558f8ab-430c8577401mr31045095ab.10.1760711081534; Fri, 17 Oct 2025 07:24:41 -0700 (PDT) Received: from postal.iol.unh.edu (postal.iol.unh.edu. [132.177.123.84]) by smtp-relay.gmail.com with ESMTPS id e9e14a558f8ab-430ce63429fsm519195ab.22.2025.10.17.07.24.41 (version=TLS1_2 cipher=ECDHE-ECDSA-AES128-GCM-SHA256 bits=128/128); Fri, 17 Oct 2025 07:24:41 -0700 (PDT) X-Relaying-Domain: iol.unh.edu Date: Fri, 17 Oct 2025 07:24:41 -0700 (PDT) Message-ID: <68f251a9.050a0220.26c53c.291dSMTPIN_ADDED_MISSING@mx.google.com> Received: from [172.21.0.2] (unknown [172.18.0.240]) by postal.iol.unh.edu (Postfix) with ESMTP id 1E2B66050A61; Fri, 17 Oct 2025 10:24:41 -0400 (EDT) Subject: |WARNING| [GIT MASTER] 535c49b6264f1df239703b8250b070e4c4cda2e9 From: dpdklab@iol.unh.edu To: Test Report Cc: dpdk-test-reports@iol.unh.edu, Stephen Hemminger Content-Type: text/plain X-BeenThere: test-report@dpdk.org X-Mailman-Version: 2.1.29 Precedence: list List-Id: automatic DPDK test reports List-Unsubscribe: , List-Archive: List-Post: List-Help: List-Subscribe: , Errors-To: test-report-bounces@dpdk.org _Testing issues_ Branch: dpdk-next-net 535c49b6264f1df239703b8250b070e4c4cda2e9 --> testing issues Upstream job id: Generic-DPDK-Compile-Meson#435308 Test environment and result as below: +---------------------+--------------------+-------------------+-------------------------+----------------------+-------------------+------------------+ | Environment | dpdk_meson_compile | dpdk_msvc_compile | dpdk_llvm_clang_compile | dpdk_mingw64_compile | dpdk_compile_spdk | dpdk_compile_ovs | +=====================+====================+===================+=========================+======================+===================+==================+ | Ubuntu 20.04 | PASS | SKIPPED | SKIPPED | SKIPPED | SKIPPED | SKIPPED | +---------------------+--------------------+-------------------+-------------------------+----------------------+-------------------+------------------+ | FreeBSD 14.2 | PASS | SKIPPED | SKIPPED | SKIPPED | SKIPPED | SKIPPED | +---------------------+--------------------+-------------------+-------------------------+----------------------+-------------------+------------------+ | CentOS Stream 9 | PASS | SKIPPED | SKIPPED | SKIPPED | WARN | SKIPPED | +---------------------+--------------------+-------------------+-------------------------+----------------------+-------------------+------------------+ | CentOS Stream 10 | PASS | SKIPPED | SKIPPED | SKIPPED | SKIPPED | SKIPPED | +---------------------+--------------------+-------------------+-------------------------+----------------------+-------------------+------------------+ | Debian GNU/Linux 12 | PEND | SKIPPED | SKIPPED | SKIPPED | PEND | SKIPPED | +---------------------+--------------------+-------------------+-------------------------+----------------------+-------------------+------------------+ | Fedora Linux 42 | PEND | SKIPPED | SKIPPED | SKIPPED | PEND | PEND | +---------------------+--------------------+-------------------+-------------------------+----------------------+-------------------+------------------+ | Windows Server 2022 | SKIPPED | PASS | PASS | PASS | SKIPPED | SKIPPED | +---------------------+--------------------+-------------------+-------------------------+----------------------+-------------------+------------------+ ==== 20 line log output for CentOS Stream 9 (dpdk_compile_spdk): ==== --- Failed to get log output --- ==== End log output ==== Ubuntu 20.04 Kernel: 4.19 Compiler: gcc gcc (Ubuntu 9.4.0-1ubuntu1~20.04.2) 9.4.0 FreeBSD 14.2 Kernel: 14.2-RELEASE Compiler: clang 18.1.6 CentOS Stream 9 Kernel: 5.15 Compiler: gcc gcc (GCC) 11.5.0 20240719 (Red Hat 11.5.0-11) CentOS Stream 10 Kernel: 5.15 Compiler: gcc gcc (GCC) 14.2.1 20250110 (Red Hat 14.2.1-8) Debian GNU/Linux 12 Kernel: 5.15 Compiler: gcc gcc (Debian 12.2.0-14+deb12u1) 12.2.0 Fedora Linux 42 Kernel: 5.15 Compiler: clang gcc (GCC) 15.2.1 20250808 (Red Hat 15.2.1-1) Windows Server 2022 Kernel: 10.0.20348.2031 Compiler: clang 15.0.7, gcc 14.1.0 (MinGW), and MSVC VS 19.39.33521 To view detailed results, visit: https://lab.dpdk.org/results/dashboard/tarballs/35248/ UNH-IOL DPDK Community Lab To manage your email subscriptions, visit: https://lab.dpdk.org/results/dashboard/preferences/subscriptions/