From mboxrd@z Thu Jan 1 00:00:00 1970 Return-Path: Received: from mails.dpdk.org (mails.dpdk.org [217.70.189.124]) by inbox.dpdk.org (Postfix) with ESMTP id 32FBB48961 for ; Fri, 17 Oct 2025 16:26:37 +0200 (CEST) Received: from mails.dpdk.org (localhost [127.0.0.1]) by mails.dpdk.org (Postfix) with ESMTP id 2CBE2427E4; Fri, 17 Oct 2025 16:26:37 +0200 (CEST) Received: from mail-pl1-f228.google.com (mail-pl1-f228.google.com [209.85.214.228]) by mails.dpdk.org (Postfix) with ESMTP id 82D6B400D7 for ; Fri, 17 Oct 2025 16:26:35 +0200 (CEST) Received: by mail-pl1-f228.google.com with SMTP id d9443c01a7336-27d4d6b7ab5so26186885ad.2 for ; Fri, 17 Oct 2025 07:26:35 -0700 (PDT) DKIM-Signature: v=1; a=rsa-sha256; c=relaxed/relaxed; d=iol.unh.edu; s=unh-iol; t=1760711195; x=1761315995; darn=dpdk.org; h=references:in-reply-to:cc:to:from:subject:message-id:date:from:to :cc:subject:date:message-id:reply-to; bh=mXDQAkJpWzZIm+MeUbMgTcdXfjV3mrxyiegKikwr6bI=; b=TQwPv+1EvtheqhZjE8zZqAGwz8eQLLlMS3fdIeSwkLxwoUe7PoBEqMMoZVfkh9AicO r7k2Xoxn9akxpLZe0HKq+OdNpEvoDot2nfzRh6iXeoUIqNfLK0MfY2NO3+pbtg74fzem pD+Gk6ST/Mo4Gm1R/BrfPyOixRAihr/LxaAHQ= X-Google-DKIM-Signature: v=1; a=rsa-sha256; c=relaxed/relaxed; d=1e100.net; s=20230601; t=1760711195; x=1761315995; h=references:in-reply-to:cc:to:from:subject:message-id:date :x-gm-message-state:from:to:cc:subject:date:message-id:reply-to; bh=mXDQAkJpWzZIm+MeUbMgTcdXfjV3mrxyiegKikwr6bI=; b=ZLAtAMmubKQuI6ivUPOSGLO4Wnq1qALh1t9JE/kjdvHpsABHxaQQDvJS3CxTcIWGGu WTS6J0Fr0DwsbPEG99Bx5ckbiuhyQd4hRd9qge7n68AXXVCfBPUXYsaqlly9OCFu9oDe orti1ounPeyEQgUhcJn/wVs1ks8ei8DEFzYQpFrKot4Bg89xd4dtmbjKdWA+DinUn4zM FmMcr2WVDVkwIQKDcVH9v2bdSSMp6jVUR47H7oHYV9UFau86TVpJn/2KCrpexG3Pj6oH UoQBcAgyA5vUOfxz2C7OG0kHyXgHexyEEXTWC/fo7oCVPN0rnynpjAIVaSNi/cXitO6B /OXw== X-Gm-Message-State: AOJu0YyMSwcd7QrjQzC9imsfZ3fB+aTXSjxJYW14iTvUTSTlLHjOhn2x LOxihA9rZTG8dugtftbF8EYM3eB1hxi8cDwzPjAFjfYDoHp1sMG6X2U2t9VJGzVSldkAftLi/JY Yj44CHC5l77Tf5odMVdG5z3hzrnHF9N80KWtVYdSi4Zb7XO5JvYxqUrdsAKnA X-Gm-Gg: ASbGncs6fPDyzKbkChOsWGXePYzOrGgQBHqFFeciX9F5M34m1F9T/GEVaEOF2+I0Mxr ErNosaWkkW+5TqEzQV+30TaqJqechSQD5L+TVcVkwyljzke+5E2W72oIyGvS/r6EDKC+C4joA58 Lyi0TXt1AizU/A3hhn66MTrLuUdg/tyPJKSsYzvE4MGgwh+2hpvLPlmfKRnIIqiZV3VMP01X/R/ wYzCl9yN/MngZsuAYVGAIi3SzrmIePUzzdQZtfZReJGO8PVIIZ/AbLf5duoF5GuH6TKxunItUdu xkFDxSvBUCaQc6kBtK0APJ5AhPB3ahN5Fr9pfYDz2Bp9I53vJXTnfQ41c37n9n3wpiUBgsfBrxh XCHgvfqg9 X-Google-Smtp-Source: AGHT+IHVge3RDdO+IneN+yC3ogARcEb+8rho8K7peL/OtejsLbKTxpWV89UCZSGDrcWfoO814BVhgxHwT4YZ X-Received: by 2002:a17:903:1746:b0:28e:7ea4:2023 with SMTP id d9443c01a7336-290cb07d430mr50041925ad.46.1760711194603; Fri, 17 Oct 2025 07:26:34 -0700 (PDT) Received: from postal.iol.unh.edu (postal.iol.unh.edu. [2606:4100:3880:1234::84]) by smtp-relay.gmail.com with ESMTPS id 98e67ed59e1d1-33bb9518e77sm108718a91.1.2025.10.17.07.26.34 (version=TLS1_2 cipher=ECDHE-ECDSA-AES128-GCM-SHA256 bits=128/128); Fri, 17 Oct 2025 07:26:34 -0700 (PDT) X-Relaying-Domain: iol.unh.edu Date: Fri, 17 Oct 2025 07:26:34 -0700 (PDT) Message-ID: <68f2521a.170a0220.1c028a.53e4SMTPIN_ADDED_MISSING@mx.google.com> Received: from [172.21.0.2] (unknown [172.18.0.240]) by postal.iol.unh.edu (Postfix) with ESMTP id D39FF6050A61; Fri, 17 Oct 2025 10:26:33 -0400 (EDT) Subject: |SUCCESS| pw157807-157808 [PATCH] [v3,2/2] mailmap: sort mailmap From: dpdklab@iol.unh.edu To: Test Report Cc: dpdk-test-reports@iol.unh.edu In-Reply-To: <20251017133812.1109638-3-bruce.richardson@intel.com> References: <20251017133812.1109638-3-bruce.richardson@intel.com> Content-Type: text/plain X-BeenThere: test-report@dpdk.org X-Mailman-Version: 2.1.29 Precedence: list List-Id: automatic DPDK test reports List-Unsubscribe: , List-Archive: List-Post: List-Help: List-Subscribe: , Errors-To: test-report-bounces@dpdk.org Test-Label: iol-unit-amd64-testing Test-Status: SUCCESS http://dpdk.org/patch/157808 _Testing PASS_ Submitter: Bruce Richardson Date: Friday, October 17 2025 13:38:08 DPDK git baseline: Repo:dpdk Branch: master CommitID:438491733c2d8a109574449d3d6de9b25a05c07c 157807-157808 --> testing pass Upstream job id: Generic-Unit-Test-DPDK#382818 Test environment and result as below: +-------------------------------+----------------+ | Environment | dpdk_unit_test | +===============================+================+ | CentOS Stream 9 | PASS | +-------------------------------+----------------+ | CentOS Stream 10 | PASS | +-------------------------------+----------------+ | Debian GNU/Linux 12 | PASS | +-------------------------------+----------------+ | Fedora Linux 40 | PASS | +-------------------------------+----------------+ | Fedora Linux 41 | PASS | +-------------------------------+----------------+ | Fedora Linux 42 | PASS | +-------------------------------+----------------+ | Red Hat Enterprise Linux 9.5 | PASS | +-------------------------------+----------------+ | Red Hat Enterprise Linux 8.10 | PASS | +-------------------------------+----------------+ | Ubuntu 20.04 | PASS | +-------------------------------+----------------+ | Ubuntu 24.04 | PASS | +-------------------------------+----------------+ | Ubuntu 22.04 | PASS | +-------------------------------+----------------+ CentOS Stream 9 Kernel: 5.15 Compiler: gcc gcc (GCC) 11.5.0 20240719 (Red Hat 11.5.0-11) CentOS Stream 10 Kernel: 5.15 Compiler: gcc gcc (GCC) 14.2.1 20250110 (Red Hat 14.2.1-8) Debian GNU/Linux 12 Kernel: 5.15 Compiler: gcc gcc (Debian 12.2.0-14+deb12u1) 12.2.0 Fedora Linux 40 Kernel: 5.15 Compiler: gcc gcc (GCC) 14.2.1 20240912 (Red Hat 14.2.1-3) Fedora Linux 41 Kernel: 5.15 Compiler: clang gcc (GCC) 14.3.1 20250523 (Red Hat 14.3.1-1) Fedora Linux 42 Kernel: 5.15 Compiler: gcc gcc (GCC) 15.2.1 20250808 (Red Hat 15.2.1-1) Red Hat Enterprise Linux 9.5 Kernel: 5.15 Compiler: gcc gcc (GCC) 11.5.0 20240719 (Red Hat 11.5.0-2) Red Hat Enterprise Linux 8.10 Kernel: 5.15 Compiler: gcc gcc (GCC) 8.5.0 20210514 (Red Hat 8.5.0-22) Ubuntu 20.04 Kernel: 5.15 Compiler: gcc gcc (Ubuntu 9.4.0-1ubuntu1~20.04.2) 9.4.0 Ubuntu 24.04 Kernel: 5.15 Compiler: gcc gcc (Ubuntu 13.3.0-6ubuntu2~24.04) 13.3.0 Ubuntu 22.04 Kernel: 5.15 Compiler: gcc gcc (Ubuntu 11.4.0-1ubuntu1~22.04) 11.4.0 To view detailed results, visit: https://lab.dpdk.org/results/dashboard/patchsets/34316/ UNH-IOL DPDK Community Lab To manage your email subscriptions, visit: https://lab.dpdk.org/results/dashboard/preferences/subscriptions/