From mboxrd@z Thu Jan 1 00:00:00 1970 Return-Path: Received: from mails.dpdk.org (mails.dpdk.org [217.70.189.124]) by inbox.dpdk.org (Postfix) with ESMTP id A6C5248961 for ; Fri, 17 Oct 2025 16:30:07 +0200 (CEST) Received: from mails.dpdk.org (localhost [127.0.0.1]) by mails.dpdk.org (Postfix) with ESMTP id 92AB0427E4; Fri, 17 Oct 2025 16:30:07 +0200 (CEST) Received: from mail-pg1-f225.google.com (mail-pg1-f225.google.com [209.85.215.225]) by mails.dpdk.org (Postfix) with ESMTP id 89C3C400D7 for ; Fri, 17 Oct 2025 16:30:06 +0200 (CEST) Received: by mail-pg1-f225.google.com with SMTP id 41be03b00d2f7-b556284db11so1675781a12.0 for ; Fri, 17 Oct 2025 07:30:06 -0700 (PDT) DKIM-Signature: v=1; a=rsa-sha256; c=relaxed/relaxed; d=iol.unh.edu; s=unh-iol; t=1760711405; x=1761316205; darn=dpdk.org; h=references:in-reply-to:cc:to:from:subject:message-id:date:from:to :cc:subject:date:message-id:reply-to; bh=joRwBUgVrRUPEtZm7pUfI3M/G8fFZ5i2yad8rcEIrbw=; b=Ww8LE5vwqsOqgGRwULVHpjvcb4Ck19yMCLKKohIvq0G03mKxi8AIFIlh0ajuf8hMrc jzjzhtPGDYn1xYMo/03TAuKnsrbs9nHuwWQ7ssOUYx0d3fbX/7rtgiQjnhpJQTAAR7Q2 fazmdPjX2VGq+lnu6Oo8dBLlSdMM7MxRgDjcg= X-Google-DKIM-Signature: v=1; a=rsa-sha256; c=relaxed/relaxed; d=1e100.net; s=20230601; t=1760711405; x=1761316205; h=references:in-reply-to:cc:to:from:subject:message-id:date :x-gm-message-state:from:to:cc:subject:date:message-id:reply-to; bh=joRwBUgVrRUPEtZm7pUfI3M/G8fFZ5i2yad8rcEIrbw=; b=NNYwPCJMGozflYP9Z+agdg594thWwsnsFP6f0Ala2L6V6S1wSlO6Ib65yhT0KFg0kd KO4bSubLZB3DadUF2+ks50MWt6Qw9216PoDCxpFudUVb5aGY8c/jqdtvLLXXv4WE+VUD hDf+4fuZr7a8XAGV23QL9wachVPGrv7Ufr51IrxyIvBIQjnm6q+tCQy0oB/TwUgr613n t7GxbMzsGt6uA+l0gSC4jagLIbedB5Be8O5yOmD0fHqBEiNVGNAwYhn1MHH50zYpFhXF uFNCpo7J4xh1ZFAFBv9ecQ0ikeAyjjVGQA02CvYZ3ddZ4Gi18I6uIkOS/uA9eM6+FoFN HZrg== X-Gm-Message-State: AOJu0YyO9KIFaPfg/prSDzbBBzzCsGSmDJaBbBROiqd9MJMelO8/O7Jh Wq7eaqq1htWA8KzLTdJB343lfU/Qop8dW/fs52yVvctsfUcewnAzmiMoe9Is9mPZb7N1V4KOmgR gWO1ePV6ncaSfRUKxtiuvK2MJyB/n3IAQQONN4bt16tlW X-Gm-Gg: ASbGncs82rZN/9QT5D05/yu6R6H8rJ3s/ZCEnLbAp6gctvSEBfQoaG4mg7vx6F7lLXH ZLVOrGdLZ2/kJMPTjMK3sJy/RZv6c7v/EVIb+dmizVP/nAgY85X58tbe/+hRxljMwXrREKTetvK ZfabK1b4l0wrALb6BH9p/V+56Hsushay0vJ1rYkBmBSsyityRb84RCQRuA1Nf7dQW+o3QxIqRCO Z9R+NHHrvPAoRY7oWMNheXWYRDWqFWeOS/htmphH4Y9/95/ppGYGZZu/Y1eDhGOW5yFtcX3gVhK IbLFO7Ve9Lm3rih7Wp5La/CWIS4roYVWkchzgtJyZQ/pPxIpgO9RfX6TyyAa4YFmCdJ+nVSnSg6 i4rPQNQTyN92TbL8VroUrsMCOBhvwhvY= X-Google-Smtp-Source: AGHT+IFUwDaeYwmM2ADJ8plD6LUsTwhq6aVApTRe099N3WFokFl328V/VfDZrqme4GcPc6IEunlt8yuc8N1y X-Received: by 2002:a17:903:ac4:b0:290:6b30:fa8 with SMTP id d9443c01a7336-290c9cdf5cfmr41591875ad.23.1760711405459; Fri, 17 Oct 2025 07:30:05 -0700 (PDT) Received: from postal.iol.unh.edu (postal.iol.unh.edu. [132.177.123.84]) by smtp-relay.gmail.com with ESMTPS id d9443c01a7336-29095f151d5sm6542735ad.0.2025.10.17.07.30.05 (version=TLS1_2 cipher=ECDHE-ECDSA-AES128-GCM-SHA256 bits=128/128); Fri, 17 Oct 2025 07:30:05 -0700 (PDT) X-Relaying-Domain: iol.unh.edu Date: Fri, 17 Oct 2025 07:30:05 -0700 (PDT) Message-ID: <68f252ed.170a0220.1ce730.4f23SMTPIN_ADDED_MISSING@mx.google.com> Received: from [172.21.0.2] (unknown [172.18.0.240]) by postal.iol.unh.edu (Postfix) with ESMTP id 9DAD46050A61; Fri, 17 Oct 2025 10:30:04 -0400 (EDT) Subject: |SUCCESS| pw157802-157804 [PATCH] [RFC,3/3] app/testpmd: support por From: dpdklab@iol.unh.edu To: Test Report Cc: dpdk-test-reports@iol.unh.edu, Stephen Hemminger In-Reply-To: <20251017111109.1734792-4-ciara.loftus@intel.com> References: <20251017111109.1734792-4-ciara.loftus@intel.com> Content-Type: text/plain X-BeenThere: test-report@dpdk.org X-Mailman-Version: 2.1.29 Precedence: list List-Id: automatic DPDK test reports List-Unsubscribe: , List-Archive: List-Post: List-Help: List-Subscribe: , Errors-To: test-report-bounces@dpdk.org Test-Label: iol-unit-amd64-testing Test-Status: SUCCESS http://dpdk.org/patch/157804 _Testing PASS_ Submitter: Ciara Loftus Date: Friday, October 17 2025 11:11:09 DPDK git baseline: Repo:dpdk-next-net Branch: master CommitID:535c49b6264f1df239703b8250b070e4c4cda2e9 157802-157804 --> testing pass Upstream job id: Generic-VM-Unit-Test-DPDK#31884 Test environment and result as below: +-------------------------------+----------------+ | Environment | dpdk_unit_test | +===============================+================+ | CentOS Stream 10 | PASS | +-------------------------------+----------------+ | CentOS Stream 9 | PASS | +-------------------------------+----------------+ | Debian GNU/Linux 12 | PASS | +-------------------------------+----------------+ | Fedora Linux 40 | PASS | +-------------------------------+----------------+ | Fedora Linux 41 | PASS | +-------------------------------+----------------+ | Fedora Linux 42 | PASS | +-------------------------------+----------------+ | Red Hat Enterprise Linux 8.10 | PASS | +-------------------------------+----------------+ | Red Hat Enterprise Linux 9.5 | PASS | +-------------------------------+----------------+ | Ubuntu 20.04 | PASS | +-------------------------------+----------------+ | Ubuntu 22.04 | PASS | +-------------------------------+----------------+ | Ubuntu 24.04 | PASS | +-------------------------------+----------------+ | Windows Server 2022 | PASS | +-------------------------------+----------------+ CentOS Stream 10 Kernel: 5.15 Compiler: gcc gcc (GCC) 14.2.1 20250110 (Red Hat 14.2.1-8) CentOS Stream 9 Kernel: 5.15 Compiler: gcc gcc (GCC) 11.5.0 20240719 (Red Hat 11.5.0-11) Debian GNU/Linux 12 Kernel: 5.15 Compiler: gcc gcc (Debian 12.2.0-14+deb12u1) 12.2.0 Fedora Linux 40 Kernel: 5.15 Compiler: clang gcc (GCC) 14.2.1 20240912 (Red Hat 14.2.1-3) Fedora Linux 41 Kernel: 5.15 Compiler: gcc gcc (GCC) 14.3.1 20250523 (Red Hat 14.3.1-1) Fedora Linux 42 Kernel: 5.15 Compiler: gcc gcc (GCC) 15.2.1 20250808 (Red Hat 15.2.1-1) Red Hat Enterprise Linux 8.10 Kernel: 5.15 Compiler: gcc gcc (GCC) 8.5.0 20210514 (Red Hat 8.5.0-22) Red Hat Enterprise Linux 9.5 Kernel: 5.15 Compiler: gcc gcc (GCC) 11.5.0 20240719 (Red Hat 11.5.0-2) Ubuntu 20.04 Kernel: 5.15 Compiler: gcc gcc (Ubuntu 9.4.0-1ubuntu1~20.04.2) 9.4.0 Ubuntu 22.04 Kernel: 5.15 Compiler: gcc gcc (Ubuntu 11.4.0-1ubuntu1~22.04) 11.4.0 Ubuntu 24.04 Kernel: 5.15 Compiler: gcc gcc (Ubuntu 13.3.0-6ubuntu2~24.04) 13.3.0 Windows Server 2022 Kernel: 10.0.20348.2031 Compiler: clang 15.0.7, gcc 14.1.0 (MinGW), and MSVC VS 19.39.33521 To view detailed results, visit: https://lab.dpdk.org/results/dashboard/patchsets/34313/ UNH-IOL DPDK Community Lab To manage your email subscriptions, visit: https://lab.dpdk.org/results/dashboard/preferences/subscriptions/