From mboxrd@z Thu Jan 1 00:00:00 1970 Return-Path: Received: from mails.dpdk.org (mails.dpdk.org [217.70.189.124]) by inbox.dpdk.org (Postfix) with ESMTP id 1F71548961 for ; Fri, 17 Oct 2025 16:34:16 +0200 (CEST) Received: from mails.dpdk.org (localhost [127.0.0.1]) by mails.dpdk.org (Postfix) with ESMTP id 1AFA7400D7; Fri, 17 Oct 2025 16:34:16 +0200 (CEST) Received: from mail-il1-f227.google.com (mail-il1-f227.google.com [209.85.166.227]) by mails.dpdk.org (Postfix) with ESMTP id ED49F400D7 for ; Fri, 17 Oct 2025 16:34:12 +0200 (CEST) Received: by mail-il1-f227.google.com with SMTP id e9e14a558f8ab-42e2c336adcso8395635ab.1 for ; Fri, 17 Oct 2025 07:34:12 -0700 (PDT) DKIM-Signature: v=1; a=rsa-sha256; c=relaxed/relaxed; d=iol.unh.edu; s=unh-iol; t=1760711652; x=1761316452; darn=dpdk.org; h=references:in-reply-to:cc:to:from:subject:message-id:date:from:to :cc:subject:date:message-id:reply-to; bh=WsjcIdFgAG/CjOrHHoHGx0cLPgYrYoKUIvBTiOg+o9Y=; b=K0lOuW+2fjRPllA8M16sjb74AU1gwanVZW3D/OE8GeZY36Q2nN/Vry+fT3hyrCWS+p vuEmFBn4ttbiqY144rmQsGHG16Eh9fUiOmQq7aNnAmDiVDzyQl2CPTwXN8ckSpuuBh2f OEvw+mAvz4iTFBDzlsk2nmTXoth1AiA7BiKZE= X-Google-DKIM-Signature: v=1; a=rsa-sha256; c=relaxed/relaxed; d=1e100.net; s=20230601; t=1760711652; x=1761316452; h=references:in-reply-to:cc:to:from:subject:message-id:date :x-gm-message-state:from:to:cc:subject:date:message-id:reply-to; bh=WsjcIdFgAG/CjOrHHoHGx0cLPgYrYoKUIvBTiOg+o9Y=; b=JNodEPu5o8kMPkeXsCb4zYuokBU3gW6INrrbU5xtZEIf/I9GncPus3tQsQWK2YOq0O xSzM43brAKprjAHE1tQkCgPDQqvbGTpVAymiXSPt5iYBa53KgdggV5c05+kHnskOAEoE IrWKowAnhok8yw5woba3s0l/LUUbd7mZXA+oxXZXcvk8gCdC1YHQDjTWai2tWXitXkST uxS9esLYnaam+8sHjALg5AN+qnSfNLXkFjY/35Kx6Aspi6K9c6Z8q8K8nFLZYtuynA/x RRAiw5xIX1cjhWhVM6QD/DIp1RMBF7Ekd4YrkFT7jT2LFao1n/dHg82Mtjz1lhNBdFO9 JXvg== X-Gm-Message-State: AOJu0YxgNYDAd9g6UjHgMTsdfF1/yAqDOD/z+wXvSuZ553GRHSaEyL4s zUloqPl9pe+dq2zSVgB4kbmpq7+IN3i9n7fM7BoHnaAVE6+tFLN65PuKKcK/cjG2BbvFep3XbxV Zdm9VDn4/GzaBidSpCrg5PQiRrTubQpQwlAIdvWJcpm3Z X-Gm-Gg: ASbGnctZcDCGiLtHNUSOAlTQFQbcnU9KZuJX4twS4PLylNI71YWNBF8pVHdJXwOuOsT 5csmOV670uMBqw15mAiYQSWAt4GJ4vF5JGc/G0VzvWOYis+79vfD+kxLL+go1MUg+y3sobi5Z5e 20pOlkUNN4bZUX3laE0JFwMwjQdm5aWHpFlQRCNIrCiPiB+NwSd5nq3sHeI/v4HgLliiVbTt9NC nebGFoyTLViW50vllUf0gEOuXhKGoZkJZNPsbzGmlvHvQmiIqEQmta5DSeMqs+AHZ7LCjQRCwaM C5AKV7ne0jJfFmp54QaRpGxVWeLzanoZFSTTQ3MInfZepdnk0FGBxdsb/s0oEVa2Br7/DVUM7OR ExTCEh2+HgQXJMpEpxKk09nsNVu974fg= X-Google-Smtp-Source: AGHT+IFyDHcYimsAh5NTv9ZbsVhHpCtLp06tZvYlSg1H+BrrAOSV4Ie2Q4f0djwqqKcFVmQEdj2QYPU1iiJB X-Received: by 2002:a05:6e02:154a:b0:426:e20b:f5d4 with SMTP id e9e14a558f8ab-430c52200admr60508065ab.10.1760711652157; Fri, 17 Oct 2025 07:34:12 -0700 (PDT) Received: from postal.iol.unh.edu (postal.iol.unh.edu. [132.177.123.84]) by smtp-relay.gmail.com with ESMTPS id 8926c6da1cb9f-5a76f744354sm224454173.32.2025.10.17.07.34.12 (version=TLS1_2 cipher=ECDHE-ECDSA-AES128-GCM-SHA256 bits=128/128); Fri, 17 Oct 2025 07:34:12 -0700 (PDT) X-Relaying-Domain: iol.unh.edu Date: Fri, 17 Oct 2025 07:34:12 -0700 (PDT) Message-ID: <68f253e4.050a0220.36756d.c8b5SMTPIN_ADDED_MISSING@mx.google.com> Received: from [172.21.0.4] (unknown [172.18.0.240]) by postal.iol.unh.edu (Postfix) with ESMTP id AA0F76050A61; Fri, 17 Oct 2025 10:34:11 -0400 (EDT) Subject: |WARNING| pw157783 [PATCH] [v4,1/1] lib/dma: introduce inter-process From: dpdklab@iol.unh.edu To: Test Report Cc: dpdk-test-reports@iol.unh.edu In-Reply-To: <20251017054210.3105218-1-vattunuru@marvell.com> References: <20251017054210.3105218-1-vattunuru@marvell.com> Content-Type: text/plain X-BeenThere: test-report@dpdk.org X-Mailman-Version: 2.1.29 Precedence: list List-Id: automatic DPDK test reports List-Unsubscribe: , List-Archive: List-Post: List-Help: List-Subscribe: , Errors-To: test-report-bounces@dpdk.org Test-Label: iol-compile-amd64-testing Test-Status: WARNING http://dpdk.org/patch/157783 _Testing issues_ Submitter: Vamsi Krishna Date: Friday, October 17 2025 05:42:10 DPDK git baseline: Repo:dpdk Branch: master CommitID:438491733c2d8a109574449d3d6de9b25a05c07c 157783 --> testing issues Upstream job id: Generic-DPDK-Compile-Meson#435307 Test environment and result as below: +-------------------------------+--------------------+-------------------------+-------------------+----------------------+-------------------+------------------+ | Environment | dpdk_meson_compile | dpdk_llvm_clang_compile | dpdk_msvc_compile | dpdk_mingw64_compile | dpdk_compile_spdk | dpdk_compile_ovs | +===============================+====================+=========================+===================+======================+===================+==================+ | Ubuntu 20.04 | PASS | SKIPPED | SKIPPED | SKIPPED | SKIPPED | SKIPPED | +-------------------------------+--------------------+-------------------------+-------------------+----------------------+-------------------+------------------+ | FreeBSD 14.2 | PASS | SKIPPED | SKIPPED | SKIPPED | SKIPPED | SKIPPED | +-------------------------------+--------------------+-------------------------+-------------------+----------------------+-------------------+------------------+ | CentOS Stream 9 | PASS | SKIPPED | SKIPPED | SKIPPED | WARN | SKIPPED | +-------------------------------+--------------------+-------------------------+-------------------+----------------------+-------------------+------------------+ | CentOS Stream 10 | PASS | SKIPPED | SKIPPED | SKIPPED | SKIPPED | SKIPPED | +-------------------------------+--------------------+-------------------------+-------------------+----------------------+-------------------+------------------+ | Debian GNU/Linux 12 | PASS | SKIPPED | SKIPPED | SKIPPED | WARN | SKIPPED | +-------------------------------+--------------------+-------------------------+-------------------+----------------------+-------------------+------------------+ | Fedora Linux 42 | PASS | SKIPPED | SKIPPED | SKIPPED | WARN | PASS | +-------------------------------+--------------------+-------------------------+-------------------+----------------------+-------------------+------------------+ | openSUSE Leap 15.6 | PASS | SKIPPED | SKIPPED | SKIPPED | SKIPPED | SKIPPED | +-------------------------------+--------------------+-------------------------+-------------------+----------------------+-------------------+------------------+ | Red Hat Enterprise Linux 8.10 | PASS | SKIPPED | SKIPPED | SKIPPED | SKIPPED | SKIPPED | +-------------------------------+--------------------+-------------------------+-------------------+----------------------+-------------------+------------------+ | Red Hat Enterprise Linux 9.5 | PASS | SKIPPED | SKIPPED | SKIPPED | SKIPPED | SKIPPED | +-------------------------------+--------------------+-------------------------+-------------------+----------------------+-------------------+------------------+ | Ubuntu 22.04 | PASS | SKIPPED | SKIPPED | SKIPPED | WARN | SKIPPED | +-------------------------------+--------------------+-------------------------+-------------------+----------------------+-------------------+------------------+ | Ubuntu 24.04 | PASS | SKIPPED | SKIPPED | SKIPPED | WARN | PASS | +-------------------------------+--------------------+-------------------------+-------------------+----------------------+-------------------+------------------+ | Alpine Linux 3.22.0 | PASS | SKIPPED | SKIPPED | SKIPPED | SKIPPED | SKIPPED | +-------------------------------+--------------------+-------------------------+-------------------+----------------------+-------------------+------------------+ | Windows Server 2022 | SKIPPED | PASS | PASS | PASS | SKIPPED | SKIPPED | +-------------------------------+--------------------+-------------------------+-------------------+----------------------+-------------------+------------------+ ==== 20 line log output for Ubuntu 24.04 (dpdk_compile_spdk): ==== --- Failed to get log output --- ==== End log output ==== Ubuntu 20.04 Kernel: 4.19 Compiler: gcc gcc (Ubuntu 9.4.0-1ubuntu1~20.04.2) 9.4.0 FreeBSD 14.2 Kernel: 14.2-RELEASE Compiler: clang 18.1.6 CentOS Stream 9 Kernel: 5.15 Compiler: gcc gcc (GCC) 11.5.0 20240719 (Red Hat 11.5.0-11) CentOS Stream 10 Kernel: 5.15 Compiler: gcc gcc (GCC) 14.2.1 20250110 (Red Hat 14.2.1-8) Debian GNU/Linux 12 Kernel: 5.15 Compiler: gcc gcc (Debian 12.2.0-14+deb12u1) 12.2.0 Fedora Linux 42 Kernel: 5.15 Compiler: clang gcc (GCC) 15.2.1 20250808 (Red Hat 15.2.1-1) openSUSE Leap 15.6 Kernel: 5.15 Compiler: gcc gcc (SUSE Linux) 7.5.0 Red Hat Enterprise Linux 8.10 Kernel: 5.15 Compiler: gcc gcc (GCC) 8.5.0 20210514 (Red Hat 8.5.0-22) Red Hat Enterprise Linux 9.5 Kernel: 5.15 Compiler: gcc gcc (GCC) 11.5.0 20240719 (Red Hat 11.5.0-2) Ubuntu 22.04 Kernel: 5.15 Compiler: gcc gcc (Ubuntu 11.4.0-1ubuntu1~22.04) 11.4.0 Ubuntu 24.04 Kernel: 5.15 Compiler: gcc gcc (Ubuntu 13.3.0-6ubuntu2~24.04) 13.3.0 Alpine Linux 3.22.0 Kernel: 5.15 Compiler: gcc gcc (Alpine 14.2.0) 14.2.0 Windows Server 2022 Kernel: 10.0.20348.2031 Compiler: clang 15.0.7, gcc 14.1.0 (MinGW), and MSVC VS 19.39.33521 To view detailed results, visit: https://lab.dpdk.org/results/dashboard/patchsets/34308/ UNH-IOL DPDK Community Lab To manage your email subscriptions, visit: https://lab.dpdk.org/results/dashboard/preferences/subscriptions/