From mboxrd@z Thu Jan 1 00:00:00 1970 Return-Path: Received: from mails.dpdk.org (mails.dpdk.org [217.70.189.124]) by inbox.dpdk.org (Postfix) with ESMTP id 29B4B48961 for ; Fri, 17 Oct 2025 16:51:32 +0200 (CEST) Received: from mails.dpdk.org (localhost [127.0.0.1]) by mails.dpdk.org (Postfix) with ESMTP id 07AB2400D7; Fri, 17 Oct 2025 16:51:32 +0200 (CEST) Received: from mail-pg1-f227.google.com (mail-pg1-f227.google.com [209.85.215.227]) by mails.dpdk.org (Postfix) with ESMTP id A9E7F400D7 for ; Fri, 17 Oct 2025 16:51:30 +0200 (CEST) Received: by mail-pg1-f227.google.com with SMTP id 41be03b00d2f7-b5515eaefceso1655402a12.2 for ; Fri, 17 Oct 2025 07:51:30 -0700 (PDT) DKIM-Signature: v=1; a=rsa-sha256; c=relaxed/relaxed; d=iol.unh.edu; s=unh-iol; t=1760712690; x=1761317490; darn=dpdk.org; h=references:in-reply-to:cc:to:from:subject:message-id:date:from:to :cc:subject:date:message-id:reply-to; bh=GLPTm+AVzsQhP8ZcNFeD42mWjj0BTQ2leiTL4BZ0HQA=; b=WBe6qBS/F3/emGHIeYv4UFmzF7jX4+WWTJpHdIc3KXGtcoVEfkvsMlpGTJ6dR9rMEo NxuT1/W/FUkYGuzUa/yx4GScBLn5RaYpAtnYfkEUyTMafNZ2Qvi5m8wz5E7Rrom5ZuIQ dYqrsb7hkqfNKZiwSuBEV72MIx7qnGJVeygOo= X-Google-DKIM-Signature: v=1; a=rsa-sha256; c=relaxed/relaxed; d=1e100.net; s=20230601; t=1760712690; x=1761317490; h=references:in-reply-to:cc:to:from:subject:message-id:date :x-gm-message-state:from:to:cc:subject:date:message-id:reply-to; bh=GLPTm+AVzsQhP8ZcNFeD42mWjj0BTQ2leiTL4BZ0HQA=; b=eP9hhCmZRFtdGEDc85743w3zjt2ilC12BTt1qzTgXsQY4L+Bo+HwucZPwrtxFSxBlE aepqNDEf/6jdqa2S03BqwCISg/tc4tK1gJUS3X+VIyd/a4eXaBtPEY7PboIIxGqhSKuz O6PTee5vacmZt8PDerRur9Z+w+WCiKD6JMuRSzdePDXcZ7+QL0NmVGQu/EpNzwLFWOc/ nI+PS7XZFQTamXvJILRJG1sCv/SWHMFaAWhVwhSwMIMKwDYY+ud9PnuB6BBHNpHsGsl6 zRujFLhSf48H6VFwbZE3NzFhMmxDBbF2cUmjdyDMc813VpLR87mmmv0/feEPtfveObch 8utg== X-Gm-Message-State: AOJu0YycW4BkbAA3V/v0DZevvSabrL/FQv/15OAiAMnEp6vUdXkVKEr/ PQaq20c3Cht/nn294m6fPex681B7PnyxJVuPfh5njloAJCqkcmDlfsf1W37bIGChzSqnwvYf4Vl BoAIwNg/Zx5wLeAxa+eSeu+P7kj9CjaZQ5e4LMlOiFLjD X-Gm-Gg: ASbGncuVpbQT6aDqp/I2H2hgV2XHEd8QZjD6IpkBvuHi+8PAz2qGTQlLcOgSZu3POhZ 6EUS8NW5FYFoKPObC//eRigmKRltTWBP5tBWoscGPn6wHDP4XbPOu0N5Ej0YGsnHeYgV3Q/YEom 2NlbZJGaGSlt1kVjIM9GUr4fjO0Y5H+aGwuR87f6tBYjqACoMIL/WTLk9YjQg1zxnRdlv3PxRWm pN4FJoZeJ5uZzTmOeF8XxdAdDyFjkcbwTynBB+C4vox1Kz4r6mfc9zcNsuYqYw8V9WL2X/sXRgp n3OJreZyDvWByTC18MmoWnX0pG3pW3tDNkpn2bSP0R8Mc1yDVUDM8I4e8L9xM//hBDK3t9ytLpK rEmW55mJTRT4N0q/UiaeKmMDiMbYDDJY= X-Google-Smtp-Source: AGHT+IHXtTF26RKfHWis3SO2tSvIhMdWEjPKMAO97dfshMAQ22Q+by6Als0o0HePhKBzAxesz1ejui+fKV5e X-Received: by 2002:a17:902:ce12:b0:28e:7fce:6685 with SMTP id d9443c01a7336-290cb94792amr47109815ad.32.1760712689642; Fri, 17 Oct 2025 07:51:29 -0700 (PDT) Received: from postal.iol.unh.edu (postal.iol.unh.edu. [132.177.123.84]) by smtp-relay.gmail.com with ESMTPS id d9443c01a7336-29098e90e83sm6149155ad.11.2025.10.17.07.51.29 (version=TLS1_2 cipher=ECDHE-ECDSA-AES128-GCM-SHA256 bits=128/128); Fri, 17 Oct 2025 07:51:29 -0700 (PDT) X-Relaying-Domain: iol.unh.edu Date: Fri, 17 Oct 2025 07:51:29 -0700 (PDT) Message-ID: <68f257f1.170a0220.2fece5.fec8SMTPIN_ADDED_MISSING@mx.google.com> Received: from [172.21.0.2] (unknown [172.18.0.240]) by postal.iol.unh.edu (Postfix) with ESMTP id E5BD060003EA; Fri, 17 Oct 2025 10:51:28 -0400 (EDT) Subject: |SUCCESS| pw157802-157804 [PATCH] [RFC,3/3] app/testpmd: support por From: dpdklab@iol.unh.edu To: Test Report Cc: dpdk-test-reports@iol.unh.edu, Stephen Hemminger In-Reply-To: <20251017111109.1734792-4-ciara.loftus@intel.com> References: <20251017111109.1734792-4-ciara.loftus@intel.com> Content-Type: text/plain X-BeenThere: test-report@dpdk.org X-Mailman-Version: 2.1.29 Precedence: list List-Id: automatic DPDK test reports List-Unsubscribe: , List-Archive: List-Post: List-Help: List-Subscribe: , Errors-To: test-report-bounces@dpdk.org Test-Label: iol-unit-amd64-testing Test-Status: SUCCESS http://dpdk.org/patch/157804 _Testing PASS_ Submitter: Loftus, Ciara Date: Friday, October 17 2025 11:11:09 DPDK git baseline: Repo:dpdk-next-net Branch: master CommitID:535c49b6264f1df239703b8250b070e4c4cda2e9 157802-157804 --> testing pass Upstream job id: Generic-VM-Unit-Test-DPDK#31885 Test environment and result as below: +-------------------------------+----------------+ | Environment | dpdk_unit_test | +===============================+================+ | CentOS Stream 10 | PASS | +-------------------------------+----------------+ | CentOS Stream 9 | PASS | +-------------------------------+----------------+ | Debian GNU/Linux 12 | PASS | +-------------------------------+----------------+ | Fedora Linux 40 | PASS | +-------------------------------+----------------+ | Fedora Linux 41 | PASS | +-------------------------------+----------------+ | Fedora Linux 42 | PASS | +-------------------------------+----------------+ | Red Hat Enterprise Linux 8.10 | PASS | +-------------------------------+----------------+ | Red Hat Enterprise Linux 9.5 | PASS | +-------------------------------+----------------+ | Ubuntu 20.04 | PASS | +-------------------------------+----------------+ | Ubuntu 22.04 | PASS | +-------------------------------+----------------+ | Ubuntu 24.04 | PASS | +-------------------------------+----------------+ | Windows Server 2022 | PASS | +-------------------------------+----------------+ CentOS Stream 10 Kernel: 5.15 Compiler: gcc gcc (GCC) 14.2.1 20250110 (Red Hat 14.2.1-8) CentOS Stream 9 Kernel: 5.15 Compiler: gcc gcc (GCC) 11.5.0 20240719 (Red Hat 11.5.0-11) Debian GNU/Linux 12 Kernel: 5.15 Compiler: gcc gcc (Debian 12.2.0-14+deb12u1) 12.2.0 Fedora Linux 40 Kernel: 5.15 Compiler: clang gcc (GCC) 14.2.1 20240912 (Red Hat 14.2.1-3) Fedora Linux 41 Kernel: 5.15 Compiler: gcc gcc (GCC) 14.3.1 20250523 (Red Hat 14.3.1-1) Fedora Linux 42 Kernel: 5.15 Compiler: gcc gcc (GCC) 15.2.1 20250808 (Red Hat 15.2.1-1) Red Hat Enterprise Linux 8.10 Kernel: 5.15 Compiler: gcc gcc (GCC) 8.5.0 20210514 (Red Hat 8.5.0-22) Red Hat Enterprise Linux 9.5 Kernel: 5.15 Compiler: gcc gcc (GCC) 11.5.0 20240719 (Red Hat 11.5.0-2) Ubuntu 20.04 Kernel: 5.15 Compiler: gcc gcc (Ubuntu 9.4.0-1ubuntu1~20.04.2) 9.4.0 Ubuntu 22.04 Kernel: 5.15 Compiler: gcc gcc (Ubuntu 11.4.0-1ubuntu1~22.04) 11.4.0 Ubuntu 24.04 Kernel: 5.15 Compiler: gcc gcc (Ubuntu 13.3.0-6ubuntu2~24.04) 13.3.0 Windows Server 2022 Kernel: 10.0.20348.2031 Compiler: clang 15.0.7, gcc 14.1.0 (MinGW), and MSVC VS 19.39.33521 To view detailed results, visit: https://lab.dpdk.org/results/dashboard/patchsets/34313/ UNH-IOL DPDK Community Lab To manage your email subscriptions, visit: https://lab.dpdk.org/results/dashboard/preferences/subscriptions/