From mboxrd@z Thu Jan 1 00:00:00 1970 Return-Path: Received: from mails.dpdk.org (mails.dpdk.org [217.70.189.124]) by inbox.dpdk.org (Postfix) with ESMTP id D376648961 for ; Fri, 17 Oct 2025 17:00:14 +0200 (CEST) Received: from mails.dpdk.org (localhost [127.0.0.1]) by mails.dpdk.org (Postfix) with ESMTP id C9A4A400D7; Fri, 17 Oct 2025 17:00:14 +0200 (CEST) Received: from mail-pl1-f227.google.com (mail-pl1-f227.google.com [209.85.214.227]) by mails.dpdk.org (Postfix) with ESMTP id 8FD6E400D7 for ; Fri, 17 Oct 2025 17:00:13 +0200 (CEST) Received: by mail-pl1-f227.google.com with SMTP id d9443c01a7336-290d14e5c9aso12794955ad.3 for ; Fri, 17 Oct 2025 08:00:13 -0700 (PDT) DKIM-Signature: v=1; a=rsa-sha256; c=relaxed/relaxed; d=iol.unh.edu; s=unh-iol; t=1760713213; x=1761318013; darn=dpdk.org; h=references:in-reply-to:cc:to:from:subject:message-id:date:from:to :cc:subject:date:message-id:reply-to; bh=HSn5tA0sDWBaX6bSHTwlLamDv2xrQ+5pnlPI3lwypqY=; b=IhTuzjgtJVYAH/8N9fKtjPS7S8r+9r0NN/kWxOewI9oVOHp+gFfmO2gIuUX1l2oTRB kWppN+0+l9TUAIRoxGvtvdzuRDCzAesjggpyS9d0F02ulZEsWUa0/D0Os/N/jXKBIYoc e0JoWClvBOfy42rBbjFEs1ZR/Ps+xxhsbOKm8= X-Google-DKIM-Signature: v=1; a=rsa-sha256; c=relaxed/relaxed; d=1e100.net; s=20230601; t=1760713213; x=1761318013; h=references:in-reply-to:cc:to:from:subject:message-id:date :x-gm-message-state:from:to:cc:subject:date:message-id:reply-to; bh=HSn5tA0sDWBaX6bSHTwlLamDv2xrQ+5pnlPI3lwypqY=; b=MoAamr5z0baBON8myozwFERgH2/7hFmouFb6vk0YKc86LaMLDmtflc6cCNboAySu8q XZwayhJYGR6xQrAjpT8tmkrzOBYYY01WlrbDo+H+UzX6HMu6olvMrgrAL6NonhhQGfon E5OUDYcW5ipSMdM1YPTd9bc99F9/8udenRPORSr3zpzJcRIsNXYL+c69JbcxDpSrjVLo gsIW+QQG8UfVHr6aENR/P1pe6WrwP7JY8S4xH8S19oP3es09+YumtGwigsdIA3gQRhVL v1gebrTPLIHe255mFiYMlajzCp0LfgPuqyk7asAyEUhd9KYvOcouFxiJPpdF8aeUc5hh 9uQQ== X-Gm-Message-State: AOJu0YyzkrBKH4vueUb9J81ZpVaNHAjwjmwZ5gZWclCmXbIgCDHveS/S RVG/mjthqcARh0lwV6oPC/jm9I3wt5aznMbZaFP/VzL1XDWfCjegXq1hQMc5/PGEW3cBLadpyDo iKxkU4a1yOjwDkusdfZ6qEr4WFR9PR5AaEpYr9lMi3sEF X-Gm-Gg: ASbGncvRYn9+bl8DtBr+YSYWS6+gc5V2lEM2m20YF+yPN7v0yKCc4e1c4RfV9NeuRMo d5i4m9db03wreS7KsAJRw9KqILA2nQthAISMn3Hx3veUXDaQ9rgrPOYRMKxwIzNYcFGRiL26nL/ LDrkJLja5bz5A80mY8OVsLkKW5XOaEI1IA91dJbgK8RNvmXJNyYfIs0xSfoyj3bPSjNqI42bhqQ DZ7JOChBtHs6IdTZiSX4gzwiJKRPAaDAwe0nTDNfe0KfxkPkiQfHDGvJRlwuSD6k2rljlh0aD4g 71mgZuBXkZo0ADoOsZIjXmE56i+AE4wnFluRdKQ6YtVpcSCVC2OUb7uRZ4JJZlCmI1EZyGQUfwD 9BMM70968ljbP9NwYxfvxSps35KMYSQQ= X-Google-Smtp-Source: AGHT+IHg/tqThbTi9qcSodlp0YUbhJoY/lguI09cKfSdCQHj90upfmryEXAlYeUHGCS/ays5Mgqc6jMgVoq5 X-Received: by 2002:a17:902:e546:b0:269:91b2:e9d6 with SMTP id d9443c01a7336-290cb65c529mr52759145ad.46.1760713212319; Fri, 17 Oct 2025 08:00:12 -0700 (PDT) Received: from postal.iol.unh.edu (postal.iol.unh.edu. [132.177.123.84]) by smtp-relay.gmail.com with ESMTPS id d9443c01a7336-2909997cce8sm6616945ad.47.2025.10.17.08.00.12 (version=TLS1_2 cipher=ECDHE-ECDSA-AES128-GCM-SHA256 bits=128/128); Fri, 17 Oct 2025 08:00:12 -0700 (PDT) X-Relaying-Domain: iol.unh.edu Date: Fri, 17 Oct 2025 08:00:12 -0700 (PDT) Message-ID: <68f259fc.170a0220.2edeb4.09b8SMTPIN_ADDED_MISSING@mx.google.com> Received: from [172.21.0.5] (unknown [172.18.0.240]) by postal.iol.unh.edu (Postfix) with ESMTP id D346F6051830; Fri, 17 Oct 2025 11:00:10 -0400 (EDT) Subject: |SUCCESS| pw157812-157813 [PATCH] [v2,2/2] usertools/dpdk-telemetry- From: dpdklab@iol.unh.edu To: Test Report Cc: dpdk-test-reports@iol.unh.edu In-Reply-To: <20251017141927.1156370-3-bruce.richardson@intel.com> References: <20251017141927.1156370-3-bruce.richardson@intel.com> Content-Type: text/plain X-BeenThere: test-report@dpdk.org X-Mailman-Version: 2.1.29 Precedence: list List-Id: automatic DPDK test reports List-Unsubscribe: , List-Archive: List-Post: List-Help: List-Subscribe: , Errors-To: test-report-bounces@dpdk.org Test-Label: iol-compile-amd64-testing Test-Status: SUCCESS http://dpdk.org/patch/157813 _Testing PASS_ Submitter: Bruce Richardson Date: Friday, October 17 2025 14:19:27 DPDK git baseline: Repo:dpdk Branch: master CommitID:438491733c2d8a109574449d3d6de9b25a05c07c 157812-157813 --> testing pass Upstream job id: Windows-Compile-DPDK-Native#31720 Test environment and result as below: +---------------------+-------------------------+-------------------+--------------------+----------------------+ | Environment | dpdk_llvm_clang_compile | dpdk_msvc_compile | dpdk_meson_compile | dpdk_mingw64_compile | +=====================+=========================+===================+====================+======================+ | Windows Server 2022 | PASS | PASS | SKIPPED | PASS | +---------------------+-------------------------+-------------------+--------------------+----------------------+ | FreeBSD 14.2 | SKIPPED | SKIPPED | PASS | SKIPPED | +---------------------+-------------------------+-------------------+--------------------+----------------------+ | Ubuntu 20.04 | SKIPPED | SKIPPED | PASS | SKIPPED | +---------------------+-------------------------+-------------------+--------------------+----------------------+ Windows Server 2022 Kernel: 10.0.20348.2031 Compiler: clang 15.0.7, gcc 14.1.0 (MinGW), and MSVC VS 19.39.33521 FreeBSD 14.2 Kernel: 14.2-RELEASE Compiler: clang 18.1.6 Ubuntu 20.04 Kernel: 4.19 Compiler: gcc gcc (Ubuntu 9.4.0-1ubuntu1~20.04.2) 9.4.0 To view detailed results, visit: https://lab.dpdk.org/results/dashboard/patchsets/34319/ UNH-IOL DPDK Community Lab To manage your email subscriptions, visit: https://lab.dpdk.org/results/dashboard/preferences/subscriptions/