From mboxrd@z Thu Jan 1 00:00:00 1970 Return-Path: Received: from mails.dpdk.org (mails.dpdk.org [217.70.189.124]) by inbox.dpdk.org (Postfix) with ESMTP id 7B07B48961 for ; Fri, 17 Oct 2025 17:06:46 +0200 (CEST) Received: from mails.dpdk.org (localhost [127.0.0.1]) by mails.dpdk.org (Postfix) with ESMTP id 74DEC400D7; Fri, 17 Oct 2025 17:06:46 +0200 (CEST) Received: from mail-io1-f99.google.com (mail-io1-f99.google.com [209.85.166.99]) by mails.dpdk.org (Postfix) with ESMTP id 7ABB7400D7 for ; Fri, 17 Oct 2025 17:06:45 +0200 (CEST) Received: by mail-io1-f99.google.com with SMTP id ca18e2360f4ac-90a0b3ddebeso85902539f.0 for ; Fri, 17 Oct 2025 08:06:45 -0700 (PDT) DKIM-Signature: v=1; a=rsa-sha256; c=relaxed/relaxed; d=iol.unh.edu; s=unh-iol; t=1760713604; x=1761318404; darn=dpdk.org; h=references:in-reply-to:cc:to:from:subject:message-id:date:from:to :cc:subject:date:message-id:reply-to; bh=mGvKmGiQfUNW504boo51Z4SykBFrRDWCybNMcGWA18g=; b=cYOVByoRvyJkOjUCCwlLHDij+J3xXyyg0NpZ6qBd9XnEoS6gqIb0Yr6OZWvAHchrum ZSS0Ihpq/+6z0IVNLmS5YBsLckfiz9TMmvN46ZKxC7Nq2SoLAbJQ3oX1KUneqZIPN1SD x9UioIPmbmvNDjCw1WCimR7j4JIxTqNx3CNko= X-Google-DKIM-Signature: v=1; a=rsa-sha256; c=relaxed/relaxed; d=1e100.net; s=20230601; t=1760713604; x=1761318404; h=references:in-reply-to:cc:to:from:subject:message-id:date :x-gm-message-state:from:to:cc:subject:date:message-id:reply-to; bh=mGvKmGiQfUNW504boo51Z4SykBFrRDWCybNMcGWA18g=; b=dsHvoxq4sAFmY5eq5ITvKvRPr2lZqfH+NtsdYZbophb4CnLRT36Z+rEmJGtJrkd9pA rPapNxA73LUgmL7i2tgHkqsGCLjL/O+V7Hqn+z5DQLA1LmqYIWPsJk6o1xSIIrl4tkFF Yqq+eLC/nynxEq+BJ/Gozedi0DyQpFu+QFA1KRYLYoEfsMwrjiW0vUjxdVcOyh99cAZ1 rJ+04UnotELEKap04TSK6spKixn5NOMtrZO0FtL2IqnBlexnkARctY25+e3tVSM71nqi eKLFwHbosHg2N4e7DcQfCeM6Ta2kyyIZwKavr/BtI/VSVLFtnALLTZbMooCKK8IXToAf OUWQ== X-Gm-Message-State: AOJu0YzWMgViW/9OlE+fQBxmSZJOANuRJG4pO1pylT6ve6duQgf3nc08 U5Vj0tqu551RW+8vwLbuHdyWNC9Eu2gqO6O34T2X8e/lm8FYWCtz7zYY+EWqtIiS9+5LdxvEUbt uQTuFudNHeKtrvmMZ46fRyzSjWDpwyqSaxKTWiK87PpBKFXJdJszn/u+l2rI3 X-Gm-Gg: ASbGncte6Eu2Df8I9uNEL+sRhB1LADFq3gT6aGJ2eiZUqqpK25USfctpTTXEiolqT0l ZCYSqQTPkTduO1nSJrr9EaBJGJAT44r/5IXxKkDWppBKJIB3lJRIjU3mA+ObgA7NSnz9aoZapg5 b0T4UT5xrXLgJTwrxNopFeV7Mhorp+TBnIeG0duz/vdfoCWMWyT/5+ey0O6+DtZaWxYQ9VitfCl D821u0ycfkdJM22yIBr66qR7oJVCc7YKm2hqgjaPp0kP8PwM7LyY3kGonU9nQeRe0AR4N6YhJ2a B25uy2iv2wGXjuK9c05TaKwzWjQ9pjsk/dsCOipEBv4dJUkp5oT7ITeYp2JWrt08YTZLlo9J/7J BFotiZFuf X-Google-Smtp-Source: AGHT+IFwn76IDWmX0vgA/ZMFsColNhqxxZraPCZn6+Ch8WGQxnfE6vaEs1OXYRcNiEy/PYiiT8yPuTdiu1Co X-Received: by 2002:a92:cd83:0:b0:430:ae8b:d2d8 with SMTP id e9e14a558f8ab-430c526926cmr57520125ab.15.1760713604314; Fri, 17 Oct 2025 08:06:44 -0700 (PDT) Received: from postal.iol.unh.edu (postal.iol.unh.edu. [2606:4100:3880:1234::84]) by smtp-relay.gmail.com with ESMTPS id 8926c6da1cb9f-5a76f5334a7sm233147173.3.2025.10.17.08.06.44 (version=TLS1_2 cipher=ECDHE-ECDSA-AES128-GCM-SHA256 bits=128/128); Fri, 17 Oct 2025 08:06:44 -0700 (PDT) X-Relaying-Domain: iol.unh.edu Date: Fri, 17 Oct 2025 08:06:44 -0700 (PDT) Message-ID: <68f25b84.050a0220.3a1942.bd3dSMTPIN_ADDED_MISSING@mx.google.com> Received: from [172.21.0.2] (unknown [172.18.0.240]) by postal.iol.unh.edu (Postfix) with ESMTP id ECD5B6051830; Fri, 17 Oct 2025 11:06:43 -0400 (EDT) Subject: |SUCCESS| pw157805 [PATCH] net/tap: fix interrupt callback crash aft From: dpdklab@iol.unh.edu To: Test Report Cc: dpdk-test-reports@iol.unh.edu, Stephen Hemminger In-Reply-To: <20251017121946.421658-2-rjarry@redhat.com> References: <20251017121946.421658-2-rjarry@redhat.com> Content-Type: text/plain X-BeenThere: test-report@dpdk.org X-Mailman-Version: 2.1.29 Precedence: list List-Id: automatic DPDK test reports List-Unsubscribe: , List-Archive: List-Post: List-Help: List-Subscribe: , Errors-To: test-report-bounces@dpdk.org Test-Label: iol-unit-amd64-testing Test-Status: SUCCESS http://dpdk.org/patch/157805 _Testing PASS_ Submitter: Robin Jarry Date: Friday, October 17 2025 12:19:47 DPDK git baseline: Repo:dpdk-next-net Branch: master CommitID:535c49b6264f1df239703b8250b070e4c4cda2e9 157805 --> testing pass Upstream job id: Generic-VM-Unit-Test-DPDK#31886 Test environment and result as below: +-------------------------------+----------------+ | Environment | dpdk_unit_test | +===============================+================+ | CentOS Stream 9 | PASS | +-------------------------------+----------------+ | CentOS Stream 10 | PASS | +-------------------------------+----------------+ | Debian GNU/Linux 12 | PASS | +-------------------------------+----------------+ | Fedora Linux 41 | PASS | +-------------------------------+----------------+ | Fedora Linux 40 | PASS | +-------------------------------+----------------+ | Fedora Linux 42 | PASS | +-------------------------------+----------------+ | Red Hat Enterprise Linux 8.10 | PASS | +-------------------------------+----------------+ | Ubuntu 22.04 | PASS | +-------------------------------+----------------+ | Ubuntu 20.04 | PASS | +-------------------------------+----------------+ | Red Hat Enterprise Linux 9.5 | PASS | +-------------------------------+----------------+ | Ubuntu 24.04 | PASS | +-------------------------------+----------------+ | Windows Server 2022 | PASS | +-------------------------------+----------------+ CentOS Stream 9 Kernel: 5.15 Compiler: gcc gcc (GCC) 11.5.0 20240719 (Red Hat 11.5.0-11) CentOS Stream 10 Kernel: 5.15 Compiler: gcc gcc (GCC) 14.2.1 20250110 (Red Hat 14.2.1-8) Debian GNU/Linux 12 Kernel: 5.15 Compiler: gcc gcc (Debian 12.2.0-14+deb12u1) 12.2.0 Fedora Linux 41 Kernel: 5.15 Compiler: gcc gcc (GCC) 14.3.1 20250523 (Red Hat 14.3.1-1) Fedora Linux 40 Kernel: 5.15 Compiler: clang gcc (GCC) 14.2.1 20240912 (Red Hat 14.2.1-3) Fedora Linux 42 Kernel: 5.15 Compiler: gcc gcc (GCC) 15.2.1 20250808 (Red Hat 15.2.1-1) Red Hat Enterprise Linux 8.10 Kernel: 5.15 Compiler: gcc gcc (GCC) 8.5.0 20210514 (Red Hat 8.5.0-22) Ubuntu 22.04 Kernel: 5.15 Compiler: gcc gcc (Ubuntu 11.4.0-1ubuntu1~22.04) 11.4.0 Ubuntu 20.04 Kernel: 5.15 Compiler: gcc gcc (Ubuntu 9.4.0-1ubuntu1~20.04.2) 9.4.0 Red Hat Enterprise Linux 9.5 Kernel: 5.15 Compiler: gcc gcc (GCC) 11.5.0 20240719 (Red Hat 11.5.0-2) Ubuntu 24.04 Kernel: 5.15 Compiler: gcc gcc (Ubuntu 13.3.0-6ubuntu2~24.04) 13.3.0 Windows Server 2022 Kernel: 10.0.20348.2031 Compiler: clang 15.0.7, gcc 14.1.0 (MinGW), and MSVC VS 19.39.33521 To view detailed results, visit: https://lab.dpdk.org/results/dashboard/patchsets/34314/ UNH-IOL DPDK Community Lab To manage your email subscriptions, visit: https://lab.dpdk.org/results/dashboard/preferences/subscriptions/