From mboxrd@z Thu Jan 1 00:00:00 1970 Return-Path: Received: from mails.dpdk.org (mails.dpdk.org [217.70.189.124]) by inbox.dpdk.org (Postfix) with ESMTP id 1A45E48961 for ; Fri, 17 Oct 2025 17:11:52 +0200 (CEST) Received: from mails.dpdk.org (localhost [127.0.0.1]) by mails.dpdk.org (Postfix) with ESMTP id F238D400D7; Fri, 17 Oct 2025 17:11:51 +0200 (CEST) Received: from mail-pj1-f99.google.com (mail-pj1-f99.google.com [209.85.216.99]) by mails.dpdk.org (Postfix) with ESMTP id 27FAF400D7 for ; Fri, 17 Oct 2025 17:11:51 +0200 (CEST) Received: by mail-pj1-f99.google.com with SMTP id 98e67ed59e1d1-33bafd5d2adso1732883a91.3 for ; Fri, 17 Oct 2025 08:11:51 -0700 (PDT) DKIM-Signature: v=1; a=rsa-sha256; c=relaxed/relaxed; d=iol.unh.edu; s=unh-iol; t=1760713910; x=1761318710; darn=dpdk.org; h=references:in-reply-to:cc:to:from:subject:message-id:date:from:to :cc:subject:date:message-id:reply-to; bh=hhZvGRUOCzvBfNFDEy6cT5wJ6VDajv4A7b7hPK4p9G8=; b=FT3y/VwBrmAFyTo9i1ZXZ77aAJ4T6eMD7kzfu2ZBt0hKwmTR3GY34vDjEZcfK0L89c ktBBk6W8hMBwsap9a3Uei0FQVz0SAs39vdMfdSlNCqBnV29RRirB9Ifn26v3UWCHGfAP D5HCQrIHjsxJXi8lfQRoXH3kMkZCmqyts3Hqc= X-Google-DKIM-Signature: v=1; a=rsa-sha256; c=relaxed/relaxed; d=1e100.net; s=20230601; t=1760713910; x=1761318710; h=references:in-reply-to:cc:to:from:subject:message-id:date :x-gm-message-state:from:to:cc:subject:date:message-id:reply-to; bh=hhZvGRUOCzvBfNFDEy6cT5wJ6VDajv4A7b7hPK4p9G8=; b=gwnTWI/0PkxBfdLAcXLXzfxjrQgafLMK492H9d+GBTYk+yi6dM7TwTZV0FiekalXnE AuMkStcu+sxAfWVD3l485bk3U+zawCdjc5rS6ry6zub+TaJPvUAwILmCsIhXZIg9LqyR 8s7LE4wQn2a5kkOKGMrlsdzG/UjaJ42DgKhwQGLXaQNATePNE+QsRPj3W+1qaPbo13YL +ELASuHuSf/74EbhP5bAsisi6FoEhLlCtSPn4TQRJ3MKi/M1GgOeNRDiGkadTgZc9oPt 50/h2LQ7uIA5ANyB+1noB07Kh4WkSsAAdZoSrR13glzBq/59DsGChC3UAtoiaU0rG1+R iiwA== X-Gm-Message-State: AOJu0YxE8ouBxGmT59P7TMrQbkunq7FAfLCWjoFnlB058U3rzEOzoYx2 XYCRpruFq+e4oOUtDqnmuQvus7ws2/jQGheCIAW3hqTZm7ubnkdy6UjsMFKMB6+G+nZtmFOhfGY LS3g+D2hn94HxCUuzudUkpCulZPPDMp5sUFJA7mI5QhWY X-Gm-Gg: ASbGncvsyLonjRFEuHMfv8sKyfvMUk/j4tb1R/6BNtrEtjsl2WSxhmeT3ULP/5YXQws rnoMHHZ6gkrcFyiruXBqXng5GXhfnGW3iJbeqUn3apGchT3Or+idlStTfu8LIp74vzQme37XNOa stn+icbdpqflqaJtpOMBTVZtDtTq4jZi/WoWipTLs/zXAHlYAuuPrg/U6if/N/uQR9uuOsSwQ6+ opSpBowBQxYiVX9X1Wl8nDf6pYrsp9BjT6ujVYhW/i2hx/VhvgRTCOCgLpGRTIW0i0izC+o7yH8 mBDlZwGQ2evjuPHt9Wojaqd2GJqNj93Yw3+OzedlqHHxepzKbRBqeSlOILDJGXz5KHhFe2Ql6Ol V7uLNvnORQMsYTg3+x9udfCwZ2c8URh0= X-Google-Smtp-Source: AGHT+IFlgHVUvctzn1Rf9e5DsCrMAk9f8AxCDwrOkYeNTPJBShLo82mLtRfkMRlHD8I8kgmbVuwQOnE5wijI X-Received: by 2002:a17:90b:2789:b0:321:9366:5865 with SMTP id 98e67ed59e1d1-33bcf928b12mr5418254a91.33.1760713910161; Fri, 17 Oct 2025 08:11:50 -0700 (PDT) Received: from postal.iol.unh.edu (postal.iol.unh.edu. [132.177.123.84]) by smtp-relay.gmail.com with ESMTPS id 98e67ed59e1d1-33bd7b927fdsm320311a91.7.2025.10.17.08.11.50 (version=TLS1_2 cipher=ECDHE-ECDSA-AES128-GCM-SHA256 bits=128/128); Fri, 17 Oct 2025 08:11:50 -0700 (PDT) X-Relaying-Domain: iol.unh.edu Date: Fri, 17 Oct 2025 08:11:50 -0700 (PDT) Message-ID: <68f25cb6.170a0220.15537d.0345SMTPIN_ADDED_MISSING@mx.google.com> Received: from [172.21.0.3] (unknown [172.18.0.240]) by postal.iol.unh.edu (Postfix) with ESMTP id 6640C6051830; Fri, 17 Oct 2025 11:11:49 -0400 (EDT) Subject: |SUCCESS| pw157812-157813 [PATCH] [v2,2/2] usertools/dpdk-telemetry- From: dpdklab@iol.unh.edu To: Test Report Cc: dpdk-test-reports@iol.unh.edu In-Reply-To: <20251017141927.1156370-3-bruce.richardson@intel.com> References: <20251017141927.1156370-3-bruce.richardson@intel.com> Content-Type: text/plain X-BeenThere: test-report@dpdk.org X-Mailman-Version: 2.1.29 Precedence: list List-Id: automatic DPDK test reports List-Unsubscribe: , List-Archive: List-Post: List-Help: List-Subscribe: , Errors-To: test-report-bounces@dpdk.org Test-Label: iol-unit-amd64-testing Test-Status: SUCCESS http://dpdk.org/patch/157813 _Testing PASS_ Submitter: Bruce Richardson Date: Friday, October 17 2025 14:19:27 DPDK git baseline: Repo:dpdk Branch: master CommitID:438491733c2d8a109574449d3d6de9b25a05c07c 157812-157813 --> testing pass Upstream job id: Generic-Unit-Test-DPDK#382850 Test environment and result as below: +-------------------------------+----------------+ | Environment | dpdk_unit_test | +===============================+================+ | Fedora Linux 40 | PASS | +-------------------------------+----------------+ | CentOS Stream 10 | PASS | +-------------------------------+----------------+ | Debian GNU/Linux 12 | PASS | +-------------------------------+----------------+ | CentOS Stream 9 | PASS | +-------------------------------+----------------+ | Fedora Linux 41 | PASS | +-------------------------------+----------------+ | Red Hat Enterprise Linux 8.10 | PASS | +-------------------------------+----------------+ | Fedora Linux 42 | PASS | +-------------------------------+----------------+ | Ubuntu 22.04 | PASS | +-------------------------------+----------------+ | Red Hat Enterprise Linux 9.5 | PASS | +-------------------------------+----------------+ | Ubuntu 24.04 | PASS | +-------------------------------+----------------+ | Ubuntu 20.04 | PASS | +-------------------------------+----------------+ Fedora Linux 40 Kernel: 5.15 Compiler: gcc gcc (GCC) 14.2.1 20240912 (Red Hat 14.2.1-3) CentOS Stream 10 Kernel: 5.15 Compiler: gcc gcc (GCC) 14.2.1 20250110 (Red Hat 14.2.1-8) Debian GNU/Linux 12 Kernel: 5.15 Compiler: gcc gcc (Debian 12.2.0-14+deb12u1) 12.2.0 CentOS Stream 9 Kernel: 5.15 Compiler: gcc gcc (GCC) 11.5.0 20240719 (Red Hat 11.5.0-11) Fedora Linux 41 Kernel: 5.15 Compiler: gcc gcc (GCC) 14.3.1 20250523 (Red Hat 14.3.1-1) Red Hat Enterprise Linux 8.10 Kernel: 5.15 Compiler: gcc gcc (GCC) 8.5.0 20210514 (Red Hat 8.5.0-22) Fedora Linux 42 Kernel: 5.15 Compiler: gcc gcc (GCC) 15.2.1 20250808 (Red Hat 15.2.1-1) Ubuntu 22.04 Kernel: 5.15 Compiler: gcc gcc (Ubuntu 11.4.0-1ubuntu1~22.04) 11.4.0 Red Hat Enterprise Linux 9.5 Kernel: 5.15 Compiler: gcc gcc (GCC) 11.5.0 20240719 (Red Hat 11.5.0-2) Ubuntu 24.04 Kernel: 5.15 Compiler: gcc gcc (Ubuntu 13.3.0-6ubuntu2~24.04) 13.3.0 Ubuntu 20.04 Kernel: 5.15 Compiler: gcc gcc (Ubuntu 9.4.0-1ubuntu1~20.04.2) 9.4.0 To view detailed results, visit: https://lab.dpdk.org/results/dashboard/patchsets/34319/ UNH-IOL DPDK Community Lab To manage your email subscriptions, visit: https://lab.dpdk.org/results/dashboard/preferences/subscriptions/