From mboxrd@z Thu Jan 1 00:00:00 1970 Return-Path: Received: from mails.dpdk.org (mails.dpdk.org [217.70.189.124]) by inbox.dpdk.org (Postfix) with ESMTP id 61C2148961 for ; Fri, 17 Oct 2025 17:14:50 +0200 (CEST) Received: from mails.dpdk.org (localhost [127.0.0.1]) by mails.dpdk.org (Postfix) with ESMTP id 5B55A400D7; Fri, 17 Oct 2025 17:14:50 +0200 (CEST) Received: from mail-pl1-f226.google.com (mail-pl1-f226.google.com [209.85.214.226]) by mails.dpdk.org (Postfix) with ESMTP id 87ABD400D7 for ; Fri, 17 Oct 2025 17:14:48 +0200 (CEST) Received: by mail-pl1-f226.google.com with SMTP id d9443c01a7336-27c369f898fso28527615ad.3 for ; Fri, 17 Oct 2025 08:14:48 -0700 (PDT) DKIM-Signature: v=1; a=rsa-sha256; c=relaxed/relaxed; d=iol.unh.edu; s=unh-iol; t=1760714088; x=1761318888; darn=dpdk.org; h=references:in-reply-to:cc:to:from:subject:message-id:date:from:to :cc:subject:date:message-id:reply-to; bh=xv3jvCaEpWAMXyi1j4DwdU8mGUAcOSQGsaxT0vSIA4s=; b=SmXFXmZ/gTowaNz2CdjYQWfu+/fionaukzmj0y/YNLsSOaBhXhYqGbIto0HYQx0NzC uNAR0UDH5LxndHZ3wZ2i5WeZlT7grur+tIX4PL/1xwVY8fY/vWoMezAseyJe1pTgr1Sl WZ7GgVE97sKsibKX4sjTWDjBlgjMB605STVS8= X-Google-DKIM-Signature: v=1; a=rsa-sha256; c=relaxed/relaxed; d=1e100.net; s=20230601; t=1760714088; x=1761318888; h=references:in-reply-to:cc:to:from:subject:message-id:date :x-gm-message-state:from:to:cc:subject:date:message-id:reply-to; bh=xv3jvCaEpWAMXyi1j4DwdU8mGUAcOSQGsaxT0vSIA4s=; b=tGd6OiBMfPJwWXm76CLJ9jgysnbdadJ5h8PT7auLOapah9SRmv/SDtfwK6u5DNqlPF DruVEBmZ0Ru5AUA+Rv9IoajhMcqFqnjXo4t7QQxWDj8uC0yMJ+1GKxcBQ7y+IzGUTtkn ttqahxrVQZcBpDh9q2hmPfXKZpl+bd+AvDXxFoi6oEXIKL9oshWQulPxqY/5Bq4GhjQC NKkqaRPTA5e5I0/rzEsezg1ay89FknfUz1Bs2SImTwG/96FqLN6XWCDDk/HSiLN84UKX RYej8qU+34cCl5Eda1Ok9MZkKHs9zP9AsDlPe6mmWXhvkW4ZSjOXvIDtUJSm5jhUqsCQ nP+w== X-Gm-Message-State: AOJu0YylY/VbEsZrt7vgSKXUNTSwSbQ6VOaKvR5ePWD4rjZpW6qmCvUI 3Z4nzKGBRIvQ5zRIb911bGIVIa0I3sO3zfiriPGfMQoDA48u8+CPa2KN9KyAuXOLxNOLEG+TeX2 QyQ720Dv7Cke98KbVuKhrHFjOF2d9H7E0A2LUdu0vLxGN4S1FcJttmrkM1rrM X-Gm-Gg: ASbGncsPmG5XOqglN26hyMomTdUYgd9b5FiOQGg6a5qYNuDRhqnw2YLtib+S0KBo+0l xAVToviE3M+M7MOCgrUrnHQMF2lDgGTSj4aeOW1AUpF17TSNP+a5TKAHQ9fUww0BXyGjZ8Wad+3 4Yr4nfWlWypHXVV/fDW1VVIsYLIGxHXQnA0hOZVfuGRVwpDULHUteGsrtkrjncr8bRLLVgQOVBZ 9odkJm98pAyW8+QSAXmHPvlXf+EFpO8IeSVKX+ZMmfqrVsbJ+bK2v6Jco0hKZDPOOqoBOTCVrAS F6nZFrJDPLIJrPLKtsVTJN1iFnagAxFYLoDXF8krTBTBECaefCycaUfBB91EPH8YHN9EiEi4lbS 7A6iAr+0r X-Google-Smtp-Source: AGHT+IEXZmboQKtEvNdgGpzHAtsC7IqEtujJq/Le08S+qCtlmBoE7A3HYzH4y+curgb63BeNw8USowH0Xcvq X-Received: by 2002:a17:903:1a0e:b0:270:ea84:324a with SMTP id d9443c01a7336-290ca121a70mr40557075ad.38.1760714087736; Fri, 17 Oct 2025 08:14:47 -0700 (PDT) Received: from postal.iol.unh.edu (postal.iol.unh.edu. [2606:4100:3880:1234::84]) by smtp-relay.gmail.com with ESMTPS id d9443c01a7336-290ccecff5bsm3717585ad.56.2025.10.17.08.14.47 (version=TLS1_2 cipher=ECDHE-ECDSA-AES128-GCM-SHA256 bits=128/128); Fri, 17 Oct 2025 08:14:47 -0700 (PDT) X-Relaying-Domain: iol.unh.edu Date: Fri, 17 Oct 2025 08:14:47 -0700 (PDT) Message-ID: <68f25d67.170a0220.d5472.2cd7SMTPIN_ADDED_MISSING@mx.google.com> Received: from [172.21.0.2] (unknown [172.18.0.240]) by postal.iol.unh.edu (Postfix) with ESMTP id 38ADE6051830; Fri, 17 Oct 2025 11:14:47 -0400 (EDT) Subject: |SUCCESS| pw157805 [PATCH] net/tap: fix interrupt callback crash aft From: dpdklab@iol.unh.edu To: Test Report Cc: dpdk-test-reports@iol.unh.edu, Stephen Hemminger In-Reply-To: <20251017121946.421658-2-rjarry@redhat.com> References: <20251017121946.421658-2-rjarry@redhat.com> Content-Type: text/plain X-BeenThere: test-report@dpdk.org X-Mailman-Version: 2.1.29 Precedence: list List-Id: automatic DPDK test reports List-Unsubscribe: , List-Archive: List-Post: List-Help: List-Subscribe: , Errors-To: test-report-bounces@dpdk.org Test-Label: iol-unit-amd64-testing Test-Status: SUCCESS http://dpdk.org/patch/157805 _Testing PASS_ Submitter: Robin Jarry Date: Friday, October 17 2025 12:19:47 DPDK git baseline: Repo:dpdk-next-net Branch: master CommitID:535c49b6264f1df239703b8250b070e4c4cda2e9 157805 --> testing pass Upstream job id: Generic-VM-Unit-Test-DPDK#31887 Test environment and result as below: +-------------------------------+----------------+ | Environment | dpdk_unit_test | +===============================+================+ | CentOS Stream 9 | PASS | +-------------------------------+----------------+ | CentOS Stream 10 | PASS | +-------------------------------+----------------+ | Debian GNU/Linux 12 | PASS | +-------------------------------+----------------+ | Fedora Linux 41 | PASS | +-------------------------------+----------------+ | Fedora Linux 40 | PASS | +-------------------------------+----------------+ | Fedora Linux 42 | PASS | +-------------------------------+----------------+ | Red Hat Enterprise Linux 8.10 | PASS | +-------------------------------+----------------+ | Ubuntu 22.04 | PASS | +-------------------------------+----------------+ | Ubuntu 20.04 | PASS | +-------------------------------+----------------+ | Red Hat Enterprise Linux 9.5 | PASS | +-------------------------------+----------------+ | Ubuntu 24.04 | PASS | +-------------------------------+----------------+ | Windows Server 2022 | PASS | +-------------------------------+----------------+ CentOS Stream 9 Kernel: 5.15 Compiler: gcc gcc (GCC) 11.5.0 20240719 (Red Hat 11.5.0-11) CentOS Stream 10 Kernel: 5.15 Compiler: gcc gcc (GCC) 14.2.1 20250110 (Red Hat 14.2.1-8) Debian GNU/Linux 12 Kernel: 5.15 Compiler: gcc gcc (Debian 12.2.0-14+deb12u1) 12.2.0 Fedora Linux 41 Kernel: 5.15 Compiler: gcc gcc (GCC) 14.3.1 20250523 (Red Hat 14.3.1-1) Fedora Linux 40 Kernel: 5.15 Compiler: clang gcc (GCC) 14.2.1 20240912 (Red Hat 14.2.1-3) Fedora Linux 42 Kernel: 5.15 Compiler: gcc gcc (GCC) 15.2.1 20250808 (Red Hat 15.2.1-1) Red Hat Enterprise Linux 8.10 Kernel: 5.15 Compiler: gcc gcc (GCC) 8.5.0 20210514 (Red Hat 8.5.0-22) Ubuntu 22.04 Kernel: 5.15 Compiler: gcc gcc (Ubuntu 11.4.0-1ubuntu1~22.04) 11.4.0 Ubuntu 20.04 Kernel: 5.15 Compiler: gcc gcc (Ubuntu 9.4.0-1ubuntu1~20.04.2) 9.4.0 Red Hat Enterprise Linux 9.5 Kernel: 5.15 Compiler: gcc gcc (GCC) 11.5.0 20240719 (Red Hat 11.5.0-2) Ubuntu 24.04 Kernel: 5.15 Compiler: gcc gcc (Ubuntu 13.3.0-6ubuntu2~24.04) 13.3.0 Windows Server 2022 Kernel: 10.0.20348.2031 Compiler: clang 15.0.7, gcc 14.1.0 (MinGW), and MSVC VS 19.39.33521 To view detailed results, visit: https://lab.dpdk.org/results/dashboard/patchsets/34314/ UNH-IOL DPDK Community Lab To manage your email subscriptions, visit: https://lab.dpdk.org/results/dashboard/preferences/subscriptions/