From mboxrd@z Thu Jan 1 00:00:00 1970 Return-Path: Received: from mails.dpdk.org (mails.dpdk.org [217.70.189.124]) by inbox.dpdk.org (Postfix) with ESMTP id 82D3A48961 for ; Fri, 17 Oct 2025 17:15:51 +0200 (CEST) Received: from mails.dpdk.org (localhost [127.0.0.1]) by mails.dpdk.org (Postfix) with ESMTP id 7BF74400D7; Fri, 17 Oct 2025 17:15:51 +0200 (CEST) Received: from mail-pf1-f228.google.com (mail-pf1-f228.google.com [209.85.210.228]) by mails.dpdk.org (Postfix) with ESMTP id E9708400D7 for ; Fri, 17 Oct 2025 17:15:50 +0200 (CEST) Received: by mail-pf1-f228.google.com with SMTP id d2e1a72fcca58-7800ff158d5so1989580b3a.1 for ; Fri, 17 Oct 2025 08:15:50 -0700 (PDT) DKIM-Signature: v=1; a=rsa-sha256; c=relaxed/relaxed; d=iol.unh.edu; s=unh-iol; t=1760714150; x=1761318950; darn=dpdk.org; h=cc:to:from:subject:message-id:date:from:to:cc:subject:date :message-id:reply-to; bh=VvGp4BQ1JkeJ/YbyMx6EyLvLNymGShYkK9efSn8B8n4=; b=UpF+GsFfUGx6UukJ/dewF+OwwmZAtMOYVU+7CpxV52cDSZnekI2Hb0vB9NzNuq6Hlf KzLs0bRQHlr6u78MwbbQAGG1q7FVGSB0Zu6qD7nqnTnWBEHmBrr+Rk2YzdGzY2LwCSY5 sLn9FYIJQ9rVI1hpZjlhrDBJB53dPiFtI+9tc= X-Google-DKIM-Signature: v=1; a=rsa-sha256; c=relaxed/relaxed; d=1e100.net; s=20230601; t=1760714150; x=1761318950; h=cc:to:from:subject:message-id:date:x-gm-message-state:from:to:cc :subject:date:message-id:reply-to; bh=VvGp4BQ1JkeJ/YbyMx6EyLvLNymGShYkK9efSn8B8n4=; b=KCdQS+fgoJ9QndF+vaTndyrK4P+/zaEoa1u9QnG/dH2vDJ2UfJ3h6tZwjCcw9skpaX qYMPPAqeZoVX3KfN7Pg5HunI5QdZ/ydSRw8QYmfcJ3VK+E6aGWYRw8otgmlVzSo2jNnw k3J5COGihfcqfVWPIY3CeY3SCJRBihfNR02w2lFbeHEnG7xdGyrTP9wQP0DioWTjgWxY mzuO+HptvUYrkAWqHVTcVpe0F5Ev7XV82GIBnc2U5woGfQACx8Tb6UeuE/fR7x369l2G dA5QRJ/LwRvkFBNo2gYg/12y44IFpaCikWw2l/jcfFRChuMofKy0TVfCl1/NLzgmn3Hj 7egg== X-Gm-Message-State: AOJu0Yw4RgJlaZ1STB5F7XRnFQPgYI933pthiZoWUgpezD608K+O9RrX i9fDVJA0iSFAVFjfPsQXvJ2WyiufO2nc0/nJ0NlO7ayxU2JsqQ0N3gYPjNlyyD1Pit1ZV9AWfe1 uoNnFKYyz97YzZD+irHRb7pJCBEbricUd83KlNXQdMNfH X-Gm-Gg: ASbGncuQcmwXi92/1VurdzTn/ewIr7bYxeERGF6ZeJszxd789N7J7IzVs4RhPWDlA1f cErAi8sbgABBQThQYDtltCqSvPhOqblBcNLFIgadn5n36zWVfgQaAjXDMz2NThCb8O9Gp4pMHIM Zo7z3uNWhvP28psW2KjRtweRoEvl0OMCnr6RRXmbCZ1hU8x6lVzkl1lITId0Eqth/C8cYwxmpCF BP25GZUqaPKIEB7ZwJXJG3KHnjKrPaRYPQ0Zy1zzkYWlZCnA2DTzfxoQneFZjzC+3a2zX3MM7Ps g6jXT55MBnxPU8VBX2cwMu8053K79slMw4cDwdNkCAhtG4I8ifs1Qn2y8KXmZ4TVvHijh4I6Yxe lwJgnITy/KNTR5zkiQH0+Kn4JXyEvoxs= X-Google-Smtp-Source: AGHT+IGRkN/SYS0H2/hPI35uHMOFnz7cdcdI/nUTkGb++mQVQ0l9wMNKc3zSqob0mQ3/uYFUpVx/h0c+AtJC X-Received: by 2002:a05:6a20:7486:b0:32d:b924:e5ef with SMTP id adf61e73a8af0-334a850c788mr5535427637.27.1760714149907; Fri, 17 Oct 2025 08:15:49 -0700 (PDT) Received: from postal.iol.unh.edu (postal.iol.unh.edu. [132.177.123.84]) by smtp-relay.gmail.com with ESMTPS id 41be03b00d2f7-b6a76b30ef1sm2387a12.10.2025.10.17.08.15.49 (version=TLS1_2 cipher=ECDHE-ECDSA-AES128-GCM-SHA256 bits=128/128); Fri, 17 Oct 2025 08:15:49 -0700 (PDT) X-Relaying-Domain: iol.unh.edu Date: Fri, 17 Oct 2025 08:15:49 -0700 (PDT) Message-ID: <68f25da5.650a0220.2252b8.01eaSMTPIN_ADDED_MISSING@mx.google.com> Received: from [172.21.0.2] (unknown [172.18.0.240]) by postal.iol.unh.edu (Postfix) with ESMTP id 2B8266050A61; Fri, 17 Oct 2025 11:15:49 -0400 (EDT) Subject: |WARNING| [GIT MASTER] 535c49b6264f1df239703b8250b070e4c4cda2e9 From: dpdklab@iol.unh.edu To: Test Report Cc: dpdk-test-reports@iol.unh.edu, Stephen Hemminger Content-Type: text/plain X-BeenThere: test-report@dpdk.org X-Mailman-Version: 2.1.29 Precedence: list List-Id: automatic DPDK test reports List-Unsubscribe: , List-Archive: List-Post: List-Help: List-Subscribe: , Errors-To: test-report-bounces@dpdk.org _Testing issues_ Branch: dpdk-next-net 535c49b6264f1df239703b8250b070e4c4cda2e9 --> testing issues Upstream job id: Generic-DPDK-Compile-Meson#435333 Test environment and result as below: +-------------------------------+--------------------+-------------------+-------------------------+----------------------+-------------------+------------------+ | Environment | dpdk_meson_compile | dpdk_msvc_compile | dpdk_llvm_clang_compile | dpdk_mingw64_compile | dpdk_compile_spdk | dpdk_compile_ovs | +===============================+====================+===================+=========================+======================+===================+==================+ | Ubuntu 20.04 | PASS | SKIPPED | SKIPPED | SKIPPED | SKIPPED | SKIPPED | +-------------------------------+--------------------+-------------------+-------------------------+----------------------+-------------------+------------------+ | FreeBSD 14.2 | PASS | SKIPPED | SKIPPED | SKIPPED | SKIPPED | SKIPPED | +-------------------------------+--------------------+-------------------+-------------------------+----------------------+-------------------+------------------+ | CentOS Stream 9 | PASS | SKIPPED | SKIPPED | SKIPPED | WARN | SKIPPED | +-------------------------------+--------------------+-------------------+-------------------------+----------------------+-------------------+------------------+ | CentOS Stream 10 | PASS | SKIPPED | SKIPPED | SKIPPED | SKIPPED | SKIPPED | +-------------------------------+--------------------+-------------------+-------------------------+----------------------+-------------------+------------------+ | Debian GNU/Linux 12 | PASS | SKIPPED | SKIPPED | SKIPPED | WARN | SKIPPED | +-------------------------------+--------------------+-------------------+-------------------------+----------------------+-------------------+------------------+ | Fedora Linux 42 | PASS | SKIPPED | SKIPPED | SKIPPED | WARN | PASS | +-------------------------------+--------------------+-------------------+-------------------------+----------------------+-------------------+------------------+ | openSUSE Leap 15.6 | PASS | SKIPPED | SKIPPED | SKIPPED | SKIPPED | SKIPPED | +-------------------------------+--------------------+-------------------+-------------------------+----------------------+-------------------+------------------+ | Red Hat Enterprise Linux 8.10 | PASS | SKIPPED | SKIPPED | SKIPPED | SKIPPED | SKIPPED | +-------------------------------+--------------------+-------------------+-------------------------+----------------------+-------------------+------------------+ | Red Hat Enterprise Linux 9.5 | PASS | SKIPPED | SKIPPED | SKIPPED | SKIPPED | SKIPPED | +-------------------------------+--------------------+-------------------+-------------------------+----------------------+-------------------+------------------+ | Ubuntu 22.04 | PASS | SKIPPED | SKIPPED | SKIPPED | WARN | SKIPPED | +-------------------------------+--------------------+-------------------+-------------------------+----------------------+-------------------+------------------+ | Ubuntu 24.04 | PASS | SKIPPED | SKIPPED | SKIPPED | WARN | PASS | +-------------------------------+--------------------+-------------------+-------------------------+----------------------+-------------------+------------------+ | Alpine Linux 3.22.0 | PASS | SKIPPED | SKIPPED | SKIPPED | SKIPPED | SKIPPED | +-------------------------------+--------------------+-------------------+-------------------------+----------------------+-------------------+------------------+ | Windows Server 2022 | SKIPPED | PASS | PASS | PASS | SKIPPED | SKIPPED | +-------------------------------+--------------------+-------------------+-------------------------+----------------------+-------------------+------------------+ ==== 20 line log output for Ubuntu 24.04 (dpdk_compile_spdk): ==== --- Failed to get log output --- ==== End log output ==== Ubuntu 20.04 Kernel: 4.19 Compiler: gcc gcc (Ubuntu 9.4.0-1ubuntu1~20.04.2) 9.4.0 FreeBSD 14.2 Kernel: 14.2-RELEASE Compiler: clang 18.1.6 CentOS Stream 9 Kernel: 5.15 Compiler: gcc gcc (GCC) 11.5.0 20240719 (Red Hat 11.5.0-11) CentOS Stream 10 Kernel: 5.15 Compiler: gcc gcc (GCC) 14.2.1 20250110 (Red Hat 14.2.1-8) Debian GNU/Linux 12 Kernel: 5.15 Compiler: gcc gcc (Debian 12.2.0-14+deb12u1) 12.2.0 Fedora Linux 42 Kernel: 5.15 Compiler: clang gcc (GCC) 15.2.1 20250808 (Red Hat 15.2.1-1) openSUSE Leap 15.6 Kernel: 5.15 Compiler: gcc gcc (SUSE Linux) 7.5.0 Red Hat Enterprise Linux 8.10 Kernel: 5.15 Compiler: gcc gcc (GCC) 8.5.0 20210514 (Red Hat 8.5.0-22) Red Hat Enterprise Linux 9.5 Kernel: 5.15 Compiler: gcc gcc (GCC) 11.5.0 20240719 (Red Hat 11.5.0-2) Ubuntu 22.04 Kernel: 5.15 Compiler: gcc gcc (Ubuntu 11.4.0-1ubuntu1~22.04) 11.4.0 Ubuntu 24.04 Kernel: 5.15 Compiler: gcc gcc (Ubuntu 13.3.0-6ubuntu2~24.04) 13.3.0 Alpine Linux 3.22.0 Kernel: 5.15 Compiler: gcc gcc (Alpine 14.2.0) 14.2.0 Windows Server 2022 Kernel: 10.0.20348.2031 Compiler: clang 15.0.7, gcc 14.1.0 (MinGW), and MSVC VS 19.39.33521 To view detailed results, visit: https://lab.dpdk.org/results/dashboard/tarballs/35248/ UNH-IOL DPDK Community Lab To manage your email subscriptions, visit: https://lab.dpdk.org/results/dashboard/preferences/subscriptions/