From mboxrd@z Thu Jan 1 00:00:00 1970 Return-Path: Received: from mails.dpdk.org (mails.dpdk.org [217.70.189.124]) by inbox.dpdk.org (Postfix) with ESMTP id 47F1848961 for ; Fri, 17 Oct 2025 17:24:21 +0200 (CEST) Received: from mails.dpdk.org (localhost [127.0.0.1]) by mails.dpdk.org (Postfix) with ESMTP id 4177A400D7; Fri, 17 Oct 2025 17:24:21 +0200 (CEST) Received: from mail-qv1-f97.google.com (mail-qv1-f97.google.com [209.85.219.97]) by mails.dpdk.org (Postfix) with ESMTP id 39A58400D7 for ; Fri, 17 Oct 2025 17:24:20 +0200 (CEST) Received: by mail-qv1-f97.google.com with SMTP id 6a1803df08f44-87c1f61ba98so24536006d6.0 for ; Fri, 17 Oct 2025 08:24:20 -0700 (PDT) DKIM-Signature: v=1; a=rsa-sha256; c=relaxed/relaxed; d=iol.unh.edu; s=unh-iol; t=1760714659; x=1761319459; darn=dpdk.org; h=references:in-reply-to:cc:to:from:subject:message-id:date:from:to :cc:subject:date:message-id:reply-to; bh=vr7OcpZ18SmI9JiShE4gwEq5FqUwcDP5iXt7HNeR+OA=; b=JQ17WaM8io7lLW5C+QNrPWQCNbUzv1e7ef1fB5rl5OT+w3XqF8AXVtLvzr82apDL7B w7ByMQlOavXWS34TXfVKvujeWIBvBikikb15XJ62Xd+HOZ6ISgf2NRpneltix/XfEPNU 6IwAGQjAFUzwdEx522HL/VQ7vbQ3vehrZsdl8= X-Google-DKIM-Signature: v=1; a=rsa-sha256; c=relaxed/relaxed; d=1e100.net; s=20230601; t=1760714659; x=1761319459; h=references:in-reply-to:cc:to:from:subject:message-id:date :x-gm-message-state:from:to:cc:subject:date:message-id:reply-to; bh=vr7OcpZ18SmI9JiShE4gwEq5FqUwcDP5iXt7HNeR+OA=; b=P4WspL2ld0IrXa1gTWvjim2w/W9N1TPo8OEnk/9r2l7VEfs0gV8TNBR8kALqtoVQ0s LroXQS94OBs2DSDc8xoaP6ItVtDQi3QDZJdPe5EtcQWhabUVSfAV9H9Zh2tyaemSm67W 5tAsiu6Sqvd48iFlbWFA+ZDJhqtHMcPtpuX5B18aPuSZnYxWCTn+nQs594RbGI4sz3BV WYGiepaLeAnG3WFvtUaO95RryAJeG/pSTVnfoXLlagvq43Sr08Mdp8EGu/C9tB/N/gqZ FnmOjibvntgTUloiFhbzbfVwyfJIxErvMMwzc5pAmhL4yVz0RQcaYbX45VkzYi7AhvLE Rx+Q== X-Gm-Message-State: AOJu0YxtRyf3M9ryHsFn6eLmameR7L6gN31FgsFksXHHs9FGZAhONdhr Xw69xJxFYVC7DziDfxBpPC2728USiHs312UGd3xVzlazybdn0oryKum8hACnvRl3g3m4UdNP5/D CUOEGvenRiP3vF9LwD9Jkthaz8r6/XWee2dbPFKNmNjS2iWs4uAm71wOsaKwb X-Gm-Gg: ASbGncuhOjfnkaFxpizjdq9T4C0BUDsCfR+O3CyHTM1ueL5M7nJKshXgCsgaYcLlMnb jD+lUj9g6vxu0JNBbvnAsAlAjf0bANoGdy8kqn6coVJVZRKp6PwPHkw2T2V8PuG7Z4u+L0GWSp6 cGE0d8PtSQiAIqDUx8AZmM+UEoj2EpqDjxMfFFrjvIQPwBbxMD19wLn4ZMCm51QRS+nkbqfswQZ EdZsnjwByymtwW7aEIwIXi2kya/Vy5+1IPCtfDZrue+pUdEzMBWO0x6U0bPTSvkj1bhK6tgcLP6 TkDxSYBXt8uBUol5EK2ha8g7V6J9A2TTbhlYuWARAy2X1RBmZg7AqsxgCH7natP1L0Uc/3DTTRA 9PyEfcjDo X-Google-Smtp-Source: AGHT+IERrx39yb3oiOXp8eQGbin+X+994X9ac5F7kYAqEGRrJXD/2VsQ4S4Cg3emMolpMN7QuuWZvCvBsJrg X-Received: by 2002:a05:6214:500b:b0:7ad:476d:980c with SMTP id 6a1803df08f44-87c2064753fmr61835196d6.50.1760714659314; Fri, 17 Oct 2025 08:24:19 -0700 (PDT) Received: from postal.iol.unh.edu (postal.iol.unh.edu. [2606:4100:3880:1234::84]) by smtp-relay.gmail.com with ESMTPS id 6a1803df08f44-87cf54a0befsm50906d6.28.2025.10.17.08.24.19 (version=TLS1_2 cipher=ECDHE-ECDSA-AES128-GCM-SHA256 bits=128/128); Fri, 17 Oct 2025 08:24:19 -0700 (PDT) X-Relaying-Domain: iol.unh.edu Date: Fri, 17 Oct 2025 08:24:19 -0700 (PDT) Message-ID: <68f25fa3.050a0220.2ab843.03e6SMTPIN_ADDED_MISSING@mx.google.com> Received: from [172.21.0.5] (unknown [172.18.0.240]) by postal.iol.unh.edu (Postfix) with ESMTP id 116F46050A61; Fri, 17 Oct 2025 11:24:19 -0400 (EDT) Subject: |SUCCESS| pw157807-157808 [PATCH] [v3,2/2] mailmap: sort mailmap From: dpdklab@iol.unh.edu To: Test Report Cc: dpdk-test-reports@iol.unh.edu In-Reply-To: <20251017133812.1109638-3-bruce.richardson@intel.com> References: <20251017133812.1109638-3-bruce.richardson@intel.com> Content-Type: text/plain X-BeenThere: test-report@dpdk.org X-Mailman-Version: 2.1.29 Precedence: list List-Id: automatic DPDK test reports List-Unsubscribe: , List-Archive: List-Post: List-Help: List-Subscribe: , Errors-To: test-report-bounces@dpdk.org Test-Label: iol-unit-amd64-testing Test-Status: SUCCESS http://dpdk.org/patch/157808 _Testing PASS_ Submitter: Bruce Richardson Date: Friday, October 17 2025 13:38:08 DPDK git baseline: Repo:dpdk Branch: master CommitID:438491733c2d8a109574449d3d6de9b25a05c07c 157807-157808 --> testing pass Upstream job id: Generic-VM-Unit-Test-DPDK#31888 Test environment and result as below: +-------------------------------+----------------+ | Environment | dpdk_unit_test | +===============================+================+ | CentOS Stream 9 | PASS | +-------------------------------+----------------+ | CentOS Stream 10 | PASS | +-------------------------------+----------------+ | Debian GNU/Linux 12 | PASS | +-------------------------------+----------------+ | Fedora Linux 40 | PASS | +-------------------------------+----------------+ | Fedora Linux 41 | PASS | +-------------------------------+----------------+ | Fedora Linux 42 | PASS | +-------------------------------+----------------+ | Red Hat Enterprise Linux 9.5 | PASS | +-------------------------------+----------------+ | Red Hat Enterprise Linux 8.10 | PASS | +-------------------------------+----------------+ | Ubuntu 20.04 | PASS | +-------------------------------+----------------+ | Ubuntu 24.04 | PASS | +-------------------------------+----------------+ | Ubuntu 22.04 | PASS | +-------------------------------+----------------+ | Windows Server 2022 | PASS | +-------------------------------+----------------+ CentOS Stream 9 Kernel: 5.15 Compiler: gcc gcc (GCC) 11.5.0 20240719 (Red Hat 11.5.0-11) CentOS Stream 10 Kernel: 5.15 Compiler: gcc gcc (GCC) 14.2.1 20250110 (Red Hat 14.2.1-8) Debian GNU/Linux 12 Kernel: 5.15 Compiler: gcc gcc (Debian 12.2.0-14+deb12u1) 12.2.0 Fedora Linux 40 Kernel: 5.15 Compiler: gcc gcc (GCC) 14.2.1 20240912 (Red Hat 14.2.1-3) Fedora Linux 41 Kernel: 5.15 Compiler: clang gcc (GCC) 14.3.1 20250523 (Red Hat 14.3.1-1) Fedora Linux 42 Kernel: 5.15 Compiler: gcc gcc (GCC) 15.2.1 20250808 (Red Hat 15.2.1-1) Red Hat Enterprise Linux 9.5 Kernel: 5.15 Compiler: gcc gcc (GCC) 11.5.0 20240719 (Red Hat 11.5.0-2) Red Hat Enterprise Linux 8.10 Kernel: 5.15 Compiler: gcc gcc (GCC) 8.5.0 20210514 (Red Hat 8.5.0-22) Ubuntu 20.04 Kernel: 5.15 Compiler: gcc gcc (Ubuntu 9.4.0-1ubuntu1~20.04.2) 9.4.0 Ubuntu 24.04 Kernel: 5.15 Compiler: gcc gcc (Ubuntu 13.3.0-6ubuntu2~24.04) 13.3.0 Ubuntu 22.04 Kernel: 5.15 Compiler: gcc gcc (Ubuntu 11.4.0-1ubuntu1~22.04) 11.4.0 Windows Server 2022 Kernel: 10.0.20348.2031 Compiler: clang 15.0.7, gcc 14.1.0 (MinGW), and MSVC VS 19.39.33521 To view detailed results, visit: https://lab.dpdk.org/results/dashboard/patchsets/34316/ UNH-IOL DPDK Community Lab To manage your email subscriptions, visit: https://lab.dpdk.org/results/dashboard/preferences/subscriptions/