From mboxrd@z Thu Jan 1 00:00:00 1970 Return-Path: Received: from mails.dpdk.org (mails.dpdk.org [217.70.189.124]) by inbox.dpdk.org (Postfix) with ESMTP id 1ADD448961 for ; Fri, 17 Oct 2025 17:32:34 +0200 (CEST) Received: from mails.dpdk.org (localhost [127.0.0.1]) by mails.dpdk.org (Postfix) with ESMTP id 14B89400D7; Fri, 17 Oct 2025 17:32:34 +0200 (CEST) Received: from mail-oo1-f100.google.com (mail-oo1-f100.google.com [209.85.161.100]) by mails.dpdk.org (Postfix) with ESMTP id D637C400D7 for ; Fri, 17 Oct 2025 17:32:32 +0200 (CEST) Received: by mail-oo1-f100.google.com with SMTP id 006d021491bc7-651c521980cso843247eaf.2 for ; Fri, 17 Oct 2025 08:32:32 -0700 (PDT) DKIM-Signature: v=1; a=rsa-sha256; c=relaxed/relaxed; d=iol.unh.edu; s=unh-iol; t=1760715152; x=1761319952; darn=dpdk.org; h=references:in-reply-to:cc:to:from:subject:message-id:date:from:to :cc:subject:date:message-id:reply-to; bh=tcst9CxW9DybPcyC3UAr13oqpUp/+41gIiBZPY6si+M=; b=MkjwJ4dmWQAqCxi2pf9jfCrLm2+gkdSFuKPPL7EJJyh00voRdsklj8tP+tXFV4PC8C tSuNuruXYS7bHHFpXQFjVPK0PwigWHK1SjUvRmo3Y3UjZz+O1lLorY2w4gPYQWp9NiZe pMIabVs+OyeAVJMea1ARr86JblLzx1zIRr/Yw= X-Google-DKIM-Signature: v=1; a=rsa-sha256; c=relaxed/relaxed; d=1e100.net; s=20230601; t=1760715152; x=1761319952; h=references:in-reply-to:cc:to:from:subject:message-id:date :x-gm-message-state:from:to:cc:subject:date:message-id:reply-to; bh=tcst9CxW9DybPcyC3UAr13oqpUp/+41gIiBZPY6si+M=; b=UsmV57NFZPAhKHaig5hBZI4tnCvUvRgHGnRcJlJw3VTwYDSsO+W/m7iDjuj0/+btyw xY6njVN7U64P+MMU3ZcrkYI+8fKCQYQ5/Sj4Lyd7nYnvTHf+q9jDK6/ZA4lMeLbDOyrR 4i4IMnlrwqBQAswrYJbkJlKg96q3+kP/Ow8nnn1D/6Y9n8OkxdojJYrFJEOAvdrsFeiS lxlKY60RzgXTY3u/MN7He+LDUjhfR8DgyKBgRNvS+iYkC2t4TuutNGgifqId1tQSdtjS JSaf7knXHFg+JgvEtHz5mCwUpv0MQnLbKo6mbfwUntRyDp+LP/WEgHOmgn8n6Q36twAO z85Q== X-Gm-Message-State: AOJu0Yw3P7GmFIix0lVeVGnGQ73KDU4iqQrp6VbcTqqsq16dFT+iaJTf NPqezMgX6u8QZ8ecSk+K0wEJfcsROnJRbxZGShFC8DsNSdOgpeQBGrS1wuAj3kLXpzU1H21bGtm HARlA5rcsFrrIlwGQU2TC9EeVB5dBUna/CdU5TuFCs8PFt9dtPriKc97TC7lZ X-Gm-Gg: ASbGnct3vhEQk66ebBVoM36SRILvHBco5yLvwbTToxM6HMjEW1tGUFOryw/hJph0XxT euvPcK+OTWe1TYOxY7OfGvvMxzOKMBq0/hn/0gPj6x+MykCHcSl2UX/YjCee/kEJ3iFGFCVo/f6 nE5FDKF3dz64013uWAfvff8GoBGUd/1CocaBeV/FnSCYA7gkwTgwIEkwpmTlniDYTIhBs8tdhCD D4D/lgqqRw3J7bVmnVMouAr41oZM4AplVmSgwqk1JsHwe9lgEugCQA6+04OruvFRcR71KzABgvP JCdC4CjGwaA25J96UzE2EpryAyibskp+7ztFZLdwSxQcv9g4rohwRvcoKMfHZdBsiR3HGLs/yUQ lvs2+4NfF X-Google-Smtp-Source: AGHT+IHMDhBqV0UEMUnAxlTtaFMVrw2jL43+a6AJyRCdhWA1d3IEjvVpS9srLHjU04dQ68yCmDkr6B4FM72G X-Received: by 2002:a05:6870:5116:b0:367:c392:9f2c with SMTP id 586e51a60fabf-3c98cf42fb6mr1812371fac.16.1760715151754; Fri, 17 Oct 2025 08:32:31 -0700 (PDT) Received: from postal.iol.unh.edu (postal.iol.unh.edu. [2606:4100:3880:1234::84]) by smtp-relay.gmail.com with ESMTPS id 8926c6da1cb9f-5a76f705edasm238716173.25.2025.10.17.08.32.31 (version=TLS1_2 cipher=ECDHE-ECDSA-AES128-GCM-SHA256 bits=128/128); Fri, 17 Oct 2025 08:32:31 -0700 (PDT) X-Relaying-Domain: iol.unh.edu Date: Fri, 17 Oct 2025 08:32:31 -0700 (PDT) Message-ID: <68f2618f.050a0220.24be3c.b9bcSMTPIN_ADDED_MISSING@mx.google.com> Received: from [172.21.0.2] (unknown [172.18.0.240]) by postal.iol.unh.edu (Postfix) with ESMTP id 5299B6050A61; Fri, 17 Oct 2025 11:32:31 -0400 (EDT) Subject: |SUCCESS| pw157759 [PATCH] [v2] net/zxdh: replace use of rte_memcpy From: dpdklab@iol.unh.edu To: Test Report Cc: dpdk-test-reports@iol.unh.edu, Stephen Hemminger In-Reply-To: <20251016152941.6592-1-stephen@networkplumber.org> References: <20251016152941.6592-1-stephen@networkplumber.org> Content-Type: text/plain X-BeenThere: test-report@dpdk.org X-Mailman-Version: 2.1.29 Precedence: list List-Id: automatic DPDK test reports List-Unsubscribe: , List-Archive: List-Post: List-Help: List-Subscribe: , Errors-To: test-report-bounces@dpdk.org Test-Label: iol-unit-arm64-testing Test-Status: SUCCESS http://dpdk.org/patch/157759 _Testing PASS_ Submitter: Stephen Hemminger Date: Thursday, October 16 2025 15:29:21 DPDK git baseline: Repo:dpdk-next-net Branch: master CommitID:791cea04798a8e2de014b99c009cd25b5929000a 157759 --> testing pass Upstream job id: Generic-Unit-Test-DPDK#382325 Test environment and result as below: +------------------------------+----------------+---------------------------+------------------------------+--------------+ | Environment | dpdk_unit_test | cryptodev_sw_zuc_autotest | cryptodev_sw_snow3g_autotest | lpm_autotest | +==============================+================+===========================+==============================+==============+ | CentOS Stream 9 | PASS | SKIPPED | SKIPPED | SKIPPED | +------------------------------+----------------+---------------------------+------------------------------+--------------+ | CentOS Stream 10 | PASS | SKIPPED | SKIPPED | SKIPPED | +------------------------------+----------------+---------------------------+------------------------------+--------------+ | Fedora Linux 40 | PASS | SKIPPED | SKIPPED | SKIPPED | +------------------------------+----------------+---------------------------+------------------------------+--------------+ | Fedora Linux 42 | PASS | SKIPPED | SKIPPED | SKIPPED | +------------------------------+----------------+---------------------------+------------------------------+--------------+ | Debian GNU/Linux 12 | PASS | SKIPPED | SKIPPED | SKIPPED | +------------------------------+----------------+---------------------------+------------------------------+--------------+ | Red Hat Enterprise Linux 9.5 | PASS | SKIPPED | SKIPPED | SKIPPED | +------------------------------+----------------+---------------------------+------------------------------+--------------+ | Fedora Linux 41 | PASS | SKIPPED | SKIPPED | SKIPPED | +------------------------------+----------------+---------------------------+------------------------------+--------------+ | Ubuntu 24.04 | PASS | SKIPPED | SKIPPED | SKIPPED | +------------------------------+----------------+---------------------------+------------------------------+--------------+ | Ubuntu 22.04 | PASS | SKIPPED | SKIPPED | SKIPPED | +------------------------------+----------------+---------------------------+------------------------------+--------------+ | Ubuntu 20.04 | PASS | SKIPPED | SKIPPED | PASS | +------------------------------+----------------+---------------------------+------------------------------+--------------+ | Debian 12 (arm) | SKIPPED | PASS | PASS | SKIPPED | +------------------------------+----------------+---------------------------+------------------------------+--------------+ CentOS Stream 9 Kernel: 5.4 Compiler: gcc gcc (GCC) 11.5.0 20240719 (Red Hat 11.5.0-11) CentOS Stream 10 Kernel: 5.4 Compiler: gcc gcc (GCC) 14.2.1 20250110 (Red Hat 14.2.1-8) Fedora Linux 40 Kernel: 5.4 Compiler: gcc gcc (GCC) 14.2.1 20240912 (Red Hat 14.2.1-3) Fedora Linux 42 Kernel: 5.4 Compiler: gcc gcc (GCC) 15.2.1 20250808 (Red Hat 15.2.1-1) Debian GNU/Linux 12 Kernel: 5.4 Compiler: gcc gcc (Debian 12.2.0-14+deb12u1) 12.2.0 Red Hat Enterprise Linux 9.5 Kernel: 5.4 Compiler: gcc gcc (GCC) 11.5.0 20240719 (Red Hat 11.5.0-2) Fedora Linux 41 Kernel: 5.4 Compiler: clang gcc (GCC) 14.3.1 20250523 (Red Hat 14.3.1-1) Ubuntu 24.04 Kernel: 5.4 Compiler: gcc gcc (Ubuntu 13.3.0-6ubuntu2~24.04) 13.3.0 Ubuntu 22.04 Kernel: 5.4 Compiler: gcc gcc (Ubuntu 11.4.0-1ubuntu1~22.04) 11.4.0 Ubuntu 20.04 Kernel: 5.4 Compiler: gcc gcc (Ubuntu 9.4.0-1ubuntu1~20.04.2) 9.4.0 Debian 12 (arm) Kernel: Depends on container host Compiler: gcc (Debian 12.2.0-14) 12.2.0 To view detailed results, visit: https://lab.dpdk.org/results/dashboard/patchsets/34302/ UNH-IOL DPDK Community Lab To manage your email subscriptions, visit: https://lab.dpdk.org/results/dashboard/preferences/subscriptions/