From mboxrd@z Thu Jan 1 00:00:00 1970 Return-Path: Received: from mails.dpdk.org (mails.dpdk.org [217.70.189.124]) by inbox.dpdk.org (Postfix) with ESMTP id C4E4348961 for ; Fri, 17 Oct 2025 17:39:24 +0200 (CEST) Received: from mails.dpdk.org (localhost [127.0.0.1]) by mails.dpdk.org (Postfix) with ESMTP id C0075400D7; Fri, 17 Oct 2025 17:39:24 +0200 (CEST) Received: from mail-pl1-f228.google.com (mail-pl1-f228.google.com [209.85.214.228]) by mails.dpdk.org (Postfix) with ESMTP id 75221400D7 for ; Fri, 17 Oct 2025 17:39:23 +0200 (CEST) Received: by mail-pl1-f228.google.com with SMTP id d9443c01a7336-290d4d421f6so9549135ad.2 for ; Fri, 17 Oct 2025 08:39:23 -0700 (PDT) DKIM-Signature: v=1; a=rsa-sha256; c=relaxed/relaxed; d=iol.unh.edu; s=unh-iol; t=1760715562; x=1761320362; darn=dpdk.org; h=references:in-reply-to:cc:to:from:subject:message-id:date:from:to :cc:subject:date:message-id:reply-to; bh=zp0R3JhtVeMfU5rwXP1czcdwE7G7HAjEzXJo/JkbYlU=; b=M+6EtEYBdUjaY+ALM3JcTA25Fcb6mz+hU5Ygwln24EKCOHKsH4oygqH5JT+dkq/uT2 5MPJT7t7cQHF2k+7kvInorhSyvQfM9lt2M37C8AKIxi2QpE4XRJUXYkegtN6ZOVtpDgc Yzc2h1SdCedmJoEEVBI4LmQdzQoSmlxGVHR2o= X-Google-DKIM-Signature: v=1; a=rsa-sha256; c=relaxed/relaxed; d=1e100.net; s=20230601; t=1760715562; x=1761320362; h=references:in-reply-to:cc:to:from:subject:message-id:date :x-gm-message-state:from:to:cc:subject:date:message-id:reply-to; bh=zp0R3JhtVeMfU5rwXP1czcdwE7G7HAjEzXJo/JkbYlU=; b=jp75HXP9k1KjwmALYeTy1OAeWPpTe3dv2ZvCUfzny89rEDFUOpZhRbgod++hbpsq8Q PIjl71DZr8u4jnVyQ+n4AfeVBa/wq2WR8e+e69h22QajvQtGDCHm9ESkQK2bfzG98stt sJESjLNu2CiTohJ2UASLZQvQGOIG9o1580ZGhDt98HHFnT1gST9JWVYQsZERwKtgAOUB BXOR3y9LwBY5ljgxTJccIJZFos1WJzI0hZOThCmG58uc2WMqMx9vYxTQ2k+b50wAyyO+ QlykX94U2qATUFX8E6MpGLCIYQSadTSGbWzjHypzI6aXdNtchFzPQuk3g6xBd2EPmjNf CR0w== X-Gm-Message-State: AOJu0YxXPgD8Njw3DgUfTWCv1MGIgVqBf3yCNqsTKNx2CeccMzBwrXvD Vp6Hozhk62rN2HLfD1Rqsf1ErN+JNmRrw9TzeLS2pZns2KsKo0pPgQhilKqtLHLOLsDnZ/RDSEW 0pLeMLISr1LI7pcJvnMO9DC6gca2i+EM/WwqrWGCJ1UUX X-Gm-Gg: ASbGncunnrRjm1dOmHvCg49XE5krsoWZ90dMt9sLQwadS1OQ8fhV6hBOmEbNpepcyc5 QLU8D33yk8lM5j3SA3O4ULuVV8g/xpeOKs3mBplg7BufqkPiOljCb7ThtvTXvS2/BD5JVnu51ca coTnxQ3PVkMKtnd4MJWjqCzaCUnydFKb8Y4GKKPCL7E9GymAjenW4d/eFYslu33dej+UmcO/xwI 2aqdO0uDXbYF+63qZnWElbr+GVGpbIBnjLs0O8+EId+EZQEYG2zsCfjm5J4SWQA9H+llZJs6ERL MsyrFW6s9jh7VBH/AyET0VU/OdyvLpms5u9xApzroSU+0nMhMPj2rmCF0tFkxQ0c6QyjI+kXSDf oXGdfsfooxJl5bzTsP0RH0tWJaHL5MvE= X-Google-Smtp-Source: AGHT+IHedeIwTCcRu7KZ2XIjFQuDCOYDqr2u0NRvPRnsk7o+KvFlwfaoRAdVch8+Z6h3KYN4HAnXXZ+XPiKG X-Received: by 2002:a17:903:32c9:b0:249:3efa:3c99 with SMTP id d9443c01a7336-290cba4e6cdmr52330085ad.61.1760715562696; Fri, 17 Oct 2025 08:39:22 -0700 (PDT) Received: from postal.iol.unh.edu (postal.iol.unh.edu. [132.177.123.84]) by smtp-relay.gmail.com with ESMTPS id d9443c01a7336-29098e89854sm7091835ad.6.2025.10.17.08.39.22 (version=TLS1_2 cipher=ECDHE-ECDSA-AES128-GCM-SHA256 bits=128/128); Fri, 17 Oct 2025 08:39:22 -0700 (PDT) X-Relaying-Domain: iol.unh.edu Date: Fri, 17 Oct 2025 08:39:22 -0700 (PDT) Message-ID: <68f2632a.170a0220.10c281.3f51SMTPIN_ADDED_MISSING@mx.google.com> Received: from [172.21.0.5] (unknown [172.18.0.240]) by postal.iol.unh.edu (Postfix) with ESMTP id 0016F6050A61; Fri, 17 Oct 2025 11:39:21 -0400 (EDT) Subject: |SUCCESS| pw157807-157808 [PATCH] [v3,2/2] mailmap: sort mailmap From: dpdklab@iol.unh.edu To: Test Report Cc: dpdk-test-reports@iol.unh.edu In-Reply-To: <20251017133812.1109638-3-bruce.richardson@intel.com> References: <20251017133812.1109638-3-bruce.richardson@intel.com> Content-Type: text/plain X-BeenThere: test-report@dpdk.org X-Mailman-Version: 2.1.29 Precedence: list List-Id: automatic DPDK test reports List-Unsubscribe: , List-Archive: List-Post: List-Help: List-Subscribe: , Errors-To: test-report-bounces@dpdk.org Test-Label: iol-unit-amd64-testing Test-Status: SUCCESS http://dpdk.org/patch/157808 _Testing PASS_ Submitter: Bruce Richardson Date: Friday, October 17 2025 13:38:08 DPDK git baseline: Repo:dpdk Branch: master CommitID:438491733c2d8a109574449d3d6de9b25a05c07c 157807-157808 --> testing pass Upstream job id: Generic-VM-Unit-Test-DPDK#31889 Test environment and result as below: +-------------------------------+----------------+ | Environment | dpdk_unit_test | +===============================+================+ | CentOS Stream 9 | PASS | +-------------------------------+----------------+ | CentOS Stream 10 | PASS | +-------------------------------+----------------+ | Debian GNU/Linux 12 | PASS | +-------------------------------+----------------+ | Fedora Linux 40 | PASS | +-------------------------------+----------------+ | Fedora Linux 41 | PASS | +-------------------------------+----------------+ | Fedora Linux 42 | PASS | +-------------------------------+----------------+ | Red Hat Enterprise Linux 9.5 | PASS | +-------------------------------+----------------+ | Red Hat Enterprise Linux 8.10 | PASS | +-------------------------------+----------------+ | Ubuntu 20.04 | PASS | +-------------------------------+----------------+ | Ubuntu 24.04 | PASS | +-------------------------------+----------------+ | Ubuntu 22.04 | PASS | +-------------------------------+----------------+ | Windows Server 2022 | PASS | +-------------------------------+----------------+ CentOS Stream 9 Kernel: 5.15 Compiler: gcc gcc (GCC) 11.5.0 20240719 (Red Hat 11.5.0-11) CentOS Stream 10 Kernel: 5.15 Compiler: gcc gcc (GCC) 14.2.1 20250110 (Red Hat 14.2.1-8) Debian GNU/Linux 12 Kernel: 5.15 Compiler: gcc gcc (Debian 12.2.0-14+deb12u1) 12.2.0 Fedora Linux 40 Kernel: 5.15 Compiler: gcc gcc (GCC) 14.2.1 20240912 (Red Hat 14.2.1-3) Fedora Linux 41 Kernel: 5.15 Compiler: clang gcc (GCC) 14.3.1 20250523 (Red Hat 14.3.1-1) Fedora Linux 42 Kernel: 5.15 Compiler: gcc gcc (GCC) 15.2.1 20250808 (Red Hat 15.2.1-1) Red Hat Enterprise Linux 9.5 Kernel: 5.15 Compiler: gcc gcc (GCC) 11.5.0 20240719 (Red Hat 11.5.0-2) Red Hat Enterprise Linux 8.10 Kernel: 5.15 Compiler: gcc gcc (GCC) 8.5.0 20210514 (Red Hat 8.5.0-22) Ubuntu 20.04 Kernel: 5.15 Compiler: gcc gcc (Ubuntu 9.4.0-1ubuntu1~20.04.2) 9.4.0 Ubuntu 24.04 Kernel: 5.15 Compiler: gcc gcc (Ubuntu 13.3.0-6ubuntu2~24.04) 13.3.0 Ubuntu 22.04 Kernel: 5.15 Compiler: gcc gcc (Ubuntu 11.4.0-1ubuntu1~22.04) 11.4.0 Windows Server 2022 Kernel: 10.0.20348.2031 Compiler: clang 15.0.7, gcc 14.1.0 (MinGW), and MSVC VS 19.39.33521 To view detailed results, visit: https://lab.dpdk.org/results/dashboard/patchsets/34316/ UNH-IOL DPDK Community Lab To manage your email subscriptions, visit: https://lab.dpdk.org/results/dashboard/preferences/subscriptions/